Workbook
Name abssum: #REF!
Name RallyAddresses01_01_08: 'Competitor Address List'!$C$5:$M$6

Sheet User Instructions
A1: SCCA National Rally Championship Results Reporting Workbook
A3: Intent:
B4: - Standardize and simplify rally results reporting and competitor information capture (for SCCA Weekand/Trial Membership accounting, points keeping, rally promotional purposes, etc.).
B5: - Intended to be usable by anyone with a rudimaentary knowledge of Excel or Google Sheets.
A8: Overview:
B9: - 5 "tabs", each with a specific purpose.
B10: Competitor Address List: Core database on which the rest of the workbook relies for information.
B11: Entry List: Automatically generated Entry List. Can be easily distributed as pdf.
B12: SCCA Official Results: Main results and organizer reporting document.
B13: Leg by Leg Scores (Optional): Optional score grid. May be overwritten if scores are received in another format. Note: while the use of this sheet is optional the RoadRally Rules Article 18 section I requires the results to include Leg by Leg scores to be considered official.
B14: SCCA Waiver Printing Template: Simplifies pre-event preparation of paper waivers.
B16: - Once Competitor Address List information is filled in, most cells in other tabs are populated automatically by lookup functions keyed to car numbers.
A19: Setup:
B20: - Essential competitor information (names, addresses, SCCA Membership # nad Region affiliation, email adresses, etc) can be imported directly from MSR (or other registration system) to Competitor Address List tab.
B21: HINT: Use "Paste values" function to insert text from MSR (or other) registration system.
B22: - Rally-specific information (name, date, organizing Region, Sanction #, etc) must be filled in at the top of the SCCA Official Results tab.
B23: - The Competitor Address List sheet includes 9 columns that may be used for any rally specific or custom information you need to record.
A26: Submission
B27: - When it is time to report the results to the SCCA the cleanest way is to email this entire workbook to the National rally pointskeeper (smuncher@windstream.net), SCCA Rally Department (sanction@scca.com), SCCA Road Rally Board (rrb@scca.com), SCCA Membership Department (membership@scca.com), and SCCA National Events Committee (nec#scca.com).
B28: - To send the results to the participants it is suggested that you export the SCCA Official Results sheet and the Leg by Leg Scores as pdf files. If using Excel with the Official Results sheet selected, click File, Export, Create PDF/XPS, select the desired directory and file name, click the Publish button.

Sheet Competitor Address List
D1: Rally competitor address list (fill out with information from entry forms or online registration system):
D2: - Information in light blue shaded columns is essential for series pointskeeping and promotional purposes. | Y2: E
D3: - Information in unshaded columns is essential for SCCA Weekend/Trial membership reporting purposes. It is optional for current SCCA full members. | O3: These colums are unlocked, and may be used as desired. The column headings may be changed to suit your needs. | Y3: G
C4: Event: | D4: ='SCCA Official Results'!H6 -> XYZ Rally | F4: ='SCCA Official Results'!H7 -> 44835 | I4: Organizing Region: | J4: ='SCCA Official Results'!H8 -> ABC (#) | Y4: L
A5: Car # | B5: Class | C5: First | D5: Last | E5: Address | F5: City | G5: ST | H5: Zip | I5: Member # | J5: Region | K5: Vehicle | L5: Phone | M5: e-mail | N5: Date of Birth | O5: $$ Due | P5: Event email List | Q5: Generals Sent | R5: Minor Waiver? | S5: Valid Annual Waiver | T5: Waiver Signed | U5: Valid Annual Waiver | V5: Richta Information | W5: User Defined 9 | X5: # | Y5: S
A6: 1 | B6: E | C6: D1First | D6: D1Last | E6: D1 Street | F6: D1City | G6: D1 | H6: D1Zip | I6: 11111 | J6: D1Reg | K6: V1 Year/Make/Model | L6: 11111111 | M6: =A6 -> 1 | N6: 36892 | X6: =A6 -> 1 | Y6: N
A7: 1.5 | C7: N1First | D7: N1Last | E7: N1 Street | F7: N1City | G7: N1 | H7: N1Zip | I7: 151515 | J7: N1Reg | L7: =A7 -> 1.5 | M7: =A7 -> 1.5 | N7: 36519 | X7: =A6 -> 1 | Y7: GTA
A8: 2 | B8: G | C8: =A8 -> 2 | D8: =A8 -> 2 | E8: - | F8: =A8 -> 2 | G8: =A8 -> 2 | I8: =A8 -> 2 | J8: =A8 -> 2 | K8: =A8 -> 2 | L8: =A8 -> 2 | M8: =A8 -> 2 | X8: =A8 -> 2
A9: 2.5 | C9: =A9 -> 2.5 | D9: =A9 -> 2.5 | E9: - | F9: =A9 -> 2.5 | G9: =A9 -> 2.5 | I9: =A9 -> 2.5 | J9: =A9 -> 2.5 | L9: =A9 -> 2.5 | M9: =A9 -> 2.5 | X9: =A8 -> 2
A10: 3 | B10: L | C10: =A10 -> 3 | D10: =A10 -> 3 | E10: - | F10: =A10 -> 3 | G10: =A10 -> 3 | I10: =A10 -> 3 | J10: =A10 -> 3 | K10: =A10 -> 3 | L10: =A10 -> 3 | M10: =A10 -> 3 | X10: =A10 -> 3
A11: 3.5 | C11: =A11 -> 3.5 | D11: =A11 -> 3.5 | E11: - | F11: =A11 -> 3.5 | G11: =A11 -> 3.5 | I11: =A11 -> 3.5 | J11: =A11 -> 3.5 | L11: =A11 -> 3.5 | M11: =A11 -> 3.5 | X11: =A10 -> 3
A12: 4 | B12: S | C12: =A12 -> 4 | D12: =A12 -> 4 | E12: - | F12: =A12 -> 4 | G12: =A12 -> 4 | I12: =A12 -> 4 | J12: =A12 -> 4 | K12: =A12 -> 4 | L12: =A12 -> 4 | M12: =A12 -> 4 | X12: =A12 -> 4
A13: 4.5 | C13: =A13 -> 4.5 | D13: =A13 -> 4.5 | E13: - | F13: =A13 -> 4.5 | G13: =A13 -> 4.5 | I13: =A13 -> 4.5 | J13: =A13 -> 4.5 | L13: =A13 -> 4.5 | M13: =A13 -> 4.5 | X13: =A12 -> 4
A14: 5 | B14: N | C14: =A14 -> 5 | D14: =A14 -> 5 | E14: - | F14: =A14 -> 5 | G14: =A14 -> 5 | I14: =A14 -> 5 | J14: =A14 -> 5 | K14: =A14 -> 5 | L14: =A14 -> 5 | M14: =A14 -> 5 | X14: =A14 -> 5
A15: 5.5 | C15: =A15 -> 5.5 | D15: =A15 -> 5.5 | E15: - | F15: =A15 -> 5.5 | G15: =A15 -> 5.5 | I15: =A15 -> 5.5 | J15: =A15 -> 5.5 | L15: =A15 -> 5.5 | M15: =A15 -> 5.5 | X15: =A14 -> 5
A16: 6 | B16: GTA | C16: =A16 -> 6 | D16: =A16 -> 6 | E16: - | F16: =A16 -> 6 | G16: =A16 -> 6 | I16: =A16 -> 6 | J16: =A16 -> 6 | K16: =A16 -> 6 | L16: =A16 -> 6 | M16: =A16 -> 6 | X16: =A16 -> 6
A17: 6.5 | C17: =A17 -> 6.5 | D17: =A17 -> 6.5 | E17: - | F17: =A17 -> 6.5 | G17: =A17 -> 6.5 | I17: =A17 -> 6.5 | J17: =A17 -> 6.5 | L17: =A17 -> 6.5 | M17: =A17 -> 6.5 | X17: =A16 -> 6
A18: 7 | B18: GTA | C18: =A18 -> 7 | D18: =A18 -> 7 | E18: - | F18: =A18 -> 7 | G18: =A18 -> 7 | I18: =A18 -> 7 | J18: =A18 -> 7 | K18: =A18 -> 7 | L18: =A18 -> 7 | M18: =A18 -> 7 | X18: =A18 -> 7
A19: 7.5 | C19: =A19 -> 7.5 | D19: =A19 -> 7.5 | E19: - | F19: =A19 -> 7.5 | G19: =A19 -> 7.5 | I19: =A19 -> 7.5 | J19: =A19 -> 7.5 | L19: =A19 -> 7.5 | M19: =A19 -> 7.5 | X19: =A18 -> 7
A20: 8 | B20: GTA | C20: =A20 -> 8 | D20: =A20 -> 8 | E20: - | F20: =A20 -> 8 | G20: =A20 -> 8 | I20: =A20 -> 8 | J20: =A20 -> 8 | K20: =A20 -> 8 | L20: =A20 -> 8 | M20: =A20 -> 8 | X20: =A20 -> 8
A21: 8.5 | C21: =A21 -> 8.5 | D21: =A21 -> 8.5 | E21: - | F21: =A21 -> 8.5 | G21: =A21 -> 8.5 | I21: =A21 -> 8.5 | J21: =A21 -> 8.5 | L21: =A21 -> 8.5 | M21: =A21 -> 8.5 | X21: =A20 -> 8
A22: 9 | B22: GTA | C22: =A22 -> 9 | D22: =A22 -> 9 | E22: - | F22: =A22 -> 9 | G22: =A22 -> 9 | I22: =A22 -> 9 | J22: =A22 -> 9 | K22: =A22 -> 9 | L22: =A22 -> 9 | M22: =A22 -> 9 | X22: =A22 -> 9
A23: 9.5 | C23: =A23 -> 9.5 | D23: =A23 -> 9.5 | E23: - | F23: =A23 -> 9.5 | G23: =A23 -> 9.5 | I23: =A23 -> 9.5 | J23: =A23 -> 9.5 | L23: =A23 -> 9.5 | M23: =A23 -> 9.5 | X23: =A22 -> 9
A24: 10 | B24: GTA | C24: =A24 -> 10 | D24: =A24 -> 10 | E24: - | F24: =A24 -> 10 | G24: =A24 -> 10 | I24: =A24 -> 10 | J24: =A24 -> 10 | K24: =A24 -> 10 | L24: =A24 -> 10 | M24: =A24 -> 10 | X24: =A24 -> 10
A25: 10.5 | C25: =A25 -> 10.5 | D25: =A25 -> 10.5 | E25: - | F25: =A25 -> 10.5 | G25: =A25 -> 10.5 | I25: =A25 -> 10.5 | J25: =A25 -> 10.5 | L25: =A25 -> 10.5 | M25: =A25 -> 10.5 | X25: =A24 -> 10
A26: 11 | B26: GTA | C26: =A26 -> 11 | D26: =A26 -> 11 | E26: - | F26: =A26 -> 11 | G26: =A26 -> 11 | I26: =A26 -> 11 | J26: =A26 -> 11 | K26: =A26 -> 11 | L26: =A26 -> 11 | M26: =A26 -> 11 | X26: =A26 -> 11
A27: 11.5 | C27: =A27 -> 11.5 | D27: =A27 -> 11.5 | E27: - | F27: =A27 -> 11.5 | G27: =A27 -> 11.5 | I27: =A27 -> 11.5 | J27: =A27 -> 11.5 | L27: =A27 -> 11.5 | M27: =A27 -> 11.5 | X27: =A26 -> 11
A28: 12 | B28: GTA | C28: =A28 -> 12 | D28: =A28 -> 12 | E28: - | F28: =A28 -> 12 | G28: =A28 -> 12 | I28: =A28 -> 12 | J28: =A28 -> 12 | K28: =A28 -> 12 | L28: =A28 -> 12 | M28: =A28 -> 12 | X28: =A28 -> 12
A29: 12.5 | C29: =A29 -> 12.5 | D29: =A29 -> 12.5 | E29: - | F29: =A29 -> 12.5 | G29: =A29 -> 12.5 | I29: =A29 -> 12.5 | J29: =A29 -> 12.5 | L29: =A29 -> 12.5 | M29: =A29 -> 12.5 | X29: =A28 -> 12
A30: 13 | B30: GTA | C30: =A30 -> 13 | D30: =A30 -> 13 | E30: - | F30: =A30 -> 13 | G30: =A30 -> 13 | I30: =A30 -> 13 | J30: =A30 -> 13 | K30: =A30 -> 13 | L30: =A30 -> 13 | M30: =A30 -> 13 | X30: =A30 -> 13
A31: 13.5 | C31: =A31 -> 13.5 | D31: =A31 -> 13.5 | E31: - | F31: =A31 -> 13.5 | G31: =A31 -> 13.5 | I31: =A31 -> 13.5 | J31: =A31 -> 13.5 | L31: =A31 -> 13.5 | M31: =A31 -> 13.5 | X31: =A30 -> 13
A32: 14 | B32: GTA | C32: =A32 -> 14 | D32: =A32 -> 14 | E32: - | F32: =A32 -> 14 | G32: =A32 -> 14 | I32: =A32 -> 14 | J32: =A32 -> 14 | K32: =A32 -> 14 | L32: =A32 -> 14 | M32: =A32 -> 14 | X32: =A32 -> 14
A33: 14.5 | C33: =A33 -> 14.5 | D33: =A33 -> 14.5 | E33: - | F33: =A33 -> 14.5 | G33: =A33 -> 14.5 | I33: =A33 -> 14.5 | J33: =A33 -> 14.5 | L33: =A33 -> 14.5 | M33: =A33 -> 14.5 | X33: =A32 -> 14
A34: 15 | B34: GTA | C34: =A34 -> 15 | D34: =A34 -> 15 | E34: - | F34: =A34 -> 15 | G34: =A34 -> 15 | I34: =A34 -> 15 | J34: =A34 -> 15 | K34: =A34 -> 15 | L34: =A34 -> 15 | M34: =A34 -> 15 | X34: =A34 -> 15
A35: 15.5 | C35: =A35 -> 15.5 | D35: =A35 -> 15.5 | E35: - | F35: =A35 -> 15.5 | G35: =A35 -> 15.5 | I35: =A35 -> 15.5 | J35: =A35 -> 15.5 | L35: =A35 -> 15.5 | M35: =A35 -> 15.5 | X35: =A34 -> 15
A36: 16 | B36: GTA | C36: =A36 -> 16 | D36: =A36 -> 16 | E36: - | F36: =A36 -> 16 | G36: =A36 -> 16 | I36: =A36 -> 16 | J36: =A36 -> 16 | K36: =A36 -> 16 | L36: =A36 -> 16 | M36: =A36 -> 16 | X36: =A36 -> 16
A37: 16.5 | C37: =A37 -> 16.5 | D37: =A37 -> 16.5 | E37: - | F37: =A37 -> 16.5 | G37: =A37 -> 16.5 | I37: =A37 -> 16.5 | J37: =A37 -> 16.5 | L37: =A37 -> 16.5 | M37: =A37 -> 16.5 | X37: =A36 -> 16
A38: 17 | B38: GTA | C38: =A38 -> 17 | D38: =A38 -> 17 | E38: - | F38: =A38 -> 17 | G38: =A38 -> 17 | I38: =A38 -> 17 | J38: =A38 -> 17 | K38: =A38 -> 17 | L38: =A38 -> 17 | M38: =A38 -> 17 | X38: =A38 -> 17
A39: 17.5 | C39: =A39 -> 17.5 | D39: =A39 -> 17.5 | E39: - | F39: =A39 -> 17.5 | G39: =A39 -> 17.5 | I39: =A39 -> 17.5 | J39: =A39 -> 17.5 | L39: =A39 -> 17.5 | M39: =A39 -> 17.5 | X39: =A38 -> 17
A40: 18 | B40: GTA | C40: =A40 -> 18 | D40: =A40 -> 18 | E40: - | F40: =A40 -> 18 | G40: =A40 -> 18 | I40: =A40 -> 18 | J40: =A40 -> 18 | K40: =A40 -> 18 | L40: =A40 -> 18 | M40: =A40 -> 18 | X40: =A40 -> 18
A41: 18.5 | C41: =A41 -> 18.5 | D41: =A41 -> 18.5 | E41: - | F41: =A41 -> 18.5 | G41: =A41 -> 18.5 | I41: =A41 -> 18.5 | J41: =A41 -> 18.5 | L41: =A41 -> 18.5 | M41: =A41 -> 18.5 | X41: =A40 -> 18
A42: 19 | B42: GTA | C42: =A42 -> 19 | D42: =A42 -> 19 | E42: - | F42: =A42 -> 19 | G42: =A42 -> 19 | I42: =A42 -> 19 | J42: =A42 -> 19 | K42: =A42 -> 19 | L42: =A42 -> 19 | M42: =A42 -> 19 | X42: =A42 -> 19
A43: 19.5 | C43: =A43 -> 19.5 | D43: =A43 -> 19.5 | E43: - | F43: =A43 -> 19.5 | G43: =A43 -> 19.5 | I43: =A43 -> 19.5 | J43: =A43 -> 19.5 | L43: =A43 -> 19.5 | M43: =A43 -> 19.5 | X43: =A42 -> 19
A44: 20 | B44: GTA | C44: =A44 -> 20 | D44: =A44 -> 20 | E44: - | F44: =A44 -> 20 | G44: =A44 -> 20 | I44: =A44 -> 20 | J44: =A44 -> 20 | K44: =A44 -> 20 | L44: =A44 -> 20 | M44: =A44 -> 20 | X44: =A44 -> 20
A45: 20.5 | C45: =A45 -> 20.5 | D45: =A45 -> 20.5 | E45: - | F45: =A45 -> 20.5 | G45: =A45 -> 20.5 | I45: =A45 -> 20.5 | J45: =A45 -> 20.5 | L45: =A45 -> 20.5 | M45: =A45 -> 20.5 | X45: =A44 -> 20
A46: 21 | B46: GTA | C46: =A46 -> 21 | D46: =A46 -> 21 | E46: - | F46: =A46 -> 21 | G46: =A46 -> 21 | I46: =A46 -> 21 | J46: =A46 -> 21 | K46: =A46 -> 21 | L46: =A46 -> 21 | M46: =A46 -> 21 | X46: =A46 -> 21
A47: 21.5 | C47: =A47 -> 21.5 | D47: =A47 -> 21.5 | E47: - | F47: =A47 -> 21.5 | G47: =A47 -> 21.5 | I47: =A47 -> 21.5 | J47: =A47 -> 21.5 | L47: =A47 -> 21.5 | M47: =A47 -> 21.5 | X47: =A46 -> 21
A48: 22 | B48: GTA | C48: =A48 -> 22 | D48: =A48 -> 22 | E48: - | F48: =A48 -> 22 | G48: =A48 -> 22 | I48: =A48 -> 22 | J48: =A48 -> 22 | K48: =A48 -> 22 | L48: =A48 -> 22 | M48: =A48 -> 22 | X48: =A48 -> 22
A49: 22.5 | C49: =A49 -> 22.5 | D49: =A49 -> 22.5 | E49: - | F49: =A49 -> 22.5 | G49: =A49 -> 22.5 | I49: =A49 -> 22.5 | J49: =A49 -> 22.5 | L49: =A49 -> 22.5 | M49: =A49 -> 22.5 | X49: =A48 -> 22
A50: 23 | B50: GTA | C50: =A50 -> 23 | D50: =A50 -> 23 | E50: - | F50: =A50 -> 23 | G50: =A50 -> 23 | I50: =A50 -> 23 | J50: =A50 -> 23 | K50: =A50 -> 23 | L50: =A50 -> 23 | M50: =A50 -> 23 | X50: =A50 -> 23
A51: 23.5 | C51: =A51 -> 23.5 | D51: =A51 -> 23.5 | E51: - | F51: =A51 -> 23.5 | G51: =A51 -> 23.5 | I51: =A51 -> 23.5 | J51: =A51 -> 23.5 | L51: =A51 -> 23.5 | M51: =A51 -> 23.5 | X51: =A50 -> 23
A52: 24 | B52: GTA | C52: =A52 -> 24 | D52: =A52 -> 24 | E52: - | F52: =A52 -> 24 | G52: =A52 -> 24 | I52: =A52 -> 24 | J52: =A52 -> 24 | K52: =A52 -> 24 | L52: =A52 -> 24 | M52: =A52 -> 24 | X52: =A52 -> 24
A53: 24.5 | C53: =A53 -> 24.5 | D53: =A53 -> 24.5 | E53: - | F53: =A53 -> 24.5 | G53: =A53 -> 24.5 | I53: =A53 -> 24.5 | J53: =A53 -> 24.5 | L53: =A53 -> 24.5 | M53: =A53 -> 24.5 | X53: =A52 -> 24
A54: 25 | B54: GTA | C54: =A54 -> 25 | D54: =A54 -> 25 | E54: - | F54: =A54 -> 25 | G54: =A54 -> 25 | I54: =A54 -> 25 | J54: =A54 -> 25 | K54: =A54 -> 25 | L54: =A54 -> 25 | M54: =A54 -> 25 | X54: =A54 -> 25
A55: 25.5 | C55: =A55 -> 25.5 | D55: =A55 -> 25.5 | E55: - | F55: =A55 -> 25.5 | G55: =A55 -> 25.5 | I55: =A55 -> 25.5 | J55: =A55 -> 25.5 | L55: =A55 -> 25.5 | M55: =A55 -> 25.5 | X55: =A54 -> 25
A56: 26 | B56: GTA | C56: =A56 -> 26 | D56: =A56 -> 26 | E56: - | F56: =A56 -> 26 | G56: =A56 -> 26 | I56: =A56 -> 26 | J56: =A56 -> 26 | K56: =A56 -> 26 | L56: =A56 -> 26 | M56: =A56 -> 26 | X56: =A56 -> 26
A57: 26.5 | C57: =A57 -> 26.5 | D57: =A57 -> 26.5 | E57: - | F57: =A57 -> 26.5 | G57: =A57 -> 26.5 | I57: =A57 -> 26.5 | J57: =A57 -> 26.5 | L57: =A57 -> 26.5 | M57: =A57 -> 26.5 | X57: =A56 -> 26
A58: 27 | B58: GTA | C58: =A58 -> 27 | D58: =A58 -> 27 | E58: - | F58: =A58 -> 27 | G58: =A58 -> 27 | I58: =A58 -> 27 | J58: =A58 -> 27 | K58: =A58 -> 27 | L58: =A58 -> 27 | M58: =A58 -> 27 | X58: =A58 -> 27
A59: 27.5 | C59: =A59 -> 27.5 | D59: =A59 -> 27.5 | E59: - | F59: =A59 -> 27.5 | G59: =A59 -> 27.5 | I59: =A59 -> 27.5 | J59: =A59 -> 27.5 | L59: =A59 -> 27.5 | M59: =A59 -> 27.5 | X59: =A58 -> 27
A60: 28 | B60: GTA | C60: =A60 -> 28 | D60: =A60 -> 28 | E60: - | F60: =A60 -> 28 | G60: =A60 -> 28 | I60: =A60 -> 28 | J60: =A60 -> 28 | K60: =A60 -> 28 | L60: =A60 -> 28 | M60: =A60 -> 28 | X60: =A60 -> 28
A61: 28.5 | C61: =A61 -> 28.5 | D61: =A61 -> 28.5 | E61: - | F61: =A61 -> 28.5 | G61: =A61 -> 28.5 | I61: =A61 -> 28.5 | J61: =A61 -> 28.5 | L61: =A61 -> 28.5 | M61: =A61 -> 28.5 | X61: =A60 -> 28
A62: 29 | B62: GTA | C62: =A62 -> 29 | D62: =A62 -> 29 | E62: - | F62: =A62 -> 29 | G62: =A62 -> 29 | I62: =A62 -> 29 | J62: =A62 -> 29 | K62: =A62 -> 29 | L62: =A62 -> 29 | M62: =A62 -> 29 | X62: =A62 -> 29
A63: 29.5 | C63: =A63 -> 29.5 | D63: =A63 -> 29.5 | E63: - | F63: =A63 -> 29.5 | G63: =A63 -> 29.5 | I63: =A63 -> 29.5 | J63: =A63 -> 29.5 | L63: =A63 -> 29.5 | M63: =A63 -> 29.5 | X63: =A62 -> 29
A64: 30 | B64: GTA | C64: =A64 -> 30 | D64: =A64 -> 30 | E64: - | F64: =A64 -> 30 | G64: =A64 -> 30 | I64: =A64 -> 30 | J64: =A64 -> 30 | K64: =A64 -> 30 | L64: =A64 -> 30 | M64: =A64 -> 30 | X64: =A64 -> 30
A65: 30.5 | C65: =A65 -> 30.5 | D65: =A65 -> 30.5 | E65: - | F65: =A65 -> 30.5 | G65: =A65 -> 30.5 | I65: =A65 -> 30.5 | J65: =A65 -> 30.5 | L65: =A65 -> 30.5 | M65: =A65 -> 30.5 | X65: =A64 -> 30
A66: 31 | B66: GTA | C66: =A66 -> 31 | D66: =A66 -> 31 | E66: - | F66: =A66 -> 31 | G66: =A66 -> 31 | I66: =A66 -> 31 | J66: =A66 -> 31 | K66: =A66 -> 31 | L66: =A66 -> 31 | M66: =A66 -> 31 | X66: =A66 -> 31
A67: 31.5 | C67: =A67 -> 31.5 | D67: =A67 -> 31.5 | E67: - | F67: =A67 -> 31.5 | G67: =A67 -> 31.5 | I67: =A67 -> 31.5 | J67: =A67 -> 31.5 | L67: =A67 -> 31.5 | M67: =A67 -> 31.5 | X67: =A66 -> 31
A68: 32 | B68: GTA | C68: =A68 -> 32 | D68: =A68 -> 32 | E68: - | F68: =A68 -> 32 | G68: =A68 -> 32 | I68: =A68 -> 32 | J68: =A68 -> 32 | K68: =A68 -> 32 | L68: =A68 -> 32 | M68: =A68 -> 32 | X68: =A68 -> 32
A69: 32.5 | C69: =A69 -> 32.5 | D69: =A69 -> 32.5 | E69: - | F69: =A69 -> 32.5 | G69: =A69 -> 32.5 | I69: =A69 -> 32.5 | J69: =A69 -> 32.5 | L69: =A69 -> 32.5 | M69: =A69 -> 32.5 | X69: =A68 -> 32
A70: 33 | B70: GTA | C70: =A70 -> 33 | D70: =A70 -> 33 | E70: - | F70: =A70 -> 33 | G70: =A70 -> 33 | I70: =A70 -> 33 | J70: =A70 -> 33 | K70: =A70 -> 33 | L70: =A70 -> 33 | M70: =A70 -> 33 | X70: =A70 -> 33
A71: 33.5 | C71: =A71 -> 33.5 | D71: =A71 -> 33.5 | E71: - | F71: =A71 -> 33.5 | G71: =A71 -> 33.5 | I71: =A71 -> 33.5 | J71: =A71 -> 33.5 | L71: =A71 -> 33.5 | M71: =A71 -> 33.5 | X71: =A70 -> 33
A72: 34 | B72: GTA | C72: =A72 -> 34 | D72: =A72 -> 34 | E72: - | F72: =A72 -> 34 | G72: =A72 -> 34 | I72: =A72 -> 34 | J72: =A72 -> 34 | K72: =A72 -> 34 | L72: =A72 -> 34 | M72: =A72 -> 34 | X72: =A72 -> 34
A73: 34.5 | C73: =A73 -> 34.5 | D73: =A73 -> 34.5 | E73: - | F73: =A73 -> 34.5 | G73: =A73 -> 34.5 | I73: =A73 -> 34.5 | J73: =A73 -> 34.5 | L73: =A73 -> 34.5 | M73: =A73 -> 34.5 | X73: =A72 -> 34
A74: 35 | B74: GTA | C74: =A74 -> 35 | D74: =A74 -> 35 | E74: - | F74: =A74 -> 35 | G74: =A74 -> 35 | I74: =A74 -> 35 | J74: =A74 -> 35 | K74: =A74 -> 35 | L74: =A74 -> 35 | M74: =A74 -> 35 | X74: =A74 -> 35
A75: 35.5 | C75: =A75 -> 35.5 | D75: =A75 -> 35.5 | E75: - | F75: =A75 -> 35.5 | G75: =A75 -> 35.5 | I75: =A75 -> 35.5 | J75: =A75 -> 35.5 | L75: =A75 -> 35.5 | M75: =A75 -> 35.5 | X75: =A74 -> 35
A76: 36 | B76: GTA | C76: =A76 -> 36 | D76: =A76 -> 36 | E76: - | F76: =A76 -> 36 | G76: =A76 -> 36 | I76: =A76 -> 36 | J76: =A76 -> 36 | K76: =A76 -> 36 | L76: =A76 -> 36 | M76: =A76 -> 36 | X76: =A76 -> 36
A77: 36.5 | C77: =A77 -> 36.5 | D77: =A77 -> 36.5 | E77: - | F77: =A77 -> 36.5 | G77: =A77 -> 36.5 | I77: =A77 -> 36.5 | J77: =A77 -> 36.5 | L77: =A77 -> 36.5 | M77: =A77 -> 36.5 | X77: =A76 -> 36
A78: 37 | B78: GTA | C78: =A78 -> 37 | D78: =A78 -> 37 | E78: - | F78: =A78 -> 37 | G78: =A78 -> 37 | I78: =A78 -> 37 | J78: =A78 -> 37 | K78: =A78 -> 37 | L78: =A78 -> 37 | M78: =A78 -> 37 | X78: =A78 -> 37
A79: 37.5 | C79: =A79 -> 37.5 | D79: =A79 -> 37.5 | E79: - | F79: =A79 -> 37.5 | G79: =A79 -> 37.5 | I79: =A79 -> 37.5 | J79: =A79 -> 37.5 | L79: =A79 -> 37.5 | M79: =A79 -> 37.5 | X79: =A78 -> 37
A80: 38 | B80: GTA | C80: =A80 -> 38 | D80: =A80 -> 38 | E80: - | F80: =A80 -> 38 | G80: =A80 -> 38 | I80: =A80 -> 38 | J80: =A80 -> 38 | K80: =A80 -> 38 | L80: =A80 -> 38 | M80: =A80 -> 38 | X80: =A80 -> 38
A81: 38.5 | C81: =A81 -> 38.5 | D81: =A81 -> 38.5 | E81: - | F81: =A81 -> 38.5 | G81: =A81 -> 38.5 | I81: =A81 -> 38.5 | J81: =A81 -> 38.5 | L81: =A81 -> 38.5 | M81: =A81 -> 38.5 | X81: =A80 -> 38
A82: 39 | B82: GTA | C82: =A82 -> 39 | D82: =A82 -> 39 | E82: - | F82: =A82 -> 39 | G82: =A82 -> 39 | I82: =A82 -> 39 | J82: =A82 -> 39 | K82: =A82 -> 39 | L82: =A82 -> 39 | M82: =A82 -> 39 | X82: =A82 -> 39
A83: 39.5 | C83: =A83 -> 39.5 | D83: =A83 -> 39.5 | E83: - | F83: =A83 -> 39.5 | G83: =A83 -> 39.5 | I83: =A83 -> 39.5 | J83: =A83 -> 39.5 | L83: =A83 -> 39.5 | M83: =A83 -> 39.5 | X83: =A82 -> 39
A84: 40 | B84: GTA | C84: =A84 -> 40 | D84: =A84 -> 40 | E84: - | F84: =A84 -> 40 | G84: =A84 -> 40 | I84: =A84 -> 40 | J84: =A84 -> 40 | K84: =A84 -> 40 | L84: =A84 -> 40 | M84: =A84 -> 40 | X84: =A84 -> 40
A85: 40.5 | C85: =A85 -> 40.5 | D85: =A85 -> 40.5 | E85: - | F85: =A85 -> 40.5 | G85: =A85 -> 40.5 | I85: =A85 -> 40.5 | J85: =A85 -> 40.5 | L85: =A85 -> 40.5 | M85: =A85 -> 40.5 | X85: =A84 -> 40
A86: 41 | B86: GTA | C86: =A86 -> 41 | D86: =A86 -> 41 | E86: - | F86: =A86 -> 41 | G86: =A86 -> 41 | I86: =A86 -> 41 | J86: =A86 -> 41 | K86: =A86 -> 41 | L86: =A86 -> 41 | M86: =A86 -> 41 | X86: =A86 -> 41
A87: 41.5 | C87: =A87 -> 41.5 | D87: =A87 -> 41.5 | E87: - | F87: =A87 -> 41.5 | G87: =A87 -> 41.5 | I87: =A87 -> 41.5 | J87: =A87 -> 41.5 | L87: =A87 -> 41.5 | M87: =A87 -> 41.5 | X87: =A86 -> 41
A88: 42 | B88: GTA | C88: =A88 -> 42 | D88: =A88 -> 42 | E88: - | F88: =A88 -> 42 | G88: =A88 -> 42 | I88: =A88 -> 42 | J88: =A88 -> 42 | K88: =A88 -> 42 | L88: =A88 -> 42 | M88: =A88 -> 42 | X88: =A88 -> 42
A89: 42.5 | C89: =A89 -> 42.5 | D89: =A89 -> 42.5 | E89: - | F89: =A89 -> 42.5 | G89: =A89 -> 42.5 | I89: =A89 -> 42.5 | J89: =A89 -> 42.5 | L89: =A89 -> 42.5 | M89: =A89 -> 42.5 | X89: =A88 -> 42
A90: 43 | B90: GTA | C90: =A90 -> 43 | D90: =A90 -> 43 | E90: - | F90: =A90 -> 43 | G90: =A90 -> 43 | I90: =A90 -> 43 | J90: =A90 -> 43 | K90: =A90 -> 43 | L90: =A90 -> 43 | M90: =A90 -> 43 | X90: =A90 -> 43
A91: 43.5 | C91: =A91 -> 43.5 | D91: =A91 -> 43.5 | E91: - | F91: =A91 -> 43.5 | G91: =A91 -> 43.5 | I91: =A91 -> 43.5 | J91: =A91 -> 43.5 | L91: =A91 -> 43.5 | M91: =A91 -> 43.5 | X91: =A90 -> 43
A92: 44 | B92: GTA | C92: =A92 -> 44 | D92: =A92 -> 44 | E92: - | F92: =A92 -> 44 | G92: =A92 -> 44 | I92: =A92 -> 44 | J92: =A92 -> 44 | K92: =A92 -> 44 | L92: =A92 -> 44 | M92: =A92 -> 44 | X92: =A92 -> 44
A93: 44.5 | C93: =A93 -> 44.5 | D93: =A93 -> 44.5 | E93: - | F93: =A93 -> 44.5 | G93: =A93 -> 44.5 | I93: =A93 -> 44.5 | J93: =A93 -> 44.5 | L93: =A93 -> 44.5 | M93: =A93 -> 44.5 | X93: =A92 -> 44
A94: 45 | B94: GTA | C94: =A94 -> 45 | D94: =A94 -> 45 | E94: - | F94: =A94 -> 45 | G94: =A94 -> 45 | I94: =A94 -> 45 | J94: =A94 -> 45 | K94: =A94 -> 45 | L94: =A94 -> 45 | M94: =A94 -> 45 | X94: =A94 -> 45
A95: 45.5 | C95: =A95 -> 45.5 | D95: =A95 -> 45.5 | E95: - | F95: =A95 -> 45.5 | G95: =A95 -> 45.5 | I95: =A95 -> 45.5 | J95: =A95 -> 45.5 | L95: =A95 -> 45.5 | M95: =A95 -> 45.5 | X95: =A94 -> 45
A96: 46 | B96: GTA | C96: =A96 -> 46 | D96: =A96 -> 46 | E96: - | F96: =A96 -> 46 | G96: =A96 -> 46 | I96: =A96 -> 46 | J96: =A96 -> 46 | K96: =A96 -> 46 | L96: =A96 -> 46 | M96: =A96 -> 46 | X96: =A96 -> 46
A97: 46.5 | C97: =A97 -> 46.5 | D97: =A97 -> 46.5 | E97: - | F97: =A97 -> 46.5 | G97: =A97 -> 46.5 | I97: =A97 -> 46.5 | J97: =A97 -> 46.5 | L97: =A97 -> 46.5 | M97: =A97 -> 46.5 | X97: =A96 -> 46
A98: 47 | B98: GTA | C98: =A98 -> 47 | D98: =A98 -> 47 | E98: - | F98: =A98 -> 47 | G98: =A98 -> 47 | I98: =A98 -> 47 | J98: =A98 -> 47 | K98: =A98 -> 47 | L98: =A98 -> 47 | M98: =A98 -> 47 | X98: =A98 -> 47
A99: 47.5 | C99: =A99 -> 47.5 | D99: =A99 -> 47.5 | E99: - | F99: =A99 -> 47.5 | G99: =A99 -> 47.5 | I99: =A99 -> 47.5 | J99: =A99 -> 47.5 | L99: =A99 -> 47.5 | M99: =A99 -> 47.5 | X99: =A98 -> 47
A100: 48 | B100: GTA | C100: =A100 -> 48 | D100: =A100 -> 48 | E100: - | F100: =A100 -> 48 | G100: =A100 -> 48 | I100: =A100 -> 48 | J100: =A100 -> 48 | K100: =A100 -> 48 | L100: =A100 -> 48 | M100: =A100 -> 48 | X100: =A100 -> 48
...

Sheet Entry List
B1: Event: | C1: ='SCCA Official Results'!H6 -> XYZ Rally | E1: Region: | F1: ='SCCA Official Results'!H8 -> ABC (#)
B2: Date: | C2: ='SCCA Official Results'!H7 -> 44835 | E2: Sanction #: | F2: ='SCCA Official Results'!H11 -> ?
A4: Entry List (in assigned start order):
A7: Car # | B7: Class | C7: Driver | E7: Hometown | G7: Member | H7: SCCA | I7: Hooptie
C8: Navigator | G8: Number | H8: Region
A9: 1 | B9: =VLOOKUP(A9,'Competitor Address List'!$A6:$M205,2) -> E | C9: =VLOOKUP($A9,'Competitor Address List'!$A6:$M205,3) -> D1First | D9: =VLOOKUP($A9,'Competitor Address List'!$A6:$M205,4) -> D1Last | E9: =VLOOKUP($A9,'Competitor Address List'!$A6:$M205,6) -> D1City | F9: =VLOOKUP($A9,'Competitor Address List'!$A6:$M205,7) -> D1 | G9: =VLOOKUP($A9,'Competitor Address List'!$A6:$M205,9) -> 11111 | H9: =VLOOKUP($A9,'Competitor Address List'!$A6:$M205,10) -> D1Reg | I9: =VLOOKUP($A9,'Competitor Address List'!$A6:$M205,11) -> V1 Year/Make/Model
C10: =VLOOKUP($A9+0.5,'Competitor Address List'!$A7:$M205,3) -> N1First | D10: =VLOOKUP($A9+0.5,'Competitor Address List'!$A7:$M205,4) -> N1Last | E10: =VLOOKUP($A9+0.5,'Competitor Address List'!$A7:$M205,6) -> N1City | F10: =VLOOKUP($A9+0.5,'Competitor Address List'!$A7:$M205,7) -> N1 | G10: =VLOOKUP($A9+0.5,'Competitor Address List'!$A7:$M205,9) -> 151515 | H10: =VLOOKUP($A9+0.5,'Competitor Address List'!$A7:$M205,10) -> N1Reg
A11: 2 | B11: =VLOOKUP(A11,'Competitor Address List'!$A8:$M205,2) -> G | C11: =VLOOKUP($A11,'Competitor Address List'!$A8:$M205,3) -> 2 | D11: =VLOOKUP($A11,'Competitor Address List'!$A8:$M205,4) -> 2 | E11: =VLOOKUP($A11,'Competitor Address List'!$A8:$M205,6) -> 2 | F11: =VLOOKUP($A11,'Competitor Address List'!$A8:$M205,7) -> 2 | G11: =VLOOKUP($A11,'Competitor Address List'!$A8:$M205,9) -> 2 | H11: =VLOOKUP($A11,'Competitor Address List'!$A8:$M205,10) -> 2 | I11: =VLOOKUP($A11,'Competitor Address List'!$A8:$M205,11) -> 2
C12: =VLOOKUP($A11+0.5,'Competitor Address List'!$A9:$M205,3) -> 2.5 | D12: =VLOOKUP($A11+0.5,'Competitor Address List'!$A9:$M205,4) -> 2.5 | E12: =VLOOKUP($A11+0.5,'Competitor Address List'!$A9:$M205,6) -> 2.5 | F12: =VLOOKUP($A11+0.5,'Competitor Address List'!$A9:$M205,7) -> 2.5 | G12: =VLOOKUP($A11+0.5,'Competitor Address List'!$A9:$M205,9) -> 2.5 | H12: =VLOOKUP($A11+0.5,'Competitor Address List'!$A9:$M205,10) -> 2.5
A13: 3 | B13: =VLOOKUP(A13,'Competitor Address List'!$A10:$M205,2) -> L | C13: =VLOOKUP($A13,'Competitor Address List'!$A10:$M205,3) -> 3 | D13: =VLOOKUP($A13,'Competitor Address List'!$A10:$M205,4) -> 3 | E13: =VLOOKUP($A13,'Competitor Address List'!$A10:$M205,6) -> 3 | F13: =VLOOKUP($A13,'Competitor Address List'!$A10:$M205,7) -> 3 | G13: =VLOOKUP($A13,'Competitor Address List'!$A10:$M205,9) -> 3 | H13: =VLOOKUP($A13,'Competitor Address List'!$A10:$M205,10) -> 3 | I13: =VLOOKUP($A13,'Competitor Address List'!$A10:$M205,11) -> 3
C14: =VLOOKUP($A13+0.5,'Competitor Address List'!$A11:$M205,3) -> 3.5 | D14: =VLOOKUP($A13+0.5,'Competitor Address List'!$A11:$M205,4) -> 3.5 | E14: =VLOOKUP($A13+0.5,'Competitor Address List'!$A11:$M205,6) -> 3.5 | F14: =VLOOKUP($A13+0.5,'Competitor Address List'!$A11:$M205,7) -> 3.5 | G14: =VLOOKUP($A13+0.5,'Competitor Address List'!$A11:$M205,9) -> 3.5 | H14: =VLOOKUP($A13+0.5,'Competitor Address List'!$A11:$M205,10) -> 3.5
A15: 4 | B15: =VLOOKUP(A15,'Competitor Address List'!$A12:$M205,2) -> S | C15: =VLOOKUP($A15,'Competitor Address List'!$A12:$M205,3) -> 4 | D15: =VLOOKUP($A15,'Competitor Address List'!$A12:$M205,4) -> 4 | E15: =VLOOKUP($A15,'Competitor Address List'!$A12:$M205,6) -> 4 | F15: =VLOOKUP($A15,'Competitor Address List'!$A12:$M205,7) -> 4 | G15: =VLOOKUP($A15,'Competitor Address List'!$A12:$M205,9) -> 4 | H15: =VLOOKUP($A15,'Competitor Address List'!$A12:$M205,10) -> 4 | I15: =VLOOKUP($A15,'Competitor Address List'!$A12:$M205,11) -> 4
C16: =VLOOKUP($A15+0.5,'Competitor Address List'!$A13:$M205,3) -> 4.5 | D16: =VLOOKUP($A15+0.5,'Competitor Address List'!$A13:$M205,4) -> 4.5 | E16: =VLOOKUP($A15+0.5,'Competitor Address List'!$A13:$M205,6) -> 4.5 | F16: =VLOOKUP($A15+0.5,'Competitor Address List'!$A13:$M205,7) -> 4.5 | G16: =VLOOKUP($A15+0.5,'Competitor Address List'!$A13:$M205,9) -> 4.5 | H16: =VLOOKUP($A15+0.5,'Competitor Address List'!$A13:$M205,10) -> 4.5
A17: 5 | B17: =VLOOKUP(A17,'Competitor Address List'!$A14:$M205,2) -> N | C17: =VLOOKUP($A17,'Competitor Address List'!$A14:$M205,3) -> 5 | D17: =VLOOKUP($A17,'Competitor Address List'!$A14:$M205,4) -> 5 | E17: =VLOOKUP($A17,'Competitor Address List'!$A14:$M205,6) -> 5 | F17: =VLOOKUP($A17,'Competitor Address List'!$A14:$M205,7) -> 5 | G17: =VLOOKUP($A17,'Competitor Address List'!$A14:$M205,9) -> 5 | H17: =VLOOKUP($A17,'Competitor Address List'!$A14:$M205,10) -> 5 | I17: =VLOOKUP($A17,'Competitor Address List'!$A14:$M205,11) -> 5
C18: =VLOOKUP($A17+0.5,'Competitor Address List'!$A15:$M205,3) -> 5.5 | D18: =VLOOKUP($A17+0.5,'Competitor Address List'!$A15:$M205,4) -> 5.5 | E18: =VLOOKUP($A17+0.5,'Competitor Address List'!$A15:$M205,6) -> 5.5 | F18: =VLOOKUP($A17+0.5,'Competitor Address List'!$A15:$M205,7) -> 5.5 | G18: =VLOOKUP($A17+0.5,'Competitor Address List'!$A15:$M205,9) -> 5.5 | H18: =VLOOKUP($A17+0.5,'Competitor Address List'!$A15:$M205,10) -> 5.5
A19: 6 | B19: =VLOOKUP(A19,'Competitor Address List'!$A16:$M205,2) -> GTA | C19: =VLOOKUP($A19,'Competitor Address List'!$A16:$M205,3) -> 6 | D19: =VLOOKUP($A19,'Competitor Address List'!$A16:$M205,4) -> 6 | E19: =VLOOKUP($A19,'Competitor Address List'!$A16:$M205,6) -> 6 | F19: =VLOOKUP($A19,'Competitor Address List'!$A16:$M205,7) -> 6 | G19: =VLOOKUP($A19,'Competitor Address List'!$A16:$M205,9) -> 6 | H19: =VLOOKUP($A19,'Competitor Address List'!$A16:$M205,10) -> 6 | I19: =VLOOKUP($A19,'Competitor Address List'!$A16:$M205,11) -> 6
C20: =VLOOKUP($A19+0.5,'Competitor Address List'!$A17:$M205,3) -> 6.5 | D20: =VLOOKUP($A19+0.5,'Competitor Address List'!$A17:$M205,4) -> 6.5 | E20: =VLOOKUP($A19+0.5,'Competitor Address List'!$A17:$M205,6) -> 6.5 | F20: =VLOOKUP($A19+0.5,'Competitor Address List'!$A17:$M205,7) -> 6.5 | G20: =VLOOKUP($A19+0.5,'Competitor Address List'!$A17:$M205,9) -> 6.5 | H20: =VLOOKUP($A19+0.5,'Competitor Address List'!$A17:$M205,10) -> 6.5
A21: 7 | B21: =VLOOKUP(A21,'Competitor Address List'!$A18:$M205,2) -> GTA | C21: =VLOOKUP($A21,'Competitor Address List'!$A18:$M205,3) -> 7 | D21: =VLOOKUP($A21,'Competitor Address List'!$A18:$M205,4) -> 7 | E21: =VLOOKUP($A21,'Competitor Address List'!$A18:$M205,6) -> 7 | F21: =VLOOKUP($A21,'Competitor Address List'!$A18:$M205,7) -> 7 | G21: =VLOOKUP($A21,'Competitor Address List'!$A18:$M205,9) -> 7 | H21: =VLOOKUP($A21,'Competitor Address List'!$A18:$M205,10) -> 7 | I21: =VLOOKUP($A21,'Competitor Address List'!$A18:$M205,11) -> 7
C22: =VLOOKUP($A21+0.5,'Competitor Address List'!$A19:$M205,3) -> 7.5 | D22: =VLOOKUP($A21+0.5,'Competitor Address List'!$A19:$M205,4) -> 7.5 | E22: =VLOOKUP($A21+0.5,'Competitor Address List'!$A19:$M205,6) -> 7.5 | F22: =VLOOKUP($A21+0.5,'Competitor Address List'!$A19:$M205,7) -> 7.5 | G22: =VLOOKUP($A21+0.5,'Competitor Address List'!$A19:$M205,9) -> 7.5 | H22: =VLOOKUP($A21+0.5,'Competitor Address List'!$A19:$M205,10) -> 7.5
A23: 8 | B23: =VLOOKUP(A23,'Competitor Address List'!$A20:$M205,2) -> GTA | C23: =VLOOKUP($A23,'Competitor Address List'!$A20:$M205,3) -> 8 | D23: =VLOOKUP($A23,'Competitor Address List'!$A20:$M205,4) -> 8 | E23: =VLOOKUP($A23,'Competitor Address List'!$A20:$M205,6) -> 8 | F23: =VLOOKUP($A23,'Competitor Address List'!$A20:$M205,7) -> 8 | G23: =VLOOKUP($A23,'Competitor Address List'!$A20:$M205,9) -> 8 | H23: =VLOOKUP($A23,'Competitor Address List'!$A20:$M205,10) -> 8 | I23: =VLOOKUP($A23,'Competitor Address List'!$A20:$M205,11) -> 8
C24: =VLOOKUP($A23+0.5,'Competitor Address List'!$A21:$M205,3) -> 8.5 | D24: =VLOOKUP($A23+0.5,'Competitor Address List'!$A21:$M205,4) -> 8.5 | E24: =VLOOKUP($A23+0.5,'Competitor Address List'!$A21:$M205,6) -> 8.5 | F24: =VLOOKUP($A23+0.5,'Competitor Address List'!$A21:$M205,7) -> 8.5 | G24: =VLOOKUP($A23+0.5,'Competitor Address List'!$A21:$M205,9) -> 8.5 | H24: =VLOOKUP($A23+0.5,'Competitor Address List'!$A21:$M205,10) -> 8.5
A25: 9 | B25: =VLOOKUP(A25,'Competitor Address List'!$A22:$M205,2) -> GTA | C25: =VLOOKUP($A25,'Competitor Address List'!$A22:$M205,3) -> 9 | D25: =VLOOKUP($A25,'Competitor Address List'!$A22:$M205,4) -> 9 | E25: =VLOOKUP($A25,'Competitor Address List'!$A22:$M205,6) -> 9 | F25: =VLOOKUP($A25,'Competitor Address List'!$A22:$M205,7) -> 9 | G25: =VLOOKUP($A25,'Competitor Address List'!$A22:$M205,9) -> 9 | H25: =VLOOKUP($A25,'Competitor Address List'!$A22:$M205,10) -> 9 | I25: =VLOOKUP($A25,'Competitor Address List'!$A22:$M205,11) -> 9
C26: =VLOOKUP($A25+0.5,'Competitor Address List'!$A23:$M205,3) -> 9.5 | D26: =VLOOKUP($A25+0.5,'Competitor Address List'!$A23:$M205,4) -> 9.5 | E26: =VLOOKUP($A25+0.5,'Competitor Address List'!$A23:$M205,6) -> 9.5 | F26: =VLOOKUP($A25+0.5,'Competitor Address List'!$A23:$M205,7) -> 9.5 | G26: =VLOOKUP($A25+0.5,'Competitor Address List'!$A23:$M205,9) -> 9.5 | H26: =VLOOKUP($A25+0.5,'Competitor Address List'!$A23:$M205,10) -> 9.5
A27: 10 | B27: =VLOOKUP(A27,'Competitor Address List'!$A24:$M205,2) -> GTA | C27: =VLOOKUP($A27,'Competitor Address List'!$A24:$M205,3) -> 10 | D27: =VLOOKUP($A27,'Competitor Address List'!$A24:$M205,4) -> 10 | E27: =VLOOKUP($A27,'Competitor Address List'!$A24:$M205,6) -> 10 | F27: =VLOOKUP($A27,'Competitor Address List'!$A24:$M205,7) -> 10 | G27: =VLOOKUP($A27,'Competitor Address List'!$A24:$M205,9) -> 10 | H27: =VLOOKUP($A27,'Competitor Address List'!$A24:$M205,10) -> 10 | I27: =VLOOKUP($A27,'Competitor Address List'!$A24:$M205,11) -> 10
C28: =VLOOKUP($A27+0.5,'Competitor Address List'!$A25:$M205,3) -> 10.5 | D28: =VLOOKUP($A27+0.5,'Competitor Address List'!$A25:$M205,4) -> 10.5 | E28: =VLOOKUP($A27+0.5,'Competitor Address List'!$A25:$M205,6) -> 10.5 | F28: =VLOOKUP($A27+0.5,'Competitor Address List'!$A25:$M205,7) -> 10.5 | G28: =VLOOKUP($A27+0.5,'Competitor Address List'!$A25:$M205,9) -> 10.5 | H28: =VLOOKUP($A27+0.5,'Competitor Address List'!$A25:$M205,10) -> 10.5
A29: 11 | B29: =VLOOKUP(A29,'Competitor Address List'!$A26:$M205,2) -> GTA | C29: =VLOOKUP($A29,'Competitor Address List'!$A26:$M205,3) -> 11 | D29: =VLOOKUP($A29,'Competitor Address List'!$A26:$M205,4) -> 11 | E29: =VLOOKUP($A29,'Competitor Address List'!$A26:$M205,6) -> 11 | F29: =VLOOKUP($A29,'Competitor Address List'!$A26:$M205,7) -> 11 | G29: =VLOOKUP($A29,'Competitor Address List'!$A26:$M205,9) -> 11 | H29: =VLOOKUP($A29,'Competitor Address List'!$A26:$M205,10) -> 11 | I29: =VLOOKUP($A29,'Competitor Address List'!$A26:$M205,11) -> 11
C30: =VLOOKUP($A29+0.5,'Competitor Address List'!$A27:$M205,3) -> 11.5 | D30: =VLOOKUP($A29+0.5,'Competitor Address List'!$A27:$M205,4) -> 11.5 | E30: =VLOOKUP($A29+0.5,'Competitor Address List'!$A27:$M205,6) -> 11.5 | F30: =VLOOKUP($A29+0.5,'Competitor Address List'!$A27:$M205,7) -> 11.5 | G30: =VLOOKUP($A29+0.5,'Competitor Address List'!$A27:$M205,9) -> 11.5 | H30: =VLOOKUP($A29+0.5,'Competitor Address List'!$A27:$M205,10) -> 11.5
A31: 12 | B31: =VLOOKUP(A31,'Competitor Address List'!$A28:$M205,2) -> GTA | C31: =VLOOKUP($A31,'Competitor Address List'!$A28:$M205,3) -> 12 | D31: =VLOOKUP($A31,'Competitor Address List'!$A28:$M205,4) -> 12 | E31: =VLOOKUP($A31,'Competitor Address List'!$A28:$M205,6) -> 12 | F31: =VLOOKUP($A31,'Competitor Address List'!$A28:$M205,7) -> 12 | G31: =VLOOKUP($A31,'Competitor Address List'!$A28:$M205,9) -> 12 | H31: =VLOOKUP($A31,'Competitor Address List'!$A28:$M205,10) -> 12 | I31: =VLOOKUP($A31,'Competitor Address List'!$A28:$M205,11) -> 12
C32: =VLOOKUP($A31+0.5,'Competitor Address List'!$A29:$M205,3) -> 12.5 | D32: =VLOOKUP($A31+0.5,'Competitor Address List'!$A29:$M205,4) -> 12.5 | E32: =VLOOKUP($A31+0.5,'Competitor Address List'!$A29:$M205,6) -> 12.5 | F32: =VLOOKUP($A31+0.5,'Competitor Address List'!$A29:$M205,7) -> 12.5 | G32: =VLOOKUP($A31+0.5,'Competitor Address List'!$A29:$M205,9) -> 12.5 | H32: =VLOOKUP($A31+0.5,'Competitor Address List'!$A29:$M205,10) -> 12.5
A33: 13 | B33: =VLOOKUP(A33,'Competitor Address List'!$A30:$M205,2) -> GTA | C33: =VLOOKUP($A33,'Competitor Address List'!$A30:$M205,3) -> 13 | D33: =VLOOKUP($A33,'Competitor Address List'!$A30:$M205,4) -> 13 | E33: =VLOOKUP($A33,'Competitor Address List'!$A30:$M205,6) -> 13 | F33: =VLOOKUP($A33,'Competitor Address List'!$A30:$M205,7) -> 13 | G33: =VLOOKUP($A33,'Competitor Address List'!$A30:$M205,9) -> 13 | H33: =VLOOKUP($A33,'Competitor Address List'!$A30:$M205,10) -> 13 | I33: =VLOOKUP($A33,'Competitor Address List'!$A30:$M205,11) -> 13
C34: =VLOOKUP($A33+0.5,'Competitor Address List'!$A31:$M205,3) -> 13.5 | D34: =VLOOKUP($A33+0.5,'Competitor Address List'!$A31:$M205,4) -> 13.5 | E34: =VLOOKUP($A33+0.5,'Competitor Address List'!$A31:$M205,6) -> 13.5 | F34: =VLOOKUP($A33+0.5,'Competitor Address List'!$A31:$M205,7) -> 13.5 | G34: =VLOOKUP($A33+0.5,'Competitor Address List'!$A31:$M205,9) -> 13.5 | H34: =VLOOKUP($A33+0.5,'Competitor Address List'!$A31:$M205,10) -> 13.5
A35: 14 | B35: =VLOOKUP(A35,'Competitor Address List'!$A32:$M205,2) -> GTA | C35: =VLOOKUP($A35,'Competitor Address List'!$A32:$M205,3) -> 14 | D35: =VLOOKUP($A35,'Competitor Address List'!$A32:$M205,4) -> 14 | E35: =VLOOKUP($A35,'Competitor Address List'!$A32:$M205,6) -> 14 | F35: =VLOOKUP($A35,'Competitor Address List'!$A32:$M205,7) -> 14 | G35: =VLOOKUP($A35,'Competitor Address List'!$A32:$M205,9) -> 14 | H35: =VLOOKUP($A35,'Competitor Address List'!$A32:$M205,10) -> 14 | I35: =VLOOKUP($A35,'Competitor Address List'!$A32:$M205,11) -> 14
C36: =VLOOKUP($A35+0.5,'Competitor Address List'!$A33:$M205,3) -> 14.5 | D36: =VLOOKUP($A35+0.5,'Competitor Address List'!$A33:$M205,4) -> 14.5 | E36: =VLOOKUP($A35+0.5,'Competitor Address List'!$A33:$M205,6) -> 14.5 | F36: =VLOOKUP($A35+0.5,'Competitor Address List'!$A33:$M205,7) -> 14.5 | G36: =VLOOKUP($A35+0.5,'Competitor Address List'!$A33:$M205,9) -> 14.5 | H36: =VLOOKUP($A35+0.5,'Competitor Address List'!$A33:$M205,10) -> 14.5
A37: 15 | B37: =VLOOKUP(A37,'Competitor Address List'!$A34:$M205,2) -> GTA | C37: =VLOOKUP($A37,'Competitor Address List'!$A34:$M205,3) -> 15 | D37: =VLOOKUP($A37,'Competitor Address List'!$A34:$M205,4) -> 15 | E37: =VLOOKUP($A37,'Competitor Address List'!$A34:$M205,6) -> 15 | F37: =VLOOKUP($A37,'Competitor Address List'!$A34:$M205,7) -> 15 | G37: =VLOOKUP($A37,'Competitor Address List'!$A34:$M205,9) -> 15 | H37: =VLOOKUP($A37,'Competitor Address List'!$A34:$M205,10) -> 15 | I37: =VLOOKUP($A37,'Competitor Address List'!$A34:$M205,11) -> 15
C38: =VLOOKUP($A37+0.5,'Competitor Address List'!$A35:$M205,3) -> 15.5 | D38: =VLOOKUP($A37+0.5,'Competitor Address List'!$A35:$M205,4) -> 15.5 | E38: =VLOOKUP($A37+0.5,'Competitor Address List'!$A35:$M205,6) -> 15.5 | F38: =VLOOKUP($A37+0.5,'Competitor Address List'!$A35:$M205,7) -> 15.5 | G38: =VLOOKUP($A37+0.5,'Competitor Address List'!$A35:$M205,9) -> 15.5 | H38: =VLOOKUP($A37+0.5,'Competitor Address List'!$A35:$M205,10) -> 15.5
A39: 16 | B39: =VLOOKUP(A39,'Competitor Address List'!$A36:$M205,2) -> GTA | C39: =VLOOKUP($A39,'Competitor Address List'!$A36:$M205,3) -> 16 | D39: =VLOOKUP($A39,'Competitor Address List'!$A36:$M205,4) -> 16 | E39: =VLOOKUP($A39,'Competitor Address List'!$A36:$M205,6) -> 16 | F39: =VLOOKUP($A39,'Competitor Address List'!$A36:$M205,7) -> 16 | G39: =VLOOKUP($A39,'Competitor Address List'!$A36:$M205,9) -> 16 | H39: =VLOOKUP($A39,'Competitor Address List'!$A36:$M205,10) -> 16 | I39: =VLOOKUP($A39,'Competitor Address List'!$A36:$M205,11) -> 16
C40: =VLOOKUP($A39+0.5,'Competitor Address List'!$A37:$M205,3) -> 16.5 | D40: =VLOOKUP($A39+0.5,'Competitor Address List'!$A37:$M205,4) -> 16.5 | E40: =VLOOKUP($A39+0.5,'Competitor Address List'!$A37:$M205,6) -> 16.5 | F40: =VLOOKUP($A39+0.5,'Competitor Address List'!$A37:$M205,7) -> 16.5 | G40: =VLOOKUP($A39+0.5,'Competitor Address List'!$A37:$M205,9) -> 16.5 | H40: =VLOOKUP($A39+0.5,'Competitor Address List'!$A37:$M205,10) -> 16.5
A41: 17 | B41: =VLOOKUP(A41,'Competitor Address List'!$A38:$M205,2) -> GTA | C41: =VLOOKUP($A41,'Competitor Address List'!$A38:$M205,3) -> 17 | D41: =VLOOKUP($A41,'Competitor Address List'!$A38:$M205,4) -> 17 | E41: =VLOOKUP($A41,'Competitor Address List'!$A38:$M205,6) -> 17 | F41: =VLOOKUP($A41,'Competitor Address List'!$A38:$M205,7) -> 17 | G41: =VLOOKUP($A41,'Competitor Address List'!$A38:$M205,9) -> 17 | H41: =VLOOKUP($A41,'Competitor Address List'!$A38:$M205,10) -> 17 | I41: =VLOOKUP($A41,'Competitor Address List'!$A38:$M205,11) -> 17
C42: =VLOOKUP($A41+0.5,'Competitor Address List'!$A39:$M205,3) -> 17.5 | D42: =VLOOKUP($A41+0.5,'Competitor Address List'!$A39:$M205,4) -> 17.5 | E42: =VLOOKUP($A41+0.5,'Competitor Address List'!$A39:$M205,6) -> 17.5 | F42: =VLOOKUP($A41+0.5,'Competitor Address List'!$A39:$M205,7) -> 17.5 | G42: =VLOOKUP($A41+0.5,'Competitor Address List'!$A39:$M205,9) -> 17.5 | H42: =VLOOKUP($A41+0.5,'Competitor Address List'!$A39:$M205,10) -> 17.5
A43: 18 | B43: =VLOOKUP(A43,'Competitor Address List'!$A40:$M205,2) -> GTA | C43: =VLOOKUP($A43,'Competitor Address List'!$A40:$M205,3) -> 18 | D43: =VLOOKUP($A43,'Competitor Address List'!$A40:$M205,4) -> 18 | E43: =VLOOKUP($A43,'Competitor Address List'!$A40:$M205,6) -> 18 | F43: =VLOOKUP($A43,'Competitor Address List'!$A40:$M205,7) -> 18 | G43: =VLOOKUP($A43,'Competitor Address List'!$A40:$M205,9) -> 18 | H43: =VLOOKUP($A43,'Competitor Address List'!$A40:$M205,10) -> 18 | I43: =VLOOKUP($A43,'Competitor Address List'!$A40:$M205,11) -> 18
C44: =VLOOKUP($A43+0.5,'Competitor Address List'!$A41:$M205,3) -> 18.5 | D44: =VLOOKUP($A43+0.5,'Competitor Address List'!$A41:$M205,4) -> 18.5 | E44: =VLOOKUP($A43+0.5,'Competitor Address List'!$A41:$M205,6) -> 18.5 | F44: =VLOOKUP($A43+0.5,'Competitor Address List'!$A41:$M205,7) -> 18.5 | G44: =VLOOKUP($A43+0.5,'Competitor Address List'!$A41:$M205,9) -> 18.5 | H44: =VLOOKUP($A43+0.5,'Competitor Address List'!$A41:$M205,10) -> 18.5
A45: 19 | B45: =VLOOKUP(A45,'Competitor Address List'!$A42:$M205,2) -> GTA | C45: =VLOOKUP($A45,'Competitor Address List'!$A42:$M205,3) -> 19 | D45: =VLOOKUP($A45,'Competitor Address List'!$A42:$M205,4) -> 19 | E45: =VLOOKUP($A45,'Competitor Address List'!$A42:$M205,6) -> 19 | F45: =VLOOKUP($A45,'Competitor Address List'!$A42:$M205,7) -> 19 | G45: =VLOOKUP($A45,'Competitor Address List'!$A42:$M205,9) -> 19 | H45: =VLOOKUP($A45,'Competitor Address List'!$A42:$M205,10) -> 19 | I45: =VLOOKUP($A45,'Competitor Address List'!$A42:$M205,11) -> 19
C46: =VLOOKUP($A45+0.5,'Competitor Address List'!$A43:$M205,3) -> 19.5 | D46: =VLOOKUP($A45+0.5,'Competitor Address List'!$A43:$M205,4) -> 19.5 | E46: =VLOOKUP($A45+0.5,'Competitor Address List'!$A43:$M205,6) -> 19.5 | F46: =VLOOKUP($A45+0.5,'Competitor Address List'!$A43:$M205,7) -> 19.5 | G46: =VLOOKUP($A45+0.5,'Competitor Address List'!$A43:$M205,9) -> 19.5 | H46: =VLOOKUP($A45+0.5,'Competitor Address List'!$A43:$M205,10) -> 19.5
A47: 20 | B47: =VLOOKUP(A47,'Competitor Address List'!$A44:$M205,2) -> GTA | C47: =VLOOKUP($A47,'Competitor Address List'!$A44:$M205,3) -> 20 | D47: =VLOOKUP($A47,'Competitor Address List'!$A44:$M205,4) -> 20 | E47: =VLOOKUP($A47,'Competitor Address List'!$A44:$M205,6) -> 20 | F47: =VLOOKUP($A47,'Competitor Address List'!$A44:$M205,7) -> 20 | G47: =VLOOKUP($A47,'Competitor Address List'!$A44:$M205,9) -> 20 | H47: =VLOOKUP($A47,'Competitor Address List'!$A44:$M205,10) -> 20 | I47: =VLOOKUP($A47,'Competitor Address List'!$A44:$M205,11) -> 20
C48: =VLOOKUP($A47+0.5,'Competitor Address List'!$A45:$M205,3) -> 20.5 | D48: =VLOOKUP($A47+0.5,'Competitor Address List'!$A45:$M205,4) -> 20.5 | E48: =VLOOKUP($A47+0.5,'Competitor Address List'!$A45:$M205,6) -> 20.5 | F48: =VLOOKUP($A47+0.5,'Competitor Address List'!$A45:$M205,7) -> 20.5 | G48: =VLOOKUP($A47+0.5,'Competitor Address List'!$A45:$M205,9) -> 20.5 | H48: =VLOOKUP($A47+0.5,'Competitor Address List'!$A45:$M205,10) -> 20.5
A49: 21 | B49: =VLOOKUP(A49,'Competitor Address List'!$A46:$M205,2) -> GTA | C49: =VLOOKUP($A49,'Competitor Address List'!$A46:$M205,3) -> 21 | D49: =VLOOKUP($A49,'Competitor Address List'!$A46:$M205,4) -> 21 | E49: =VLOOKUP($A49,'Competitor Address List'!$A46:$M205,6) -> 21 | F49: =VLOOKUP($A49,'Competitor Address List'!$A46:$M205,7) -> 21 | G49: =VLOOKUP($A49,'Competitor Address List'!$A46:$M205,9) -> 21 | H49: =VLOOKUP($A49,'Competitor Address List'!$A46:$M205,10) -> 21 | I49: =VLOOKUP($A49,'Competitor Address List'!$A46:$M205,11) -> 21
C50: =VLOOKUP($A49+0.5,'Competitor Address List'!$A47:$M205,3) -> 21.5 | D50: =VLOOKUP($A49+0.5,'Competitor Address List'!$A47:$M205,4) -> 21.5 | E50: =VLOOKUP($A49+0.5,'Competitor Address List'!$A47:$M205,6) -> 21.5 | F50: =VLOOKUP($A49+0.5,'Competitor Address List'!$A47:$M205,7) -> 21.5 | G50: =VLOOKUP($A49+0.5,'Competitor Address List'!$A47:$M205,9) -> 21.5 | H50: =VLOOKUP($A49+0.5,'Competitor Address List'!$A47:$M205,10) -> 21.5
A51: 22 | B51: =VLOOKUP(A51,'Competitor Address List'!$A48:$M205,2) -> GTA | C51: =VLOOKUP($A51,'Competitor Address List'!$A48:$M205,3) -> 22 | D51: =VLOOKUP($A51,'Competitor Address List'!$A48:$M205,4) -> 22 | E51: =VLOOKUP($A51,'Competitor Address List'!$A48:$M205,6) -> 22 | F51: =VLOOKUP($A51,'Competitor Address List'!$A48:$M205,7) -> 22 | G51: =VLOOKUP($A51,'Competitor Address List'!$A48:$M205,9) -> 22 | H51: =VLOOKUP($A51,'Competitor Address List'!$A48:$M205,10) -> 22 | I51: =VLOOKUP($A51,'Competitor Address List'!$A48:$M205,11) -> 22
C52: =VLOOKUP($A51+0.5,'Competitor Address List'!$A49:$M205,3) -> 22.5 | D52: =VLOOKUP($A51+0.5,'Competitor Address List'!$A49:$M205,4) -> 22.5 | E52: =VLOOKUP($A51+0.5,'Competitor Address List'!$A49:$M205,6) -> 22.5 | F52: =VLOOKUP($A51+0.5,'Competitor Address List'!$A49:$M205,7) -> 22.5 | G52: =VLOOKUP($A51+0.5,'Competitor Address List'!$A49:$M205,9) -> 22.5 | H52: =VLOOKUP($A51+0.5,'Competitor Address List'!$A49:$M205,10) -> 22.5
A53: 23 | B53: =VLOOKUP(A53,'Competitor Address List'!$A50:$M205,2) -> GTA | C53: =VLOOKUP($A53,'Competitor Address List'!$A50:$M205,3) -> 23 | D53: =VLOOKUP($A53,'Competitor Address List'!$A50:$M205,4) -> 23 | E53: =VLOOKUP($A53,'Competitor Address List'!$A50:$M205,6) -> 23 | F53: =VLOOKUP($A53,'Competitor Address List'!$A50:$M205,7) -> 23 | G53: =VLOOKUP($A53,'Competitor Address List'!$A50:$M205,9) -> 23 | H53: =VLOOKUP($A53,'Competitor Address List'!$A50:$M205,10) -> 23 | I53: =VLOOKUP($A53,'Competitor Address List'!$A50:$M205,11) -> 23
C54: =VLOOKUP($A53+0.5,'Competitor Address List'!$A51:$M205,3) -> 23.5 | D54: =VLOOKUP($A53+0.5,'Competitor Address List'!$A51:$M205,4) -> 23.5 | E54: =VLOOKUP($A53+0.5,'Competitor Address List'!$A51:$M205,6) -> 23.5 | F54: =VLOOKUP($A53+0.5,'Competitor Address List'!$A51:$M205,7) -> 23.5 | G54: =VLOOKUP($A53+0.5,'Competitor Address List'!$A51:$M205,9) -> 23.5 | H54: =VLOOKUP($A53+0.5,'Competitor Address List'!$A51:$M205,10) -> 23.5
A55: 24 | B55: =VLOOKUP(A55,'Competitor Address List'!$A52:$M205,2) -> GTA | C55: =VLOOKUP($A55,'Competitor Address List'!$A52:$M205,3) -> 24 | D55: =VLOOKUP($A55,'Competitor Address List'!$A52:$M205,4) -> 24 | E55: =VLOOKUP($A55,'Competitor Address List'!$A52:$M205,6) -> 24 | F55: =VLOOKUP($A55,'Competitor Address List'!$A52:$M205,7) -> 24 | G55: =VLOOKUP($A55,'Competitor Address List'!$A52:$M205,9) -> 24 | H55: =VLOOKUP($A55,'Competitor Address List'!$A52:$M205,10) -> 24 | I55: =VLOOKUP($A55,'Competitor Address List'!$A52:$M205,11) -> 24
C56: =VLOOKUP($A55+0.5,'Competitor Address List'!$A53:$M205,3) -> 24.5 | D56: =VLOOKUP($A55+0.5,'Competitor Address List'!$A53:$M205,4) -> 24.5 | E56: =VLOOKUP($A55+0.5,'Competitor Address List'!$A53:$M205,6) -> 24.5 | F56: =VLOOKUP($A55+0.5,'Competitor Address List'!$A53:$M205,7) -> 24.5 | G56: =VLOOKUP($A55+0.5,'Competitor Address List'!$A53:$M205,9) -> 24.5 | H56: =VLOOKUP($A55+0.5,'Competitor Address List'!$A53:$M205,10) -> 24.5
A57: 25 | B57: =VLOOKUP(A57,'Competitor Address List'!$A54:$M205,2) -> GTA | C57: =VLOOKUP($A57,'Competitor Address List'!$A54:$M205,3) -> 25 | D57: =VLOOKUP($A57,'Competitor Address List'!$A54:$M205,4) -> 25 | E57: =VLOOKUP($A57,'Competitor Address List'!$A54:$M205,6) -> 25 | F57: =VLOOKUP($A57,'Competitor Address List'!$A54:$M205,7) -> 25 | G57: =VLOOKUP($A57,'Competitor Address List'!$A54:$M205,9) -> 25 | H57: =VLOOKUP($A57,'Competitor Address List'!$A54:$M205,10) -> 25 | I57: =VLOOKUP($A57,'Competitor Address List'!$A54:$M205,11) -> 25
C58: =VLOOKUP($A57+0.5,'Competitor Address List'!$A55:$M205,3) -> 25.5 | D58: =VLOOKUP($A57+0.5,'Competitor Address List'!$A55:$M205,4) -> 25.5 | E58: =VLOOKUP($A57+0.5,'Competitor Address List'!$A55:$M205,6) -> 25.5 | F58: =VLOOKUP($A57+0.5,'Competitor Address List'!$A55:$M205,7) -> 25.5 | G58: =VLOOKUP($A57+0.5,'Competitor Address List'!$A55:$M205,9) -> 25.5 | H58: =VLOOKUP($A57+0.5,'Competitor Address List'!$A55:$M205,10) -> 25.5
A59: 26 | B59: =VLOOKUP(A59,'Competitor Address List'!$A56:$M205,2) -> GTA | C59: =VLOOKUP($A59,'Competitor Address List'!$A56:$M205,3) -> 26 | D59: =VLOOKUP($A59,'Competitor Address List'!$A56:$M205,4) -> 26 | E59: =VLOOKUP($A59,'Competitor Address List'!$A56:$M205,6) -> 26 | F59: =VLOOKUP($A59,'Competitor Address List'!$A56:$M205,7) -> 26 | G59: =VLOOKUP($A59,'Competitor Address List'!$A56:$M205,9) -> 26 | H59: =VLOOKUP($A59,'Competitor Address List'!$A56:$M205,10) -> 26 | I59: =VLOOKUP($A59,'Competitor Address List'!$A56:$M205,11) -> 26
C60: =VLOOKUP($A59+0.5,'Competitor Address List'!$A57:$M205,3) -> 26.5 | D60: =VLOOKUP($A59+0.5,'Competitor Address List'!$A57:$M205,4) -> 26.5 | E60: =VLOOKUP($A59+0.5,'Competitor Address List'!$A57:$M205,6) -> 26.5 | F60: =VLOOKUP($A59+0.5,'Competitor Address List'!$A57:$M205,7) -> 26.5 | G60: =VLOOKUP($A59+0.5,'Competitor Address List'!$A57:$M205,9) -> 26.5 | H60: =VLOOKUP($A59+0.5,'Competitor Address List'!$A57:$M205,10) -> 26.5
A61: 27 | B61: =VLOOKUP(A61,'Competitor Address List'!$A58:$M205,2) -> GTA | C61: =VLOOKUP($A61,'Competitor Address List'!$A58:$M205,3) -> 27 | D61: =VLOOKUP($A61,'Competitor Address List'!$A58:$M205,4) -> 27 | E61: =VLOOKUP($A61,'Competitor Address List'!$A58:$M205,6) -> 27 | F61: =VLOOKUP($A61,'Competitor Address List'!$A58:$M205,7) -> 27 | G61: =VLOOKUP($A61,'Competitor Address List'!$A58:$M205,9) -> 27 | H61: =VLOOKUP($A61,'Competitor Address List'!$A58:$M205,10) -> 27 | I61: =VLOOKUP($A61,'Competitor Address List'!$A58:$M205,11) -> 27
C62: =VLOOKUP($A61+0.5,'Competitor Address List'!$A59:$M205,3) -> 27.5 | D62: =VLOOKUP($A61+0.5,'Competitor Address List'!$A59:$M205,4) -> 27.5 | E62: =VLOOKUP($A61+0.5,'Competitor Address List'!$A59:$M205,6) -> 27.5 | F62: =VLOOKUP($A61+0.5,'Competitor Address List'!$A59:$M205,7) -> 27.5 | G62: =VLOOKUP($A61+0.5,'Competitor Address List'!$A59:$M205,9) -> 27.5 | H62: =VLOOKUP($A61+0.5,'Competitor Address List'!$A59:$M205,10) -> 27.5
A63: 28 | B63: =VLOOKUP(A63,'Competitor Address List'!$A60:$M205,2) -> GTA | C63: =VLOOKUP($A63,'Competitor Address List'!$A60:$M205,3) -> 28 | D63: =VLOOKUP($A63,'Competitor Address List'!$A60:$M205,4) -> 28 | E63: =VLOOKUP($A63,'Competitor Address List'!$A60:$M205,6) -> 28 | F63: =VLOOKUP($A63,'Competitor Address List'!$A60:$M205,7) -> 28 | G63: =VLOOKUP($A63,'Competitor Address List'!$A60:$M205,9) -> 28 | H63: =VLOOKUP($A63,'Competitor Address List'!$A60:$M205,10) -> 28 | I63: =VLOOKUP($A63,'Competitor Address List'!$A60:$M205,11) -> 28
C64: =VLOOKUP($A63+0.5,'Competitor Address List'!$A61:$M205,3) -> 28.5 | D64: =VLOOKUP($A63+0.5,'Competitor Address List'!$A61:$M205,4) -> 28.5 | E64: =VLOOKUP($A63+0.5,'Competitor Address List'!$A61:$M205,6) -> 28.5 | F64: =VLOOKUP($A63+0.5,'Competitor Address List'!$A61:$M205,7) -> 28.5 | G64: =VLOOKUP($A63+0.5,'Competitor Address List'!$A61:$M205,9) -> 28.5 | H64: =VLOOKUP($A63+0.5,'Competitor Address List'!$A61:$M205,10) -> 28.5
A65: 29 | B65: =VLOOKUP(A65,'Competitor Address List'!$A62:$M205,2) -> GTA | C65: =VLOOKUP($A65,'Competitor Address List'!$A62:$M205,3) -> 29 | D65: =VLOOKUP($A65,'Competitor Address List'!$A62:$M205,4) -> 29 | E65: =VLOOKUP($A65,'Competitor Address List'!$A62:$M205,6) -> 29 | F65: =VLOOKUP($A65,'Competitor Address List'!$A62:$M205,7) -> 29 | G65: =VLOOKUP($A65,'Competitor Address List'!$A62:$M205,9) -> 29 | H65: =VLOOKUP($A65,'Competitor Address List'!$A62:$M205,10) -> 29 | I65: =VLOOKUP($A65,'Competitor Address List'!$A62:$M205,11) -> 29
C66: =VLOOKUP($A65+0.5,'Competitor Address List'!$A63:$M205,3) -> 29.5 | D66: =VLOOKUP($A65+0.5,'Competitor Address List'!$A63:$M205,4) -> 29.5 | E66: =VLOOKUP($A65+0.5,'Competitor Address List'!$A63:$M205,6) -> 29.5 | F66: =VLOOKUP($A65+0.5,'Competitor Address List'!$A63:$M205,7) -> 29.5 | G66: =VLOOKUP($A65+0.5,'Competitor Address List'!$A63:$M205,9) -> 29.5 | H66: =VLOOKUP($A65+0.5,'Competitor Address List'!$A63:$M205,10) -> 29.5
A67: 30 | B67: =VLOOKUP(A67,'Competitor Address List'!$A64:$M205,2) -> GTA | C67: =VLOOKUP($A67,'Competitor Address List'!$A64:$M205,3) -> 30 | D67: =VLOOKUP($A67,'Competitor Address List'!$A64:$M205,4) -> 30 | E67: =VLOOKUP($A67,'Competitor Address List'!$A64:$M205,6) -> 30 | F67: =VLOOKUP($A67,'Competitor Address List'!$A64:$M205,7) -> 30 | G67: =VLOOKUP($A67,'Competitor Address List'!$A64:$M205,9) -> 30 | H67: =VLOOKUP($A67,'Competitor Address List'!$A64:$M205,10) -> 30 | I67: =VLOOKUP($A67,'Competitor Address List'!$A64:$M205,11) -> 30
C68: =VLOOKUP($A67+0.5,'Competitor Address List'!$A65:$M205,3) -> 30.5 | D68: =VLOOKUP($A67+0.5,'Competitor Address List'!$A65:$M205,4) -> 30.5 | E68: =VLOOKUP($A67+0.5,'Competitor Address List'!$A65:$M205,6) -> 30.5 | F68: =VLOOKUP($A67+0.5,'Competitor Address List'!$A65:$M205,7) -> 30.5 | G68: =VLOOKUP($A67+0.5,'Competitor Address List'!$A65:$M205,9) -> 30.5 | H68: =VLOOKUP($A67+0.5,'Competitor Address List'!$A65:$M205,10) -> 30.5
A69: 31 | B69: =VLOOKUP(A69,'Competitor Address List'!$A66:$M205,2) -> GTA | C69: =VLOOKUP($A69,'Competitor Address List'!$A66:$M205,3) -> 31 | D69: =VLOOKUP($A69,'Competitor Address List'!$A66:$M205,4) -> 31 | E69: =VLOOKUP($A69,'Competitor Address List'!$A66:$M205,6) -> 31 | F69: =VLOOKUP($A69,'Competitor Address List'!$A66:$M205,7) -> 31 | G69: =VLOOKUP($A69,'Competitor Address List'!$A66:$M205,9) -> 31 | H69: =VLOOKUP($A69,'Competitor Address List'!$A66:$M205,10) -> 31 | I69: =VLOOKUP($A69,'Competitor Address List'!$A66:$M205,11) -> 31
C70: =VLOOKUP($A69+0.5,'Competitor Address List'!$A67:$M205,3) -> 31.5 | D70: =VLOOKUP($A69+0.5,'Competitor Address List'!$A67:$M205,4) -> 31.5 | E70: =VLOOKUP($A69+0.5,'Competitor Address List'!$A67:$M205,6) -> 31.5 | F70: =VLOOKUP($A69+0.5,'Competitor Address List'!$A67:$M205,7) -> 31.5 | G70: =VLOOKUP($A69+0.5,'Competitor Address List'!$A67:$M205,9) -> 31.5 | H70: =VLOOKUP($A69+0.5,'Competitor Address List'!$A67:$M205,10) -> 31.5
A71: 32 | B71: =VLOOKUP(A71,'Competitor Address List'!$A68:$M205,2) -> GTA | C71: =VLOOKUP($A71,'Competitor Address List'!$A68:$M205,3) -> 32 | D71: =VLOOKUP($A71,'Competitor Address List'!$A68:$M205,4) -> 32 | E71: =VLOOKUP($A71,'Competitor Address List'!$A68:$M205,6) -> 32 | F71: =VLOOKUP($A71,'Competitor Address List'!$A68:$M205,7) -> 32 | G71: =VLOOKUP($A71,'Competitor Address List'!$A68:$M205,9) -> 32 | H71: =VLOOKUP($A71,'Competitor Address List'!$A68:$M205,10) -> 32 | I71: =VLOOKUP($A71,'Competitor Address List'!$A68:$M205,11) -> 32
C72: =VLOOKUP($A71+0.5,'Competitor Address List'!$A69:$M205,3) -> 32.5 | D72: =VLOOKUP($A71+0.5,'Competitor Address List'!$A69:$M205,4) -> 32.5 | E72: =VLOOKUP($A71+0.5,'Competitor Address List'!$A69:$M205,6) -> 32.5 | F72: =VLOOKUP($A71+0.5,'Competitor Address List'!$A69:$M205,7) -> 32.5 | G72: =VLOOKUP($A71+0.5,'Competitor Address List'!$A69:$M205,9) -> 32.5 | H72: =VLOOKUP($A71+0.5,'Competitor Address List'!$A69:$M205,10) -> 32.5
A73: 33 | B73: =VLOOKUP(A73,'Competitor Address List'!$A70:$M205,2) -> GTA | C73: =VLOOKUP($A73,'Competitor Address List'!$A70:$M205,3) -> 33 | D73: =VLOOKUP($A73,'Competitor Address List'!$A70:$M205,4) -> 33 | E73: =VLOOKUP($A73,'Competitor Address List'!$A70:$M205,6) -> 33 | F73: =VLOOKUP($A73,'Competitor Address List'!$A70:$M205,7) -> 33 | G73: =VLOOKUP($A73,'Competitor Address List'!$A70:$M205,9) -> 33 | H73: =VLOOKUP($A73,'Competitor Address List'!$A70:$M205,10) -> 33 | I73: =VLOOKUP($A73,'Competitor Address List'!$A70:$M205,11) -> 33
C74: =VLOOKUP($A73+0.5,'Competitor Address List'!$A71:$M205,3) -> 33.5 | D74: =VLOOKUP($A73+0.5,'Competitor Address List'!$A71:$M205,4) -> 33.5 | E74: =VLOOKUP($A73+0.5,'Competitor Address List'!$A71:$M205,6) -> 33.5 | F74: =VLOOKUP($A73+0.5,'Competitor Address List'!$A71:$M205,7) -> 33.5 | G74: =VLOOKUP($A73+0.5,'Competitor Address List'!$A71:$M205,9) -> 33.5 | H74: =VLOOKUP($A73+0.5,'Competitor Address List'!$A71:$M205,10) -> 33.5
A75: 34 | B75: =VLOOKUP(A75,'Competitor Address List'!$A72:$M205,2) -> GTA | C75: =VLOOKUP($A75,'Competitor Address List'!$A72:$M205,3) -> 34 | D75: =VLOOKUP($A75,'Competitor Address List'!$A72:$M205,4) -> 34 | E75: =VLOOKUP($A75,'Competitor Address List'!$A72:$M205,6) -> 34 | F75: =VLOOKUP($A75,'Competitor Address List'!$A72:$M205,7) -> 34 | G75: =VLOOKUP($A75,'Competitor Address List'!$A72:$M205,9) -> 34 | H75: =VLOOKUP($A75,'Competitor Address List'!$A72:$M205,10) -> 34 | I75: =VLOOKUP($A75,'Competitor Address List'!$A72:$M205,11) -> 34
C76: =VLOOKUP($A75+0.5,'Competitor Address List'!$A73:$M205,3) -> 34.5 | D76: =VLOOKUP($A75+0.5,'Competitor Address List'!$A73:$M205,4) -> 34.5 | E76: =VLOOKUP($A75+0.5,'Competitor Address List'!$A73:$M205,6) -> 34.5 | F76: =VLOOKUP($A75+0.5,'Competitor Address List'!$A73:$M205,7) -> 34.5 | G76: =VLOOKUP($A75+0.5,'Competitor Address List'!$A73:$M205,9) -> 34.5 | H76: =VLOOKUP($A75+0.5,'Competitor Address List'!$A73:$M205,10) -> 34.5
A77: 35 | B77: =VLOOKUP(A77,'Competitor Address List'!$A74:$M205,2) -> GTA | C77: =VLOOKUP($A77,'Competitor Address List'!$A74:$M205,3) -> 35 | D77: =VLOOKUP($A77,'Competitor Address List'!$A74:$M205,4) -> 35 | E77: =VLOOKUP($A77,'Competitor Address List'!$A74:$M205,6) -> 35 | F77: =VLOOKUP($A77,'Competitor Address List'!$A74:$M205,7) -> 35 | G77: =VLOOKUP($A77,'Competitor Address List'!$A74:$M205,9) -> 35 | H77: =VLOOKUP($A77,'Competitor Address List'!$A74:$M205,10) -> 35 | I77: =VLOOKUP($A77,'Competitor Address List'!$A74:$M205,11) -> 35
C78: =VLOOKUP($A77+0.5,'Competitor Address List'!$A75:$M205,3) -> 35.5 | D78: =VLOOKUP($A77+0.5,'Competitor Address List'!$A75:$M205,4) -> 35.5 | E78: =VLOOKUP($A77+0.5,'Competitor Address List'!$A75:$M205,6) -> 35.5 | F78: =VLOOKUP($A77+0.5,'Competitor Address List'!$A75:$M205,7) -> 35.5 | G78: =VLOOKUP($A77+0.5,'Competitor Address List'!$A75:$M205,9) -> 35.5 | H78: =VLOOKUP($A77+0.5,'Competitor Address List'!$A75:$M205,10) -> 35.5
A79: 36 | B79: =VLOOKUP(A79,'Competitor Address List'!$A76:$M205,2) -> GTA | C79: =VLOOKUP($A79,'Competitor Address List'!$A76:$M205,3) -> 36 | D79: =VLOOKUP($A79,'Competitor Address List'!$A76:$M205,4) -> 36 | E79: =VLOOKUP($A79,'Competitor Address List'!$A76:$M205,6) -> 36 | F79: =VLOOKUP($A79,'Competitor Address List'!$A76:$M205,7) -> 36 | G79: =VLOOKUP($A79,'Competitor Address List'!$A76:$M205,9) -> 36 | H79: =VLOOKUP($A79,'Competitor Address List'!$A76:$M205,10) -> 36 | I79: =VLOOKUP($A79,'Competitor Address List'!$A76:$M205,11) -> 36
C80: =VLOOKUP($A79+0.5,'Competitor Address List'!$A77:$M205,3) -> 36.5 | D80: =VLOOKUP($A79+0.5,'Competitor Address List'!$A77:$M205,4) -> 36.5 | E80: =VLOOKUP($A79+0.5,'Competitor Address List'!$A77:$M205,6) -> 36.5 | F80: =VLOOKUP($A79+0.5,'Competitor Address List'!$A77:$M205,7) -> 36.5 | G80: =VLOOKUP($A79+0.5,'Competitor Address List'!$A77:$M205,9) -> 36.5 | H80: =VLOOKUP($A79+0.5,'Competitor Address List'!$A77:$M205,10) -> 36.5
A81: 37 | B81: =VLOOKUP(A81,'Competitor Address List'!$A78:$M205,2) -> GTA | C81: =VLOOKUP($A81,'Competitor Address List'!$A78:$M205,3) -> 37 | D81: =VLOOKUP($A81,'Competitor Address List'!$A78:$M205,4) -> 37 | E81: =VLOOKUP($A81,'Competitor Address List'!$A78:$M205,6) -> 37 | F81: =VLOOKUP($A81,'Competitor Address List'!$A78:$M205,7) -> 37 | G81: =VLOOKUP($A81,'Competitor Address List'!$A78:$M205,9) -> 37 | H81: =VLOOKUP($A81,'Competitor Address List'!$A78:$M205,10) -> 37 | I81: =VLOOKUP($A81,'Competitor Address List'!$A78:$M205,11) -> 37
C82: =VLOOKUP($A81+0.5,'Competitor Address List'!$A79:$M205,3) -> 37.5 | D82: =VLOOKUP($A81+0.5,'Competitor Address List'!$A79:$M205,4) -> 37.5 | E82: =VLOOKUP($A81+0.5,'Competitor Address List'!$A79:$M205,6) -> 37.5 | F82: =VLOOKUP($A81+0.5,'Competitor Address List'!$A79:$M205,7) -> 37.5 | G82: =VLOOKUP($A81+0.5,'Competitor Address List'!$A79:$M205,9) -> 37.5 | H82: =VLOOKUP($A81+0.5,'Competitor Address List'!$A79:$M205,10) -> 37.5
A83: 38 | B83: =VLOOKUP(A83,'Competitor Address List'!$A80:$M205,2) -> GTA | C83: =VLOOKUP($A83,'Competitor Address List'!$A80:$M205,3) -> 38 | D83: =VLOOKUP($A83,'Competitor Address List'!$A80:$M205,4) -> 38 | E83: =VLOOKUP($A83,'Competitor Address List'!$A80:$M205,6) -> 38 | F83: =VLOOKUP($A83,'Competitor Address List'!$A80:$M205,7) -> 38 | G83: =VLOOKUP($A83,'Competitor Address List'!$A80:$M205,9) -> 38 | H83: =VLOOKUP($A83,'Competitor Address List'!$A80:$M205,10) -> 38 | I83: =VLOOKUP($A83,'Competitor Address List'!$A80:$M205,11) -> 38
C84: =VLOOKUP($A83+0.5,'Competitor Address List'!$A81:$M205,3) -> 38.5 | D84: =VLOOKUP($A83+0.5,'Competitor Address List'!$A81:$M205,4) -> 38.5 | E84: =VLOOKUP($A83+0.5,'Competitor Address List'!$A81:$M205,6) -> 38.5 | F84: =VLOOKUP($A83+0.5,'Competitor Address List'!$A81:$M205,7) -> 38.5 | G84: =VLOOKUP($A83+0.5,'Competitor Address List'!$A81:$M205,9) -> 38.5 | H84: =VLOOKUP($A83+0.5,'Competitor Address List'!$A81:$M205,10) -> 38.5
A85: 39 | B85: =VLOOKUP(A85,'Competitor Address List'!$A82:$M205,2) -> GTA | C85: =VLOOKUP($A85,'Competitor Address List'!$A82:$M205,3) -> 39 | D85: =VLOOKUP($A85,'Competitor Address List'!$A82:$M205,4) -> 39 | E85: =VLOOKUP($A85,'Competitor Address List'!$A82:$M205,6) -> 39 | F85: =VLOOKUP($A85,'Competitor Address List'!$A82:$M205,7) -> 39 | G85: =VLOOKUP($A85,'Competitor Address List'!$A82:$M205,9) -> 39 | H85: =VLOOKUP($A85,'Competitor Address List'!$A82:$M205,10) -> 39 | I85: =VLOOKUP($A85,'Competitor Address List'!$A82:$M205,11) -> 39
C86: =VLOOKUP($A85+0.5,'Competitor Address List'!$A83:$M205,3) -> 39.5 | D86: =VLOOKUP($A85+0.5,'Competitor Address List'!$A83:$M205,4) -> 39.5 | E86: =VLOOKUP($A85+0.5,'Competitor Address List'!$A83:$M205,6) -> 39.5 | F86: =VLOOKUP($A85+0.5,'Competitor Address List'!$A83:$M205,7) -> 39.5 | G86: =VLOOKUP($A85+0.5,'Competitor Address List'!$A83:$M205,9) -> 39.5 | H86: =VLOOKUP($A85+0.5,'Competitor Address List'!$A83:$M205,10) -> 39.5
A87: 40 | B87: =VLOOKUP(A87,'Competitor Address List'!$A84:$M205,2) -> GTA | C87: =VLOOKUP($A87,'Competitor Address List'!$A84:$M205,3) -> 40 | D87: =VLOOKUP($A87,'Competitor Address List'!$A84:$M205,4) -> 40 | E87: =VLOOKUP($A87,'Competitor Address List'!$A84:$M205,6) -> 40 | F87: =VLOOKUP($A87,'Competitor Address List'!$A84:$M205,7) -> 40 | G87: =VLOOKUP($A87,'Competitor Address List'!$A84:$M205,9) -> 40 | H87: =VLOOKUP($A87,'Competitor Address List'!$A84:$M205,10) -> 40 | I87: =VLOOKUP($A87,'Competitor Address List'!$A84:$M205,11) -> 40
C88: =VLOOKUP($A87+0.5,'Competitor Address List'!$A85:$M205,3) -> 40.5 | D88: =VLOOKUP($A87+0.5,'Competitor Address List'!$A85:$M205,4) -> 40.5 | E88: =VLOOKUP($A87+0.5,'Competitor Address List'!$A85:$M205,6) -> 40.5 | F88: =VLOOKUP($A87+0.5,'Competitor Address List'!$A85:$M205,7) -> 40.5 | G88: =VLOOKUP($A87+0.5,'Competitor Address List'!$A85:$M205,9) -> 40.5 | H88: =VLOOKUP($A87+0.5,'Competitor Address List'!$A85:$M205,10) -> 40.5
A89: 41 | B89: =VLOOKUP(A89,'Competitor Address List'!$A86:$M205,2) -> GTA | C89: =VLOOKUP($A89,'Competitor Address List'!$A86:$M205,3) -> 41 | D89: =VLOOKUP($A89,'Competitor Address List'!$A86:$M205,4) -> 41 | E89: =VLOOKUP($A89,'Competitor Address List'!$A86:$M205,6) -> 41 | F89: =VLOOKUP($A89,'Competitor Address List'!$A86:$M205,7) -> 41 | G89: =VLOOKUP($A89,'Competitor Address List'!$A86:$M205,9) -> 41 | H89: =VLOOKUP($A89,'Competitor Address List'!$A86:$M205,10) -> 41 | I89: =VLOOKUP($A89,'Competitor Address List'!$A86:$M205,11) -> 41
C90: =VLOOKUP($A89+0.5,'Competitor Address List'!$A87:$M205,3) -> 41.5 | D90: =VLOOKUP($A89+0.5,'Competitor Address List'!$A87:$M205,4) -> 41.5 | E90: =VLOOKUP($A89+0.5,'Competitor Address List'!$A87:$M205,6) -> 41.5 | F90: =VLOOKUP($A89+0.5,'Competitor Address List'!$A87:$M205,7) -> 41.5 | G90: =VLOOKUP($A89+0.5,'Competitor Address List'!$A87:$M205,9) -> 41.5 | H90: =VLOOKUP($A89+0.5,'Competitor Address List'!$A87:$M205,10) -> 41.5
A91: 42 | B91: =VLOOKUP(A91,'Competitor Address List'!$A88:$M205,2) -> GTA | C91: =VLOOKUP($A91,'Competitor Address List'!$A88:$M205,3) -> 42 | D91: =VLOOKUP($A91,'Competitor Address List'!$A88:$M205,4) -> 42 | E91: =VLOOKUP($A91,'Competitor Address List'!$A88:$M205,6) -> 42 | F91: =VLOOKUP($A91,'Competitor Address List'!$A88:$M205,7) -> 42 | G91: =VLOOKUP($A91,'Competitor Address List'!$A88:$M205,9) -> 42 | H91: =VLOOKUP($A91,'Competitor Address List'!$A88:$M205,10) -> 42 | I91: =VLOOKUP($A91,'Competitor Address List'!$A88:$M205,11) -> 42
C92: =VLOOKUP($A91+0.5,'Competitor Address List'!$A89:$M205,3) -> 42.5 | D92: =VLOOKUP($A91+0.5,'Competitor Address List'!$A89:$M205,4) -> 42.5 | E92: =VLOOKUP($A91+0.5,'Competitor Address List'!$A89:$M205,6) -> 42.5 | F92: =VLOOKUP($A91+0.5,'Competitor Address List'!$A89:$M205,7) -> 42.5 | G92: =VLOOKUP($A91+0.5,'Competitor Address List'!$A89:$M205,9) -> 42.5 | H92: =VLOOKUP($A91+0.5,'Competitor Address List'!$A89:$M205,10) -> 42.5
A93: 43 | B93: =VLOOKUP(A93,'Competitor Address List'!$A90:$M205,2) -> GTA | C93: =VLOOKUP($A93,'Competitor Address List'!$A90:$M205,3) -> 43 | D93: =VLOOKUP($A93,'Competitor Address List'!$A90:$M205,4) -> 43 | E93: =VLOOKUP($A93,'Competitor Address List'!$A90:$M205,6) -> 43 | F93: =VLOOKUP($A93,'Competitor Address List'!$A90:$M205,7) -> 43 | G93: =VLOOKUP($A93,'Competitor Address List'!$A90:$M205,9) -> 43 | H93: =VLOOKUP($A93,'Competitor Address List'!$A90:$M205,10) -> 43 | I93: =VLOOKUP($A93,'Competitor Address List'!$A90:$M205,11) -> 43
C94: =VLOOKUP($A93+0.5,'Competitor Address List'!$A91:$M205,3) -> 43.5 | D94: =VLOOKUP($A93+0.5,'Competitor Address List'!$A91:$M205,4) -> 43.5 | E94: =VLOOKUP($A93+0.5,'Competitor Address List'!$A91:$M205,6) -> 43.5 | F94: =VLOOKUP($A93+0.5,'Competitor Address List'!$A91:$M205,7) -> 43.5 | G94: =VLOOKUP($A93+0.5,'Competitor Address List'!$A91:$M205,9) -> 43.5 | H94: =VLOOKUP($A93+0.5,'Competitor Address List'!$A91:$M205,10) -> 43.5
A95: 44 | B95: =VLOOKUP(A95,'Competitor Address List'!$A92:$M205,2) -> GTA | C95: =VLOOKUP($A95,'Competitor Address List'!$A92:$M205,3) -> 44 | D95: =VLOOKUP($A95,'Competitor Address List'!$A92:$M205,4) -> 44 | E95: =VLOOKUP($A95,'Competitor Address List'!$A92:$M205,6) -> 44 | F95: =VLOOKUP($A95,'Competitor Address List'!$A92:$M205,7) -> 44 | G95: =VLOOKUP($A95,'Competitor Address List'!$A92:$M205,9) -> 44 | H95: =VLOOKUP($A95,'Competitor Address List'!$A92:$M205,10) -> 44 | I95: =VLOOKUP($A95,'Competitor Address List'!$A92:$M205,11) -> 44
C96: =VLOOKUP($A95+0.5,'Competitor Address List'!$A93:$M205,3) -> 44.5 | D96: =VLOOKUP($A95+0.5,'Competitor Address List'!$A93:$M205,4) -> 44.5 | E96: =VLOOKUP($A95+0.5,'Competitor Address List'!$A93:$M205,6) -> 44.5 | F96: =VLOOKUP($A95+0.5,'Competitor Address List'!$A93:$M205,7) -> 44.5 | G96: =VLOOKUP($A95+0.5,'Competitor Address List'!$A93:$M205,9) -> 44.5 | H96: =VLOOKUP($A95+0.5,'Competitor Address List'!$A93:$M205,10) -> 44.5
A97: 45 | B97: =VLOOKUP(A97,'Competitor Address List'!$A94:$M205,2) -> GTA | C97: =VLOOKUP($A97,'Competitor Address List'!$A94:$M205,3) -> 45 | D97: =VLOOKUP($A97,'Competitor Address List'!$A94:$M205,4) -> 45 | E97: =VLOOKUP($A97,'Competitor Address List'!$A94:$M205,6) -> 45 | F97: =VLOOKUP($A97,'Competitor Address List'!$A94:$M205,7) -> 45 | G97: =VLOOKUP($A97,'Competitor Address List'!$A94:$M205,9) -> 45 | H97: =VLOOKUP($A97,'Competitor Address List'!$A94:$M205,10) -> 45 | I97: =VLOOKUP($A97,'Competitor Address List'!$A94:$M205,11) -> 45
C98: =VLOOKUP($A97+0.5,'Competitor Address List'!$A95:$M205,3) -> 45.5 | D98: =VLOOKUP($A97+0.5,'Competitor Address List'!$A95:$M205,4) -> 45.5 | E98: =VLOOKUP($A97+0.5,'Competitor Address List'!$A95:$M205,6) -> 45.5 | F98: =VLOOKUP($A97+0.5,'Competitor Address List'!$A95:$M205,7) -> 45.5 | G98: =VLOOKUP($A97+0.5,'Competitor Address List'!$A95:$M205,9) -> 45.5 | H98: =VLOOKUP($A97+0.5,'Competitor Address List'!$A95:$M205,10) -> 45.5
A99: 46 | B99: =VLOOKUP(A99,'Competitor Address List'!$A96:$M205,2) -> GTA | C99: =VLOOKUP($A99,'Competitor Address List'!$A96:$M205,3) -> 46 | D99: =VLOOKUP($A99,'Competitor Address List'!$A96:$M205,4) -> 46 | E99: =VLOOKUP($A99,'Competitor Address List'!$A96:$M205,6) -> 46 | F99: =VLOOKUP($A99,'Competitor Address List'!$A96:$M205,7) -> 46 | G99: =VLOOKUP($A99,'Competitor Address List'!$A96:$M205,9) -> 46 | H99: =VLOOKUP($A99,'Competitor Address List'!$A96:$M205,10) -> 46 | I99: =VLOOKUP($A99,'Competitor Address List'!$A96:$M205,11) -> 46
C100: =VLOOKUP($A99+0.5,'Competitor Address List'!$A97:$M205,3) -> 46.5 | D100: =VLOOKUP($A99+0.5,'Competitor Address List'!$A97:$M205,4) -> 46.5 | E100: =VLOOKUP($A99+0.5,'Competitor Address List'!$A97:$M205,6) -> 46.5 | F100: =VLOOKUP($A99+0.5,'Competitor Address List'!$A97:$M205,7) -> 46.5 | G100: =VLOOKUP($A99+0.5,'Competitor Address List'!$A97:$M205,9) -> 46.5 | H100: =VLOOKUP($A99+0.5,'Competitor Address List'!$A97:$M205,10) -> 46.5
A101: 47 | B101: =VLOOKUP(A101,'Competitor Address List'!$A98:$M205,2) -> GTA | C101: =VLOOKUP($A101,'Competitor Address List'!$A98:$M205,3) -> 47 | D101: =VLOOKUP($A101,'Competitor Address List'!$A98:$M205,4) -> 47 | E101: =VLOOKUP($A101,'Competitor Address List'!$A98:$M205,6) -> 47 | F101: =VLOOKUP($A101,'Competitor Address List'!$A98:$M205,7) -> 47 | G101: =VLOOKUP($A101,'Competitor Address List'!$A98:$M205,9) -> 47 | H101: =VLOOKUP($A101,'Competitor Address List'!$A98:$M205,10) -> 47 | I101: =VLOOKUP($A101,'Competitor Address List'!$A98:$M205,11) -> 47
C102: =VLOOKUP($A101+0.5,'Competitor Address List'!$A99:$M205,3) -> 47.5 | D102: =VLOOKUP($A101+0.5,'Competitor Address List'!$A99:$M205,4) -> 47.5 | E102: =VLOOKUP($A101+0.5,'Competitor Address List'!$A99:$M205,6) -> 47.5 | F102: =VLOOKUP($A101+0.5,'Competitor Address List'!$A99:$M205,7) -> 47.5 | G102: =VLOOKUP($A101+0.5,'Competitor Address List'!$A99:$M205,9) -> 47.5 | H102: =VLOOKUP($A101+0.5,'Competitor Address List'!$A99:$M205,10) -> 47.5
A103: 48 | B103: =VLOOKUP(A103,'Competitor Address List'!$A100:$M205,2) -> GTA | C103: =VLOOKUP($A103,'Competitor Address List'!$A100:$M205,3) -> 48 | D103: =VLOOKUP($A103,'Competitor Address List'!$A100:$M205,4) -> 48 | E103: =VLOOKUP($A103,'Competitor Address List'!$A100:$M205,6) -> 48 | F103: =VLOOKUP($A103,'Competitor Address List'!$A100:$M205,7) -> 48 | G103: =VLOOKUP($A103,'Competitor Address List'!$A100:$M205,9) -> 48 | H103: =VLOOKUP($A103,'Competitor Address List'!$A100:$M205,10) -> 48 | I103: =VLOOKUP($A103,'Competitor Address List'!$A100:$M205,11) -> 48
...

Sheet SCCA Official Results
B1: Notes:
D2: 1) User inputs in blue shaded cells only. All other cells will be automatically filled with information extracted from participant address list.
A4: OFFICIAL RESULTS: SCCA National Rally Championships | K4: Submit results and participant address list to:
L5: 1) National rally pointskeeper: | O5: smuncher@windstream.net | S5: Divisional
G6: Event Name: | H6: XYZ Rally | L6: 2) SCCA Rally Department: | O6: sanction@scca.com | Q6: <<<< | R6: Enter rally identifying information here. | S6: National
G7: Event Date: | H7: 44835 | L7: 3) SCCA Road Rally Board: | O7: rrb@scca.com
G8: Organizing Region: | H8: ABC (#) | L8: 4) SCCA Membership Department: | O8: membership@scca.com | S8: Course
G9: Sanction Level: | H9: Divisional | L9: 5) SCCA National Event Committee: | O9: nec@scca.com | S9: Tour
G10: Series: | H10: Tour | S10: GTA
G11: Sanction #: | H11: ?
G12: Course length: | H12: ? | S12: 0.01 minute
G13: # of Scored Controls: | H13: ? | S13: Second
G14: Scoring Unit: | H14: Second | L14: Pointskeeper Name (Member #) | S14: Responses
L15: Signature of event official certifying results | S15: Other:_________
A16: Worker Points (to be awaded to event chairman, rallymaster , and safety steward/precheckers only):
H17: First | I17: Last | J17: Hometown | K17: ST | L17: Member # | M17: Region | N17: Series | O17: Class | P17: Capacity | S17: Equipped | U17: Chair
G18: Worker Points (#1): | Q18: <<<< | R18: Enter information for key members of the organizing team nominated to receive worker points here. | S18: GPS | U18: RM
G19: Worker Points (#2): | S19: Limited | U19: SS
G20: Worker Points (#3): | S20: Stock | U20: Pre-Check
G21: Worker Points (#4): | S21: GTA
S22: 1
A23: Finish Positions | S23: 0
B24: Class | H24: Team Members | J24: Hometown | L24: SCCA | M24: SCCA | P24: Total | Q24: 1 | R24: Sort order: 1 = Ascending total scores, 0 = Descending total scores. | S24: Class | Y24: Score | AE24: Ranking
A25: O/A | B25: E | C25: G | D25: L | E25: S | F25: N | G25: GTA | H25: First | I25: Last | J25: City | K25: ST | L25: Member # | M25: Region | N25: Car # | O25: Vehicle | P25: Score | S25: E | T25: G | U25: L | V25: S | W25: N | X25: GTA | Y25: E | Z25: G | AA25: L | AB25: S | AC25: N | AD25: GTA | AE25: E | AF25: G | AG25: L | AH25: S | AI25: N | AJ25: GTA
A26: =RANK(P26,$P$26:$P$225,$Q$24) -> 1 | B26: =AE26 -> 1 | C26: =AF26 | D26: =AG26 | E26: =AH26 | F26: =AI26 | G26: =AJ26 | H26: =VLOOKUP($N26,'Competitor Address List'!$A$6:$M$205,3) -> D1First | I26: =VLOOKUP($N26,'Competitor Address List'!$A$6:$M$205,4) -> D1Last | J26: =VLOOKUP($N26,'Competitor Address List'!$A$6:$M$205,6) -> D1City | K26: =VLOOKUP($N26,'Competitor Address List'!$A$6:$M$205,7) -> D1 | L26: =VLOOKUP($N26,'Competitor Address List'!$A$6:$M$205,9) -> 11111 | M26: =VLOOKUP($N26,'Competitor Address List'!$A$6:$M$205,10) -> D1Reg | N26: 1 | O26: =VLOOKUP($N26,'Competitor Address List'!$A$6:$M$205,11) -> V1 Year/Make/Model | P26: 1001 | Q26: <<<< | R26: Enter Car # and Total Score of 1st | S26: =IF(VLOOKUP($N26,'Competitor Address List'!$A$6:$M$205,2)=S$25,1,"X") -> 1 | T26: =IF(VLOOKUP($N26,'Competitor Address List'!$A$6:$M$205,2)=T$25,1,"X") -> X | U26: =IF(VLOOKUP($N26,'Competitor Address List'!$A$6:$M$205,2)=U$25,1,"X") -> X | V26: =IF(OR(VLOOKUP($N26,'Competitor Address List'!$A$6:$M$205,2)=V$25,W26=1),1,"X") -> X | W26: =IF(VLOOKUP($N26,'Competitor Address List'!$A$6:$M$205,2)=W$25,1,"X") -> X | X26: =IF(VLOOKUP($N26,'Competitor Address List'!$A$6:$M$205,2)=X$25,1,"X") -> X | Y26: =IF(S26="X","-",$P26) -> 1001 | Z26: =IF(T26="X","-",$P26) -> - | AA26: =IF(U26="X","-",$P26) -> - | AB26: =IF(V26="X","-",$P26) -> - | AC26: =IF(W26="X","-",$P26) -> - | AD26: =IF(X26="X","-",$P26) -> - | AE26: =IF(Y26="-"," ",RANK(Y26,Y$26:Y$225,$Q$24)) -> 1 | AF26: =IF(Z26="-"," ",RANK(Z26,Z$26:Z$225,$Q$24)) | AG26: =IF(AA26="-"," ",RANK(AA26,AA$26:AA$225,$Q$24)) | AH26: =IF(AB26="-"," ",RANK(AB26,AB$26:AB$225,$Q$24)) | AI26: =IF(AC26="-"," ",RANK(AC26,AC$26:AC$225,$Q$24)) | AJ26: =IF(AD26="-"," ",RANK(AD26,AD$26:AD$225,$Q$24))
H27: =VLOOKUP($N26+0.5,'Competitor Address List'!$A$6:$M$205,3) -> N1First | I27: =VLOOKUP($N26+0.5,'Competitor Address List'!$A$6:$M$205,4) -> N1Last | J27: =VLOOKUP($N26+0.5,'Competitor Address List'!$A$6:$M$205,6) -> N1City | K27: =VLOOKUP($N26+0.5,'Competitor Address List'!$A$6:$M$205,7) -> N1 | L27: =VLOOKUP($N26+0.5,'Competitor Address List'!$A$6:$M$205,9) -> 151515 | M27: =VLOOKUP($N26+0.5,'Competitor Address List'!$A$6:$M$205,10) -> N1Reg | O27: =VLOOKUP($N27,'Competitor Address List'!$A$6:$M$65,15) -> #N/A | R27: Overall finisher.
A28: =RANK(P28,$P$26:$P$225,$Q$24) -> 2 | B28: =AE28 | C28: =AF28 -> 1 | D28: =AG28 | E28: =AH28 | F28: =AI28 | G28: =AJ28 | H28: =VLOOKUP($N28,'Competitor Address List'!$A$6:$M$205,3) -> 2 | I28: =VLOOKUP($N28,'Competitor Address List'!$A$6:$M$205,4) -> 2 | J28: =VLOOKUP($N28,'Competitor Address List'!$A$6:$M$205,6) -> 2 | K28: =VLOOKUP($N28,'Competitor Address List'!$A$6:$M$205,7) -> 2 | L28: =VLOOKUP($N28,'Competitor Address List'!$A$6:$M$205,9) -> 2 | M28: =VLOOKUP($N28,'Competitor Address List'!$A$6:$M$205,10) -> 2 | N28: 2 | O28: =VLOOKUP($N28,'Competitor Address List'!$A$6:$M$205,11) -> 2 | P28: =P26+1 -> 1002 | Q28: <<<< | R28: Enter Car # and Total Score of 2nd | S28: =IF(VLOOKUP($N28,'Competitor Address List'!$A$6:$M$205,2)=S$25,1,"X") -> X | T28: =IF(VLOOKUP($N28,'Competitor Address List'!$A$6:$M$205,2)=T$25,1,"X") -> 1 | U28: =IF(VLOOKUP($N28,'Competitor Address List'!$A$6:$M$205,2)=U$25,1,"X") -> X | V28: =IF(OR(VLOOKUP($N28,'Competitor Address List'!$A$6:$M$205,2)=V$25,W28=1),1,"X") -> X | W28: =IF(VLOOKUP($N28,'Competitor Address List'!$A$6:$M$205,2)=W$25,1,"X") -> X | X28: =IF(VLOOKUP($N28,'Competitor Address List'!$A$6:$M$205,2)=X$25,1,"X") -> X | Y28: =IF(S28="X","-",$P28) -> - | Z28: =IF(T28="X","-",$P28) -> 1002 | AA28: =IF(U28="X","-",$P28) -> - | AB28: =IF(V28="X","-",$P28) -> - | AC28: =IF(W28="X","-",$P28) -> - | AD28: =IF(X28="X","-",$P28) -> - | AE28: =IF(Y28="-"," ",RANK(Y28,Y$26:Y$225,$Q$24)) | AF28: =IF(Z28="-"," ",RANK(Z28,Z$26:Z$225,$Q$24)) -> 1 | AG28: =IF(AA28="-"," ",RANK(AA28,AA$26:AA$225,$Q$24)) | AH28: =IF(AB28="-"," ",RANK(AB28,AB$26:AB$225,$Q$24)) | AI28: =IF(AC28="-"," ",RANK(AC28,AC$26:AC$225,$Q$24)) | AJ28: =IF(AD28="-"," ",RANK(AD28,AD$26:AD$225,$Q$24))
H29: =VLOOKUP($N28+0.5,'Competitor Address List'!$A$6:$M$205,3) -> 2.5 | I29: =VLOOKUP($N28+0.5,'Competitor Address List'!$A$6:$M$205,4) -> 2.5 | J29: =VLOOKUP($N28+0.5,'Competitor Address List'!$A$6:$M$205,6) -> 2.5 | K29: =VLOOKUP($N28+0.5,'Competitor Address List'!$A$6:$M$205,7) -> 2.5 | L29: =VLOOKUP($N28+0.5,'Competitor Address List'!$A$6:$M$205,9) -> 2.5 | M29: =VLOOKUP($N28+0.5,'Competitor Address List'!$A$6:$M$205,10) -> 2.5 | O29: =VLOOKUP($N29,'Competitor Address List'!$A$6:$M$65,15) -> #N/A | R29: Overall (or tied) finisher.
A30: =RANK(P30,$P$26:$P$225,$Q$24) -> 3 | B30: =AE30 | C30: =AF30 | D30: =AG30 -> 1 | E30: =AH30 | F30: =AI30 | G30: =AJ30 | H30: =VLOOKUP($N30,'Competitor Address List'!$A$6:$M$205,3) -> 3 | I30: =VLOOKUP($N30,'Competitor Address List'!$A$6:$M$205,4) -> 3 | J30: =VLOOKUP($N30,'Competitor Address List'!$A$6:$M$205,6) -> 3 | K30: =VLOOKUP($N30,'Competitor Address List'!$A$6:$M$205,7) -> 3 | L30: =VLOOKUP($N30,'Competitor Address List'!$A$6:$M$205,9) -> 3 | M30: =VLOOKUP($N30,'Competitor Address List'!$A$6:$M$205,10) -> 3 | N30: 3 | O30: =VLOOKUP($N30,'Competitor Address List'!$A$6:$M$205,11) -> 3 | P30: =P28+1 -> 1003 | Q30: <<<< | R30: Enter Car # and Total Score of 3rd | S30: =IF(VLOOKUP($N30,'Competitor Address List'!$A$6:$M$205,2)=S$25,1,"X") -> X | T30: =IF(VLOOKUP($N30,'Competitor Address List'!$A$6:$M$205,2)=T$25,1,"X") -> X | U30: =IF(VLOOKUP($N30,'Competitor Address List'!$A$6:$M$205,2)=U$25,1,"X") -> 1 | V30: =IF(OR(VLOOKUP($N30,'Competitor Address List'!$A$6:$M$205,2)=V$25,W30=1),1,"X") -> X | W30: =IF(VLOOKUP($N30,'Competitor Address List'!$A$6:$M$205,2)=W$25,1,"X") -> X | X30: =IF(VLOOKUP($N30,'Competitor Address List'!$A$6:$M$205,2)=X$25,1,"X") -> X | Y30: =IF(S30="X","-",$P30) -> - | Z30: =IF(T30="X","-",$P30) -> - | AA30: =IF(U30="X","-",$P30) -> 1003 | AB30: =IF(V30="X","-",$P30) -> - | AC30: =IF(W30="X","-",$P30) -> - | AD30: =IF(X30="X","-",$P30) -> - | AE30: =IF(Y30="-"," ",RANK(Y30,Y$26:Y$225,$Q$24)) | AF30: =IF(Z30="-"," ",RANK(Z30,Z$26:Z$225,$Q$24)) | AG30: =IF(AA30="-"," ",RANK(AA30,AA$26:AA$225,$Q$24)) -> 1 | AH30: =IF(AB30="-"," ",RANK(AB30,AB$26:AB$225,$Q$24)) | AI30: =IF(AC30="-"," ",RANK(AC30,AC$26:AC$225,$Q$24)) | AJ30: =IF(AD30="-"," ",RANK(AD30,AD$26:AD$225,$Q$24))
H31: =VLOOKUP($N30+0.5,'Competitor Address List'!$A$6:$M$205,3) -> 3.5 | I31: =VLOOKUP($N30+0.5,'Competitor Address List'!$A$6:$M$205,4) -> 3.5 | J31: =VLOOKUP($N30+0.5,'Competitor Address List'!$A$6:$M$205,6) -> 3.5 | K31: =VLOOKUP($N30+0.5,'Competitor Address List'!$A$6:$M$205,7) -> 3.5 | L31: =VLOOKUP($N30+0.5,'Competitor Address List'!$A$6:$M$205,9) -> 3.5 | M31: =VLOOKUP($N30+0.5,'Competitor Address List'!$A$6:$M$205,10) -> 3.5 | O31: =VLOOKUP($N31,'Competitor Address List'!$A$6:$M$65,15) -> #N/A | R31: Overall (or tied) finisher.
A32: =RANK(P32,$P$26:$P$225,$Q$24) -> 4 | B32: =AE32 | C32: =AF32 | D32: =AG32 | E32: =AH32 -> 1 | F32: =AI32 | G32: =AJ32 | H32: =VLOOKUP($N32,'Competitor Address List'!$A$6:$M$205,3) -> 4 | I32: =VLOOKUP($N32,'Competitor Address List'!$A$6:$M$205,4) -> 4 | J32: =VLOOKUP($N32,'Competitor Address List'!$A$6:$M$205,6) -> 4 | K32: =VLOOKUP($N32,'Competitor Address List'!$A$6:$M$205,7) -> 4 | L32: =VLOOKUP($N32,'Competitor Address List'!$A$6:$M$205,9) -> 4 | M32: =VLOOKUP($N32,'Competitor Address List'!$A$6:$M$205,10) -> 4 | N32: 4 | O32: =VLOOKUP($N32,'Competitor Address List'!$A$6:$M$205,11) -> 4 | P32: =P30+1 -> 1004 | Q32: <<<< | R32: 4th O/A | S32: =IF(VLOOKUP($N32,'Competitor Address List'!$A$6:$M$205,2)=S$25,1,"X") -> X | T32: =IF(VLOOKUP($N32,'Competitor Address List'!$A$6:$M$205,2)=T$25,1,"X") -> X | U32: =IF(VLOOKUP($N32,'Competitor Address List'!$A$6:$M$205,2)=U$25,1,"X") -> X | V32: =IF(OR(VLOOKUP($N32,'Competitor Address List'!$A$6:$M$205,2)=V$25,W32=1),1,"X") -> 1 | W32: =IF(VLOOKUP($N32,'Competitor Address List'!$A$6:$M$205,2)=W$25,1,"X") -> X | X32: =IF(VLOOKUP($N32,'Competitor Address List'!$A$6:$M$205,2)=X$25,1,"X") -> X | Y32: =IF(S32="X","-",$P32) -> - | Z32: =IF(T32="X","-",$P32) -> - | AA32: =IF(U32="X","-",$P32) -> - | AB32: =IF(V32="X","-",$P32) -> 1004 | AC32: =IF(W32="X","-",$P32) -> - | AD32: =IF(X32="X","-",$P32) -> - | AE32: =IF(Y32="-"," ",RANK(Y32,Y$26:Y$225,$Q$24)) | AF32: =IF(Z32="-"," ",RANK(Z32,Z$26:Z$225,$Q$24)) | AG32: =IF(AA32="-"," ",RANK(AA32,AA$26:AA$225,$Q$24)) | AH32: =IF(AB32="-"," ",RANK(AB32,AB$26:AB$225,$Q$24)) -> 1 | AI32: =IF(AC32="-"," ",RANK(AC32,AC$26:AC$225,$Q$24)) | AJ32: =IF(AD32="-"," ",RANK(AD32,AD$26:AD$225,$Q$24))
H33: =VLOOKUP($N32+0.5,'Competitor Address List'!$A$6:$M$205,3) -> 4.5 | I33: =VLOOKUP($N32+0.5,'Competitor Address List'!$A$6:$M$205,4) -> 4.5 | J33: =VLOOKUP($N32+0.5,'Competitor Address List'!$A$6:$M$205,6) -> 4.5 | K33: =VLOOKUP($N32+0.5,'Competitor Address List'!$A$6:$M$205,7) -> 4.5 | L33: =VLOOKUP($N32+0.5,'Competitor Address List'!$A$6:$M$205,9) -> 4.5 | M33: =VLOOKUP($N32+0.5,'Competitor Address List'!$A$6:$M$205,10) -> 4.5 | O33: =VLOOKUP($N33,'Competitor Address List'!$A$6:$M$65,15) -> #N/A
A34: =RANK(P34,$P$26:$P$225,$Q$24) -> 5 | B34: =AE34 | C34: =AF34 | D34: =AG34 | E34: =AH34 -> 2 | F34: =AI34 -> 1 | G34: =AJ34 | H34: =VLOOKUP($N34,'Competitor Address List'!$A$6:$M$205,3) -> 5 | I34: =VLOOKUP($N34,'Competitor Address List'!$A$6:$M$205,4) -> 5 | J34: =VLOOKUP($N34,'Competitor Address List'!$A$6:$M$205,6) -> 5 | K34: =VLOOKUP($N34,'Competitor Address List'!$A$6:$M$205,7) -> 5 | L34: =VLOOKUP($N34,'Competitor Address List'!$A$6:$M$205,9) -> 5 | M34: =VLOOKUP($N34,'Competitor Address List'!$A$6:$M$205,10) -> 5 | N34: 5 | O34: =VLOOKUP($N34,'Competitor Address List'!$A$6:$M$205,11) -> 5 | P34: =P32+1 -> 1005 | Q34: <<<< | R34: etc. | S34: =IF(VLOOKUP($N34,'Competitor Address List'!$A$6:$M$205,2)=S$25,1,"X") -> X | T34: =IF(VLOOKUP($N34,'Competitor Address List'!$A$6:$M$205,2)=T$25,1,"X") -> X | U34: =IF(VLOOKUP($N34,'Competitor Address List'!$A$6:$M$205,2)=U$25,1,"X") -> X | V34: =IF(OR(VLOOKUP($N34,'Competitor Address List'!$A$6:$M$205,2)=V$25,W34=1),1,"X") -> 1 | W34: =IF(VLOOKUP($N34,'Competitor Address List'!$A$6:$M$205,2)=W$25,1,"X") -> 1 | X34: =IF(VLOOKUP($N34,'Competitor Address List'!$A$6:$M$205,2)=X$25,1,"X") -> X | Y34: =IF(S34="X","-",$P34) -> - | Z34: =IF(T34="X","-",$P34) -> - | AA34: =IF(U34="X","-",$P34) -> - | AB34: =IF(V34="X","-",$P34) -> 1005 | AC34: =IF(W34="X","-",$P34) -> 1005 | AD34: =IF(X34="X","-",$P34) -> - | AE34: =IF(Y34="-"," ",RANK(Y34,Y$26:Y$225,$Q$24)) | AF34: =IF(Z34="-"," ",RANK(Z34,Z$26:Z$225,$Q$24)) | AG34: =IF(AA34="-"," ",RANK(AA34,AA$26:AA$225,$Q$24)) | AH34: =IF(AB34="-"," ",RANK(AB34,AB$26:AB$225,$Q$24)) -> 2 | AI34: =IF(AC34="-"," ",RANK(AC34,AC$26:AC$225,$Q$24)) -> 1 | AJ34: =IF(AD34="-"," ",RANK(AD34,AD$26:AD$225,$Q$24))
H35: =VLOOKUP($N34+0.5,'Competitor Address List'!$A$6:$M$205,3) -> 5.5 | I35: =VLOOKUP($N34+0.5,'Competitor Address List'!$A$6:$M$205,4) -> 5.5 | J35: =VLOOKUP($N34+0.5,'Competitor Address List'!$A$6:$M$205,6) -> 5.5 | K35: =VLOOKUP($N34+0.5,'Competitor Address List'!$A$6:$M$205,7) -> 5.5 | L35: =VLOOKUP($N34+0.5,'Competitor Address List'!$A$6:$M$205,9) -> 5.5 | M35: =VLOOKUP($N34+0.5,'Competitor Address List'!$A$6:$M$205,10) -> 5.5 | O35: =VLOOKUP($N35,'Competitor Address List'!$A$6:$M$65,15) -> #N/A
A36: =RANK(P36,$P$26:$P$225,$Q$24) -> 6 | B36: =AE36 | C36: =AF36 | D36: =AG36 | E36: =AH36 | F36: =AI36 | G36: =AJ36 -> 1 | H36: =VLOOKUP($N36,'Competitor Address List'!$A$6:$M$205,3) -> 6 | I36: =VLOOKUP($N36,'Competitor Address List'!$A$6:$M$205,4) -> 6 | J36: =VLOOKUP($N36,'Competitor Address List'!$A$6:$M$205,6) -> 6 | K36: =VLOOKUP($N36,'Competitor Address List'!$A$6:$M$205,7) -> 6 | L36: =VLOOKUP($N36,'Competitor Address List'!$A$6:$M$205,9) -> 6 | M36: =VLOOKUP($N36,'Competitor Address List'!$A$6:$M$205,10) -> 6 | N36: 6 | O36: =VLOOKUP($N36,'Competitor Address List'!$A$6:$M$205,11) -> 6 | P36: =P34+1 -> 1006 | S36: =IF(VLOOKUP($N36,'Competitor Address List'!$A$6:$M$205,2)=S$25,1,"X") -> X | T36: =IF(VLOOKUP($N36,'Competitor Address List'!$A$6:$M$205,2)=T$25,1,"X") -> X | U36: =IF(VLOOKUP($N36,'Competitor Address List'!$A$6:$M$205,2)=U$25,1,"X") -> X | V36: =IF(OR(VLOOKUP($N36,'Competitor Address List'!$A$6:$M$205,2)=V$25,W36=1),1,"X") -> X | W36: =IF(VLOOKUP($N36,'Competitor Address List'!$A$6:$M$205,2)=W$25,1,"X") -> X | X36: =IF(VLOOKUP($N36,'Competitor Address List'!$A$6:$M$205,2)=X$25,1,"X") -> 1 | Y36: =IF(S36="X","-",$P36) -> - | Z36: =IF(T36="X","-",$P36) -> - | AA36: =IF(U36="X","-",$P36) -> - | AB36: =IF(V36="X","-",$P36) -> - | AC36: =IF(W36="X","-",$P36) -> - | AD36: =IF(X36="X","-",$P36) -> 1006 | AE36: =IF(Y36="-"," ",RANK(Y36,Y$26:Y$225,$Q$24)) | AF36: =IF(Z36="-"," ",RANK(Z36,Z$26:Z$225,$Q$24)) | AG36: =IF(AA36="-"," ",RANK(AA36,AA$26:AA$225,$Q$24)) | AH36: =IF(AB36="-"," ",RANK(AB36,AB$26:AB$225,$Q$24)) | AI36: =IF(AC36="-"," ",RANK(AC36,AC$26:AC$225,$Q$24)) | AJ36: =IF(AD36="-"," ",RANK(AD36,AD$26:AD$225,$Q$24)) -> 1
H37: =VLOOKUP($N36+0.5,'Competitor Address List'!$A$6:$M$205,3) -> 6.5 | I37: =VLOOKUP($N36+0.5,'Competitor Address List'!$A$6:$M$205,4) -> 6.5 | J37: =VLOOKUP($N36+0.5,'Competitor Address List'!$A$6:$M$205,6) -> 6.5 | K37: =VLOOKUP($N36+0.5,'Competitor Address List'!$A$6:$M$205,7) -> 6.5 | L37: =VLOOKUP($N36+0.5,'Competitor Address List'!$A$6:$M$205,9) -> 6.5 | M37: =VLOOKUP($N36+0.5,'Competitor Address List'!$A$6:$M$205,10) -> 6.5 | O37: =VLOOKUP($N37,'Competitor Address List'!$A$6:$M$65,15) -> #N/A
A38: =RANK(P38,$P$26:$P$225,$Q$24) -> 7 | B38: =AE38 | C38: =AF38 | D38: =AG38 | E38: =AH38 | F38: =AI38 | G38: =AJ38 -> 2 | H38: =VLOOKUP($N38,'Competitor Address List'!$A$6:$M$205,3) -> 7 | I38: =VLOOKUP($N38,'Competitor Address List'!$A$6:$M$205,4) -> 7 | J38: =VLOOKUP($N38,'Competitor Address List'!$A$6:$M$205,6) -> 7 | K38: =VLOOKUP($N38,'Competitor Address List'!$A$6:$M$205,7) -> 7 | L38: =VLOOKUP($N38,'Competitor Address List'!$A$6:$M$205,9) -> 7 | M38: =VLOOKUP($N38,'Competitor Address List'!$A$6:$M$205,10) -> 7 | N38: 7 | O38: =VLOOKUP($N38,'Competitor Address List'!$A$6:$M$205,11) -> 7 | P38: =P36+1 -> 1007 | S38: =IF(VLOOKUP($N38,'Competitor Address List'!$A$6:$M$205,2)=S$25,1,"X") -> X | T38: =IF(VLOOKUP($N38,'Competitor Address List'!$A$6:$M$205,2)=T$25,1,"X") -> X | U38: =IF(VLOOKUP($N38,'Competitor Address List'!$A$6:$M$205,2)=U$25,1,"X") -> X | V38: =IF(OR(VLOOKUP($N38,'Competitor Address List'!$A$6:$M$205,2)=V$25,W38=1),1,"X") -> X | W38: =IF(VLOOKUP($N38,'Competitor Address List'!$A$6:$M$205,2)=W$25,1,"X") -> X | X38: =IF(VLOOKUP($N38,'Competitor Address List'!$A$6:$M$205,2)=X$25,1,"X") -> 1 | Y38: =IF(S38="X","-",$P38) -> - | Z38: =IF(T38="X","-",$P38) -> - | AA38: =IF(U38="X","-",$P38) -> - | AB38: =IF(V38="X","-",$P38) -> - | AC38: =IF(W38="X","-",$P38) -> - | AD38: =IF(X38="X","-",$P38) -> 1007 | AE38: =IF(Y38="-"," ",RANK(Y38,Y$26:Y$225,$Q$24)) | AF38: =IF(Z38="-"," ",RANK(Z38,Z$26:Z$225,$Q$24)) | AG38: =IF(AA38="-"," ",RANK(AA38,AA$26:AA$225,$Q$24)) | AH38: =IF(AB38="-"," ",RANK(AB38,AB$26:AB$225,$Q$24)) | AI38: =IF(AC38="-"," ",RANK(AC38,AC$26:AC$225,$Q$24)) | AJ38: =IF(AD38="-"," ",RANK(AD38,AD$26:AD$225,$Q$24)) -> 2
H39: =VLOOKUP($N38+0.5,'Competitor Address List'!$A$6:$M$205,3) -> 7.5 | I39: =VLOOKUP($N38+0.5,'Competitor Address List'!$A$6:$M$205,4) -> 7.5 | J39: =VLOOKUP($N38+0.5,'Competitor Address List'!$A$6:$M$205,6) -> 7.5 | K39: =VLOOKUP($N38+0.5,'Competitor Address List'!$A$6:$M$205,7) -> 7.5 | L39: =VLOOKUP($N38+0.5,'Competitor Address List'!$A$6:$M$205,9) -> 7.5 | M39: =VLOOKUP($N38+0.5,'Competitor Address List'!$A$6:$M$205,10) -> 7.5 | O39: =VLOOKUP($N39,'Competitor Address List'!$A$6:$M$65,15) -> #N/A
A40: =RANK(P40,$P$26:$P$225,$Q$24) -> 8 | B40: =AE40 | C40: =AF40 | D40: =AG40 | E40: =AH40 | F40: =AI40 | G40: =AJ40 -> 3 | H40: =VLOOKUP($N40,'Competitor Address List'!$A$6:$M$205,3) -> 8 | I40: =VLOOKUP($N40,'Competitor Address List'!$A$6:$M$205,4) -> 8 | J40: =VLOOKUP($N40,'Competitor Address List'!$A$6:$M$205,6) -> 8 | K40: =VLOOKUP($N40,'Competitor Address List'!$A$6:$M$205,7) -> 8 | L40: =VLOOKUP($N40,'Competitor Address List'!$A$6:$M$205,9) -> 8 | M40: =VLOOKUP($N40,'Competitor Address List'!$A$6:$M$205,10) -> 8 | N40: 8 | O40: =VLOOKUP($N40,'Competitor Address List'!$A$6:$M$205,11) -> 8 | P40: =P38+1 -> 1008 | S40: =IF(VLOOKUP($N40,'Competitor Address List'!$A$6:$M$205,2)=S$25,1,"X") -> X | T40: =IF(VLOOKUP($N40,'Competitor Address List'!$A$6:$M$205,2)=T$25,1,"X") -> X | U40: =IF(VLOOKUP($N40,'Competitor Address List'!$A$6:$M$205,2)=U$25,1,"X") -> X | V40: =IF(OR(VLOOKUP($N40,'Competitor Address List'!$A$6:$M$205,2)=V$25,W40=1),1,"X") -> X | W40: =IF(VLOOKUP($N40,'Competitor Address List'!$A$6:$M$205,2)=W$25,1,"X") -> X | X40: =IF(VLOOKUP($N40,'Competitor Address List'!$A$6:$M$205,2)=X$25,1,"X") -> 1 | Y40: =IF(S40="X","-",$P40) -> - | Z40: =IF(T40="X","-",$P40) -> - | AA40: =IF(U40="X","-",$P40) -> - | AB40: =IF(V40="X","-",$P40) -> - | AC40: =IF(W40="X","-",$P40) -> - | AD40: =IF(X40="X","-",$P40) -> 1008 | AE40: =IF(Y40="-"," ",RANK(Y40,Y$26:Y$225,$Q$24)) | AF40: =IF(Z40="-"," ",RANK(Z40,Z$26:Z$225,$Q$24)) | AG40: =IF(AA40="-"," ",RANK(AA40,AA$26:AA$225,$Q$24)) | AH40: =IF(AB40="-"," ",RANK(AB40,AB$26:AB$225,$Q$24)) | AI40: =IF(AC40="-"," ",RANK(AC40,AC$26:AC$225,$Q$24)) | AJ40: =IF(AD40="-"," ",RANK(AD40,AD$26:AD$225,$Q$24)) -> 3
H41: =VLOOKUP($N40+0.5,'Competitor Address List'!$A$6:$M$205,3) -> 8.5 | I41: =VLOOKUP($N40+0.5,'Competitor Address List'!$A$6:$M$205,4) -> 8.5 | J41: =VLOOKUP($N40+0.5,'Competitor Address List'!$A$6:$M$205,6) -> 8.5 | K41: =VLOOKUP($N40+0.5,'Competitor Address List'!$A$6:$M$205,7) -> 8.5 | L41: =VLOOKUP($N40+0.5,'Competitor Address List'!$A$6:$M$205,9) -> 8.5 | M41: =VLOOKUP($N40+0.5,'Competitor Address List'!$A$6:$M$205,10) -> 8.5 | O41: =VLOOKUP($N41,'Competitor Address List'!$A$6:$M$65,15) -> #N/A
A42: =RANK(P42,$P$26:$P$225,$Q$24) -> 9 | B42: =AE42 | C42: =AF42 | D42: =AG42 | E42: =AH42 | F42: =AI42 | G42: =AJ42 -> 4 | H42: =VLOOKUP($N42,'Competitor Address List'!$A$6:$M$205,3) -> 9 | I42: =VLOOKUP($N42,'Competitor Address List'!$A$6:$M$205,4) -> 9 | J42: =VLOOKUP($N42,'Competitor Address List'!$A$6:$M$205,6) -> 9 | K42: =VLOOKUP($N42,'Competitor Address List'!$A$6:$M$205,7) -> 9 | L42: =VLOOKUP($N42,'Competitor Address List'!$A$6:$M$205,9) -> 9 | M42: =VLOOKUP($N42,'Competitor Address List'!$A$6:$M$205,10) -> 9 | N42: 9 | O42: =VLOOKUP($N42,'Competitor Address List'!$A$6:$M$205,11) -> 9 | P42: =P40+1 -> 1009 | S42: =IF(VLOOKUP($N42,'Competitor Address List'!$A$6:$M$205,2)=S$25,1,"X") -> X | T42: =IF(VLOOKUP($N42,'Competitor Address List'!$A$6:$M$205,2)=T$25,1,"X") -> X | U42: =IF(VLOOKUP($N42,'Competitor Address List'!$A$6:$M$205,2)=U$25,1,"X") -> X | V42: =IF(OR(VLOOKUP($N42,'Competitor Address List'!$A$6:$M$205,2)=V$25,W42=1),1,"X") -> X | W42: =IF(VLOOKUP($N42,'Competitor Address List'!$A$6:$M$205,2)=W$25,1,"X") -> X | X42: =IF(VLOOKUP($N42,'Competitor Address List'!$A$6:$M$205,2)=X$25,1,"X") -> 1 | Y42: =IF(S42="X","-",$P42) -> - | Z42: =IF(T42="X","-",$P42) -> - | AA42: =IF(U42="X","-",$P42) -> - | AB42: =IF(V42="X","-",$P42) -> - | AC42: =IF(W42="X","-",$P42) -> - | AD42: =IF(X42="X","-",$P42) -> 1009 | AE42: =IF(Y42="-"," ",RANK(Y42,Y$26:Y$225,$Q$24)) | AF42: =IF(Z42="-"," ",RANK(Z42,Z$26:Z$225,$Q$24)) | AG42: =IF(AA42="-"," ",RANK(AA42,AA$26:AA$225,$Q$24)) | AH42: =IF(AB42="-"," ",RANK(AB42,AB$26:AB$225,$Q$24)) | AI42: =IF(AC42="-"," ",RANK(AC42,AC$26:AC$225,$Q$24)) | AJ42: =IF(AD42="-"," ",RANK(AD42,AD$26:AD$225,$Q$24)) -> 4
H43: =VLOOKUP($N42+0.5,'Competitor Address List'!$A$6:$M$205,3) -> 9.5 | I43: =VLOOKUP($N42+0.5,'Competitor Address List'!$A$6:$M$205,4) -> 9.5 | J43: =VLOOKUP($N42+0.5,'Competitor Address List'!$A$6:$M$205,6) -> 9.5 | K43: =VLOOKUP($N42+0.5,'Competitor Address List'!$A$6:$M$205,7) -> 9.5 | L43: =VLOOKUP($N42+0.5,'Competitor Address List'!$A$6:$M$205,9) -> 9.5 | M43: =VLOOKUP($N42+0.5,'Competitor Address List'!$A$6:$M$205,10) -> 9.5 | O43: =VLOOKUP($N43,'Competitor Address List'!$A$6:$M$65,15) -> #N/A
A44: =RANK(P44,$P$26:$P$225,$Q$24) -> 10 | B44: =AE44 | C44: =AF44 | D44: =AG44 | E44: =AH44 | F44: =AI44 | G44: =AJ44 -> 5 | H44: =VLOOKUP($N44,'Competitor Address List'!$A$6:$M$205,3) -> 10 | I44: =VLOOKUP($N44,'Competitor Address List'!$A$6:$M$205,4) -> 10 | J44: =VLOOKUP($N44,'Competitor Address List'!$A$6:$M$205,6) -> 10 | K44: =VLOOKUP($N44,'Competitor Address List'!$A$6:$M$205,7) -> 10 | L44: =VLOOKUP($N44,'Competitor Address List'!$A$6:$M$205,9) -> 10 | M44: =VLOOKUP($N44,'Competitor Address List'!$A$6:$M$205,10) -> 10 | N44: 10 | O44: =VLOOKUP($N44,'Competitor Address List'!$A$6:$M$205,11) -> 10 | P44: =P42+1 -> 1010 | S44: =IF(VLOOKUP($N44,'Competitor Address List'!$A$6:$M$205,2)=S$25,1,"X") -> X | T44: =IF(VLOOKUP($N44,'Competitor Address List'!$A$6:$M$205,2)=T$25,1,"X") -> X | U44: =IF(VLOOKUP($N44,'Competitor Address List'!$A$6:$M$205,2)=U$25,1,"X") -> X | V44: =IF(OR(VLOOKUP($N44,'Competitor Address List'!$A$6:$M$205,2)=V$25,W44=1),1,"X") -> X | W44: =IF(VLOOKUP($N44,'Competitor Address List'!$A$6:$M$205,2)=W$25,1,"X") -> X | X44: =IF(VLOOKUP($N44,'Competitor Address List'!$A$6:$M$205,2)=X$25,1,"X") -> 1 | Y44: =IF(S44="X","-",$P44) -> - | Z44: =IF(T44="X","-",$P44) -> - | AA44: =IF(U44="X","-",$P44) -> - | AB44: =IF(V44="X","-",$P44) -> - | AC44: =IF(W44="X","-",$P44) -> - | AD44: =IF(X44="X","-",$P44) -> 1010 | AE44: =IF(Y44="-"," ",RANK(Y44,Y$26:Y$225,$Q$24)) | AF44: =IF(Z44="-"," ",RANK(Z44,Z$26:Z$225,$Q$24)) | AG44: =IF(AA44="-"," ",RANK(AA44,AA$26:AA$225,$Q$24)) | AH44: =IF(AB44="-"," ",RANK(AB44,AB$26:AB$225,$Q$24)) | AI44: =IF(AC44="-"," ",RANK(AC44,AC$26:AC$225,$Q$24)) | AJ44: =IF(AD44="-"," ",RANK(AD44,AD$26:AD$225,$Q$24)) -> 5
H45: =VLOOKUP($N44+0.5,'Competitor Address List'!$A$6:$M$205,3) -> 10.5 | I45: =VLOOKUP($N44+0.5,'Competitor Address List'!$A$6:$M$205,4) -> 10.5 | J45: =VLOOKUP($N44+0.5,'Competitor Address List'!$A$6:$M$205,6) -> 10.5 | K45: =VLOOKUP($N44+0.5,'Competitor Address List'!$A$6:$M$205,7) -> 10.5 | L45: =VLOOKUP($N44+0.5,'Competitor Address List'!$A$6:$M$205,9) -> 10.5 | M45: =VLOOKUP($N44+0.5,'Competitor Address List'!$A$6:$M$205,10) -> 10.5 | O45: =VLOOKUP($N45,'Competitor Address List'!$A$6:$M$65,15) -> #N/A
A46: =RANK(P46,$P$26:$P$225,$Q$24) -> 11 | B46: =AE46 | C46: =AF46 | D46: =AG46 | E46: =AH46 | F46: =AI46 | G46: =AJ46 -> 6 | H46: =VLOOKUP($N46,'Competitor Address List'!$A$6:$M$205,3) -> 11 | I46: =VLOOKUP($N46,'Competitor Address List'!$A$6:$M$205,4) -> 11 | J46: =VLOOKUP($N46,'Competitor Address List'!$A$6:$M$205,6) -> 11 | K46: =VLOOKUP($N46,'Competitor Address List'!$A$6:$M$205,7) -> 11 | L46: =VLOOKUP($N46,'Competitor Address List'!$A$6:$M$205,9) -> 11 | M46: =VLOOKUP($N46,'Competitor Address List'!$A$6:$M$205,10) -> 11 | N46: 11 | O46: =VLOOKUP($N46,'Competitor Address List'!$A$6:$M$205,11) -> 11 | P46: =P44+1 -> 1011 | S46: =IF(VLOOKUP($N46,'Competitor Address List'!$A$6:$M$205,2)=S$25,1,"X") -> X | T46: =IF(VLOOKUP($N46,'Competitor Address List'!$A$6:$M$205,2)=T$25,1,"X") -> X | U46: =IF(VLOOKUP($N46,'Competitor Address List'!$A$6:$M$205,2)=U$25,1,"X") -> X | V46: =IF(OR(VLOOKUP($N46,'Competitor Address List'!$A$6:$M$205,2)=V$25,W46=1),1,"X") -> X | W46: =IF(VLOOKUP($N46,'Competitor Address List'!$A$6:$M$205,2)=W$25,1,"X") -> X | X46: =IF(VLOOKUP($N46,'Competitor Address List'!$A$6:$M$205,2)=X$25,1,"X") -> 1 | Y46: =IF(S46="X","-",$P46) -> - | Z46: =IF(T46="X","-",$P46) -> - | AA46: =IF(U46="X","-",$P46) -> - | AB46: =IF(V46="X","-",$P46) -> - | AC46: =IF(W46="X","-",$P46) -> - | AD46: =IF(X46="X","-",$P46) -> 1011 | AE46: =IF(Y46="-"," ",RANK(Y46,Y$26:Y$225,$Q$24)) | AF46: =IF(Z46="-"," ",RANK(Z46,Z$26:Z$225,$Q$24)) | AG46: =IF(AA46="-"," ",RANK(AA46,AA$26:AA$225,$Q$24)) | AH46: =IF(AB46="-"," ",RANK(AB46,AB$26:AB$225,$Q$24)) | AI46: =IF(AC46="-"," ",RANK(AC46,AC$26:AC$225,$Q$24)) | AJ46: =IF(AD46="-"," ",RANK(AD46,AD$26:AD$225,$Q$24)) -> 6
H47: =VLOOKUP($N46+0.5,'Competitor Address List'!$A$6:$M$205,3) -> 11.5 | I47: =VLOOKUP($N46+0.5,'Competitor Address List'!$A$6:$M$205,4) -> 11.5 | J47: =VLOOKUP($N46+0.5,'Competitor Address List'!$A$6:$M$205,6) -> 11.5 | K47: =VLOOKUP($N46+0.5,'Competitor Address List'!$A$6:$M$205,7) -> 11.5 | L47: =VLOOKUP($N46+0.5,'Competitor Address List'!$A$6:$M$205,9) -> 11.5 | M47: =VLOOKUP($N46+0.5,'Competitor Address List'!$A$6:$M$205,10) -> 11.5 | O47: =VLOOKUP($N47,'Competitor Address List'!$A$6:$M$65,15) -> #N/A
A48: =RANK(P48,$P$26:$P$225,$Q$24) -> 12 | B48: =AE48 | C48: =AF48 | D48: =AG48 | E48: =AH48 | F48: =AI48 | G48: =AJ48 -> 7 | H48: =VLOOKUP($N48,'Competitor Address List'!$A$6:$M$205,3) -> 12 | I48: =VLOOKUP($N48,'Competitor Address List'!$A$6:$M$205,4) -> 12 | J48: =VLOOKUP($N48,'Competitor Address List'!$A$6:$M$205,6) -> 12 | K48: =VLOOKUP($N48,'Competitor Address List'!$A$6:$M$205,7) -> 12 | L48: =VLOOKUP($N48,'Competitor Address List'!$A$6:$M$205,9) -> 12 | M48: =VLOOKUP($N48,'Competitor Address List'!$A$6:$M$205,10) -> 12 | N48: 12 | O48: =VLOOKUP($N48,'Competitor Address List'!$A$6:$M$205,11) -> 12 | P48: =P46+1 -> 1012 | S48: =IF(VLOOKUP($N48,'Competitor Address List'!$A$6:$M$205,2)=S$25,1,"X") -> X | T48: =IF(VLOOKUP($N48,'Competitor Address List'!$A$6:$M$205,2)=T$25,1,"X") -> X | U48: =IF(VLOOKUP($N48,'Competitor Address List'!$A$6:$M$205,2)=U$25,1,"X") -> X | V48: =IF(OR(VLOOKUP($N48,'Competitor Address List'!$A$6:$M$205,2)=V$25,W48=1),1,"X") -> X | W48: =IF(VLOOKUP($N48,'Competitor Address List'!$A$6:$M$205,2)=W$25,1,"X") -> X | X48: =IF(VLOOKUP($N48,'Competitor Address List'!$A$6:$M$205,2)=X$25,1,"X") -> 1 | Y48: =IF(S48="X","-",$P48) -> - | Z48: =IF(T48="X","-",$P48) -> - | AA48: =IF(U48="X","-",$P48) -> - | AB48: =IF(V48="X","-",$P48) -> - | AC48: =IF(W48="X","-",$P48) -> - | AD48: =IF(X48="X","-",$P48) -> 1012 | AE48: =IF(Y48="-"," ",RANK(Y48,Y$26:Y$225,$Q$24)) | AF48: =IF(Z48="-"," ",RANK(Z48,Z$26:Z$225,$Q$24)) | AG48: =IF(AA48="-"," ",RANK(AA48,AA$26:AA$225,$Q$24)) | AH48: =IF(AB48="-"," ",RANK(AB48,AB$26:AB$225,$Q$24)) | AI48: =IF(AC48="-"," ",RANK(AC48,AC$26:AC$225,$Q$24)) | AJ48: =IF(AD48="-"," ",RANK(AD48,AD$26:AD$225,$Q$24)) -> 7
H49: =VLOOKUP($N48+0.5,'Competitor Address List'!$A$6:$M$205,3) -> 12.5 | I49: =VLOOKUP($N48+0.5,'Competitor Address List'!$A$6:$M$205,4) -> 12.5 | J49: =VLOOKUP($N48+0.5,'Competitor Address List'!$A$6:$M$205,6) -> 12.5 | K49: =VLOOKUP($N48+0.5,'Competitor Address List'!$A$6:$M$205,7) -> 12.5 | L49: =VLOOKUP($N48+0.5,'Competitor Address List'!$A$6:$M$205,9) -> 12.5 | M49: =VLOOKUP($N48+0.5,'Competitor Address List'!$A$6:$M$205,10) -> 12.5 | O49: =VLOOKUP($N49,'Competitor Address List'!$A$6:$M$65,15) -> #N/A
A50: =RANK(P50,$P$26:$P$225,$Q$24) -> 13 | B50: =AE50 | C50: =AF50 | D50: =AG50 | E50: =AH50 | F50: =AI50 | G50: =AJ50 -> 8 | H50: =VLOOKUP($N50,'Competitor Address List'!$A$6:$M$205,3) -> 13 | I50: =VLOOKUP($N50,'Competitor Address List'!$A$6:$M$205,4) -> 13 | J50: =VLOOKUP($N50,'Competitor Address List'!$A$6:$M$205,6) -> 13 | K50: =VLOOKUP($N50,'Competitor Address List'!$A$6:$M$205,7) -> 13 | L50: =VLOOKUP($N50,'Competitor Address List'!$A$6:$M$205,9) -> 13 | M50: =VLOOKUP($N50,'Competitor Address List'!$A$6:$M$205,10) -> 13 | N50: 13 | O50: =VLOOKUP($N50,'Competitor Address List'!$A$6:$M$205,11) -> 13 | P50: =P48+1 -> 1013 | S50: =IF(VLOOKUP($N50,'Competitor Address List'!$A$6:$M$205,2)=S$25,1,"X") -> X | T50: =IF(VLOOKUP($N50,'Competitor Address List'!$A$6:$M$205,2)=T$25,1,"X") -> X | U50: =IF(VLOOKUP($N50,'Competitor Address List'!$A$6:$M$205,2)=U$25,1,"X") -> X | V50: =IF(OR(VLOOKUP($N50,'Competitor Address List'!$A$6:$M$205,2)=V$25,W50=1),1,"X") -> X | W50: =IF(VLOOKUP($N50,'Competitor Address List'!$A$6:$M$205,2)=W$25,1,"X") -> X | X50: =IF(VLOOKUP($N50,'Competitor Address List'!$A$6:$M$205,2)=X$25,1,"X") -> 1 | Y50: =IF(S50="X","-",$P50) -> - | Z50: =IF(T50="X","-",$P50) -> - | AA50: =IF(U50="X","-",$P50) -> - | AB50: =IF(V50="X","-",$P50) -> - | AC50: =IF(W50="X","-",$P50) -> - | AD50: =IF(X50="X","-",$P50) -> 1013 | AE50: =IF(Y50="-"," ",RANK(Y50,Y$26:Y$225,$Q$24)) | AF50: =IF(Z50="-"," ",RANK(Z50,Z$26:Z$225,$Q$24)) | AG50: =IF(AA50="-"," ",RANK(AA50,AA$26:AA$225,$Q$24)) | AH50: =IF(AB50="-"," ",RANK(AB50,AB$26:AB$225,$Q$24)) | AI50: =IF(AC50="-"," ",RANK(AC50,AC$26:AC$225,$Q$24)) | AJ50: =IF(AD50="-"," ",RANK(AD50,AD$26:AD$225,$Q$24)) -> 8
H51: =VLOOKUP($N50+0.5,'Competitor Address List'!$A$6:$M$205,3) -> 13.5 | I51: =VLOOKUP($N50+0.5,'Competitor Address List'!$A$6:$M$205,4) -> 13.5 | J51: =VLOOKUP($N50+0.5,'Competitor Address List'!$A$6:$M$205,6) -> 13.5 | K51: =VLOOKUP($N50+0.5,'Competitor Address List'!$A$6:$M$205,7) -> 13.5 | L51: =VLOOKUP($N50+0.5,'Competitor Address List'!$A$6:$M$205,9) -> 13.5 | M51: =VLOOKUP($N50+0.5,'Competitor Address List'!$A$6:$M$205,10) -> 13.5 | O51: =VLOOKUP($N51,'Competitor Address List'!$A$6:$M$65,15) -> #N/A
A52: =RANK(P52,$P$26:$P$225,$Q$24) -> 14 | B52: =AE52 | C52: =AF52 | D52: =AG52 | E52: =AH52 | F52: =AI52 | G52: =AJ52 -> 9 | H52: =VLOOKUP($N52,'Competitor Address List'!$A$6:$M$205,3) -> 14 | I52: =VLOOKUP($N52,'Competitor Address List'!$A$6:$M$205,4) -> 14 | J52: =VLOOKUP($N52,'Competitor Address List'!$A$6:$M$205,6) -> 14 | K52: =VLOOKUP($N52,'Competitor Address List'!$A$6:$M$205,7) -> 14 | L52: =VLOOKUP($N52,'Competitor Address List'!$A$6:$M$205,9) -> 14 | M52: =VLOOKUP($N52,'Competitor Address List'!$A$6:$M$205,10) -> 14 | N52: 14 | O52: =VLOOKUP($N52,'Competitor Address List'!$A$6:$M$205,11) -> 14 | P52: =P50+1 -> 1014 | S52: =IF(VLOOKUP($N52,'Competitor Address List'!$A$6:$M$205,2)=S$25,1,"X") -> X | T52: =IF(VLOOKUP($N52,'Competitor Address List'!$A$6:$M$205,2)=T$25,1,"X") -> X | U52: =IF(VLOOKUP($N52,'Competitor Address List'!$A$6:$M$205,2)=U$25,1,"X") -> X | V52: =IF(OR(VLOOKUP($N52,'Competitor Address List'!$A$6:$M$205,2)=V$25,W52=1),1,"X") -> X | W52: =IF(VLOOKUP($N52,'Competitor Address List'!$A$6:$M$205,2)=W$25,1,"X") -> X | X52: =IF(VLOOKUP($N52,'Competitor Address List'!$A$6:$M$205,2)=X$25,1,"X") -> 1 | Y52: =IF(S52="X","-",$P52) -> - | Z52: =IF(T52="X","-",$P52) -> - | AA52: =IF(U52="X","-",$P52) -> - | AB52: =IF(V52="X","-",$P52) -> - | AC52: =IF(W52="X","-",$P52) -> - | AD52: =IF(X52="X","-",$P52) -> 1014 | AE52: =IF(Y52="-"," ",RANK(Y52,Y$26:Y$225,$Q$24)) | AF52: =IF(Z52="-"," ",RANK(Z52,Z$26:Z$225,$Q$24)) | AG52: =IF(AA52="-"," ",RANK(AA52,AA$26:AA$225,$Q$24)) | AH52: =IF(AB52="-"," ",RANK(AB52,AB$26:AB$225,$Q$24)) | AI52: =IF(AC52="-"," ",RANK(AC52,AC$26:AC$225,$Q$24)) | AJ52: =IF(AD52="-"," ",RANK(AD52,AD$26:AD$225,$Q$24)) -> 9
H53: =VLOOKUP($N52+0.5,'Competitor Address List'!$A$6:$M$205,3) -> 14.5 | I53: =VLOOKUP($N52+0.5,'Competitor Address List'!$A$6:$M$205,4) -> 14.5 | J53: =VLOOKUP($N52+0.5,'Competitor Address List'!$A$6:$M$205,6) -> 14.5 | K53: =VLOOKUP($N52+0.5,'Competitor Address List'!$A$6:$M$205,7) -> 14.5 | L53: =VLOOKUP($N52+0.5,'Competitor Address List'!$A$6:$M$205,9) -> 14.5 | M53: =VLOOKUP($N52+0.5,'Competitor Address List'!$A$6:$M$205,10) -> 14.5 | O53: =VLOOKUP($N53,'Competitor Address List'!$A$6:$M$65,15) -> #N/A
A54: =RANK(P54,$P$26:$P$225,$Q$24) -> 15 | B54: =AE54 | C54: =AF54 | D54: =AG54 | E54: =AH54 | F54: =AI54 | G54: =AJ54 -> 10 | H54: =VLOOKUP($N54,'Competitor Address List'!$A$6:$M$205,3) -> 15 | I54: =VLOOKUP($N54,'Competitor Address List'!$A$6:$M$205,4) -> 15 | J54: =VLOOKUP($N54,'Competitor Address List'!$A$6:$M$205,6) -> 15 | K54: =VLOOKUP($N54,'Competitor Address List'!$A$6:$M$205,7) -> 15 | L54: =VLOOKUP($N54,'Competitor Address List'!$A$6:$M$205,9) -> 15 | M54: =VLOOKUP($N54,'Competitor Address List'!$A$6:$M$205,10) -> 15 | N54: 15 | O54: =VLOOKUP($N54,'Competitor Address List'!$A$6:$M$205,11) -> 15 | P54: =P52+1 -> 1015 | S54: =IF(VLOOKUP($N54,'Competitor Address List'!$A$6:$M$205,2)=S$25,1,"X") -> X | T54: =IF(VLOOKUP($N54,'Competitor Address List'!$A$6:$M$205,2)=T$25,1,"X") -> X | U54: =IF(VLOOKUP($N54,'Competitor Address List'!$A$6:$M$205,2)=U$25,1,"X") -> X | V54: =IF(OR(VLOOKUP($N54,'Competitor Address List'!$A$6:$M$205,2)=V$25,W54=1),1,"X") -> X | W54: =IF(VLOOKUP($N54,'Competitor Address List'!$A$6:$M$205,2)=W$25,1,"X") -> X | X54: =IF(VLOOKUP($N54,'Competitor Address List'!$A$6:$M$205,2)=X$25,1,"X") -> 1 | Y54: =IF(S54="X","-",$P54) -> - | Z54: =IF(T54="X","-",$P54) -> - | AA54: =IF(U54="X","-",$P54) -> - | AB54: =IF(V54="X","-",$P54) -> - | AC54: =IF(W54="X","-",$P54) -> - | AD54: =IF(X54="X","-",$P54) -> 1015 | AE54: =IF(Y54="-"," ",RANK(Y54,Y$26:Y$225,$Q$24)) | AF54: =IF(Z54="-"," ",RANK(Z54,Z$26:Z$225,$Q$24)) | AG54: =IF(AA54="-"," ",RANK(AA54,AA$26:AA$225,$Q$24)) | AH54: =IF(AB54="-"," ",RANK(AB54,AB$26:AB$225,$Q$24)) | AI54: =IF(AC54="-"," ",RANK(AC54,AC$26:AC$225,$Q$24)) | AJ54: =IF(AD54="-"," ",RANK(AD54,AD$26:AD$225,$Q$24)) -> 10
H55: =VLOOKUP($N54+0.5,'Competitor Address List'!$A$6:$M$205,3) -> 15.5 | I55: =VLOOKUP($N54+0.5,'Competitor Address List'!$A$6:$M$205,4) -> 15.5 | J55: =VLOOKUP($N54+0.5,'Competitor Address List'!$A$6:$M$205,6) -> 15.5 | K55: =VLOOKUP($N54+0.5,'Competitor Address List'!$A$6:$M$205,7) -> 15.5 | L55: =VLOOKUP($N54+0.5,'Competitor Address List'!$A$6:$M$205,9) -> 15.5 | M55: =VLOOKUP($N54+0.5,'Competitor Address List'!$A$6:$M$205,10) -> 15.5 | O55: =VLOOKUP($N55,'Competitor Address List'!$A$6:$M$65,15) -> #N/A
A56: =RANK(P56,$P$26:$P$225,$Q$24) -> 16 | B56: =AE56 | C56: =AF56 | D56: =AG56 | E56: =AH56 | F56: =AI56 | G56: =AJ56 -> 11 | H56: =VLOOKUP($N56,'Competitor Address List'!$A$6:$M$205,3) -> 16 | I56: =VLOOKUP($N56,'Competitor Address List'!$A$6:$M$205,4) -> 16 | J56: =VLOOKUP($N56,'Competitor Address List'!$A$6:$M$205,6) -> 16 | K56: =VLOOKUP($N56,'Competitor Address List'!$A$6:$M$205,7) -> 16 | L56: =VLOOKUP($N56,'Competitor Address List'!$A$6:$M$205,9) -> 16 | M56: =VLOOKUP($N56,'Competitor Address List'!$A$6:$M$205,10) -> 16 | N56: 16 | O56: =VLOOKUP($N56,'Competitor Address List'!$A$6:$M$205,11) -> 16 | P56: =P54+1 -> 1016 | S56: =IF(VLOOKUP($N56,'Competitor Address List'!$A$6:$M$205,2)=S$25,1,"X") -> X | T56: =IF(VLOOKUP($N56,'Competitor Address List'!$A$6:$M$205,2)=T$25,1,"X") -> X | U56: =IF(VLOOKUP($N56,'Competitor Address List'!$A$6:$M$205,2)=U$25,1,"X") -> X | V56: =IF(OR(VLOOKUP($N56,'Competitor Address List'!$A$6:$M$205,2)=V$25,W56=1),1,"X") -> X | W56: =IF(VLOOKUP($N56,'Competitor Address List'!$A$6:$M$205,2)=W$25,1,"X") -> X | X56: =IF(VLOOKUP($N56,'Competitor Address List'!$A$6:$M$205,2)=X$25,1,"X") -> 1 | Y56: =IF(S56="X","-",$P56) -> - | Z56: =IF(T56="X","-",$P56) -> - | AA56: =IF(U56="X","-",$P56) -> - | AB56: =IF(V56="X","-",$P56) -> - | AC56: =IF(W56="X","-",$P56) -> - | AD56: =IF(X56="X","-",$P56) -> 1016 | AE56: =IF(Y56="-"," ",RANK(Y56,Y$26:Y$225,$Q$24)) | AF56: =IF(Z56="-"," ",RANK(Z56,Z$26:Z$225,$Q$24)) | AG56: =IF(AA56="-"," ",RANK(AA56,AA$26:AA$225,$Q$24)) | AH56: =IF(AB56="-"," ",RANK(AB56,AB$26:AB$225,$Q$24)) | AI56: =IF(AC56="-"," ",RANK(AC56,AC$26:AC$225,$Q$24)) | AJ56: =IF(AD56="-"," ",RANK(AD56,AD$26:AD$225,$Q$24)) -> 11
H57: =VLOOKUP($N56+0.5,'Competitor Address List'!$A$6:$M$205,3) -> 16.5 | I57: =VLOOKUP($N56+0.5,'Competitor Address List'!$A$6:$M$205,4) -> 16.5 | J57: =VLOOKUP($N56+0.5,'Competitor Address List'!$A$6:$M$205,6) -> 16.5 | K57: =VLOOKUP($N56+0.5,'Competitor Address List'!$A$6:$M$205,7) -> 16.5 | L57: =VLOOKUP($N56+0.5,'Competitor Address List'!$A$6:$M$205,9) -> 16.5 | M57: =VLOOKUP($N56+0.5,'Competitor Address List'!$A$6:$M$205,10) -> 16.5 | O57: =VLOOKUP($N57,'Competitor Address List'!$A$6:$M$65,15) -> #N/A
A58: =RANK(P58,$P$26:$P$225,$Q$24) -> 17 | B58: =AE58 | C58: =AF58 | D58: =AG58 | E58: =AH58 | F58: =AI58 | G58: =AJ58 -> 12 | H58: =VLOOKUP($N58,'Competitor Address List'!$A$6:$M$205,3) -> 17 | I58: =VLOOKUP($N58,'Competitor Address List'!$A$6:$M$205,4) -> 17 | J58: =VLOOKUP($N58,'Competitor Address List'!$A$6:$M$205,6) -> 17 | K58: =VLOOKUP($N58,'Competitor Address List'!$A$6:$M$205,7) -> 17 | L58: =VLOOKUP($N58,'Competitor Address List'!$A$6:$M$205,9) -> 17 | M58: =VLOOKUP($N58,'Competitor Address List'!$A$6:$M$205,10) -> 17 | N58: 17 | O58: =VLOOKUP($N58,'Competitor Address List'!$A$6:$M$205,11) -> 17 | P58: =P56+1 -> 1017 | S58: =IF(VLOOKUP($N58,'Competitor Address List'!$A$6:$M$205,2)=S$25,1,"X") -> X | T58: =IF(VLOOKUP($N58,'Competitor Address List'!$A$6:$M$205,2)=T$25,1,"X") -> X | U58: =IF(VLOOKUP($N58,'Competitor Address List'!$A$6:$M$205,2)=U$25,1,"X") -> X | V58: =IF(OR(VLOOKUP($N58,'Competitor Address List'!$A$6:$M$205,2)=V$25,W58=1),1,"X") -> X | W58: =IF(VLOOKUP($N58,'Competitor Address List'!$A$6:$M$205,2)=W$25,1,"X") -> X | X58: =IF(VLOOKUP($N58,'Competitor Address List'!$A$6:$M$205,2)=X$25,1,"X") -> 1 | Y58: =IF(S58="X","-",$P58) -> - | Z58: =IF(T58="X","-",$P58) -> - | AA58: =IF(U58="X","-",$P58) -> - | AB58: =IF(V58="X","-",$P58) -> - | AC58: =IF(W58="X","-",$P58) -> - | AD58: =IF(X58="X","-",$P58) -> 1017 | AE58: =IF(Y58="-"," ",RANK(Y58,Y$26:Y$225,$Q$24)) | AF58: =IF(Z58="-"," ",RANK(Z58,Z$26:Z$225,$Q$24)) | AG58: =IF(AA58="-"," ",RANK(AA58,AA$26:AA$225,$Q$24)) | AH58: =IF(AB58="-"," ",RANK(AB58,AB$26:AB$225,$Q$24)) | AI58: =IF(AC58="-"," ",RANK(AC58,AC$26:AC$225,$Q$24)) | AJ58: =IF(AD58="-"," ",RANK(AD58,AD$26:AD$225,$Q$24)) -> 12
H59: =VLOOKUP($N58+0.5,'Competitor Address List'!$A$6:$M$205,3) -> 17.5 | I59: =VLOOKUP($N58+0.5,'Competitor Address List'!$A$6:$M$205,4) -> 17.5 | J59: =VLOOKUP($N58+0.5,'Competitor Address List'!$A$6:$M$205,6) -> 17.5 | K59: =VLOOKUP($N58+0.5,'Competitor Address List'!$A$6:$M$205,7) -> 17.5 | L59: =VLOOKUP($N58+0.5,'Competitor Address List'!$A$6:$M$205,9) -> 17.5 | M59: =VLOOKUP($N58+0.5,'Competitor Address List'!$A$6:$M$205,10) -> 17.5 | O59: =VLOOKUP($N59,'Competitor Address List'!$A$6:$M$65,15) -> #N/A
A60: =RANK(P60,$P$26:$P$225,$Q$24) -> 18 | B60: =AE60 | C60: =AF60 | D60: =AG60 | E60: =AH60 | F60: =AI60 | G60: =AJ60 -> 13 | H60: =VLOOKUP($N60,'Competitor Address List'!$A$6:$M$205,3) -> 18 | I60: =VLOOKUP($N60,'Competitor Address List'!$A$6:$M$205,4) -> 18 | J60: =VLOOKUP($N60,'Competitor Address List'!$A$6:$M$205,6) -> 18 | K60: =VLOOKUP($N60,'Competitor Address List'!$A$6:$M$205,7) -> 18 | L60: =VLOOKUP($N60,'Competitor Address List'!$A$6:$M$205,9) -> 18 | M60: =VLOOKUP($N60,'Competitor Address List'!$A$6:$M$205,10) -> 18 | N60: 18 | O60: =VLOOKUP($N60,'Competitor Address List'!$A$6:$M$205,11) -> 18 | P60: =P58+1 -> 1018 | S60: =IF(VLOOKUP($N60,'Competitor Address List'!$A$6:$M$205,2)=S$25,1,"X") -> X | T60: =IF(VLOOKUP($N60,'Competitor Address List'!$A$6:$M$205,2)=T$25,1,"X") -> X | U60: =IF(VLOOKUP($N60,'Competitor Address List'!$A$6:$M$205,2)=U$25,1,"X") -> X | V60: =IF(OR(VLOOKUP($N60,'Competitor Address List'!$A$6:$M$205,2)=V$25,W60=1),1,"X") -> X | W60: =IF(VLOOKUP($N60,'Competitor Address List'!$A$6:$M$205,2)=W$25,1,"X") -> X | X60: =IF(VLOOKUP($N60,'Competitor Address List'!$A$6:$M$205,2)=X$25,1,"X") -> 1 | Y60: =IF(S60="X","-",$P60) -> - | Z60: =IF(T60="X","-",$P60) -> - | AA60: =IF(U60="X","-",$P60) -> - | AB60: =IF(V60="X","-",$P60) -> - | AC60: =IF(W60="X","-",$P60) -> - | AD60: =IF(X60="X","-",$P60) -> 1018 | AE60: =IF(Y60="-"," ",RANK(Y60,Y$26:Y$225,$Q$24)) | AF60: =IF(Z60="-"," ",RANK(Z60,Z$26:Z$225,$Q$24)) | AG60: =IF(AA60="-"," ",RANK(AA60,AA$26:AA$225,$Q$24)) | AH60: =IF(AB60="-"," ",RANK(AB60,AB$26:AB$225,$Q$24)) | AI60: =IF(AC60="-"," ",RANK(AC60,AC$26:AC$225,$Q$24)) | AJ60: =IF(AD60="-"," ",RANK(AD60,AD$26:AD$225,$Q$24)) -> 13
H61: =VLOOKUP($N60+0.5,'Competitor Address List'!$A$6:$M$205,3) -> 18.5 | I61: =VLOOKUP($N60+0.5,'Competitor Address List'!$A$6:$M$205,4) -> 18.5 | J61: =VLOOKUP($N60+0.5,'Competitor Address List'!$A$6:$M$205,6) -> 18.5 | K61: =VLOOKUP($N60+0.5,'Competitor Address List'!$A$6:$M$205,7) -> 18.5 | L61: =VLOOKUP($N60+0.5,'Competitor Address List'!$A$6:$M$205,9) -> 18.5 | M61: =VLOOKUP($N60+0.5,'Competitor Address List'!$A$6:$M$205,10) -> 18.5 | O61: =VLOOKUP($N61,'Competitor Address List'!$A$6:$M$65,15) -> #N/A
A62: =RANK(P62,$P$26:$P$225,$Q$24) -> 19 | B62: =AE62 | C62: =AF62 | D62: =AG62 | E62: =AH62 | F62: =AI62 | G62: =AJ62 -> 14 | H62: =VLOOKUP($N62,'Competitor Address List'!$A$6:$M$205,3) -> 19 | I62: =VLOOKUP($N62,'Competitor Address List'!$A$6:$M$205,4) -> 19 | J62: =VLOOKUP($N62,'Competitor Address List'!$A$6:$M$205,6) -> 19 | K62: =VLOOKUP($N62,'Competitor Address List'!$A$6:$M$205,7) -> 19 | L62: =VLOOKUP($N62,'Competitor Address List'!$A$6:$M$205,9) -> 19 | M62: =VLOOKUP($N62,'Competitor Address List'!$A$6:$M$205,10) -> 19 | N62: 19 | O62: =VLOOKUP($N62,'Competitor Address List'!$A$6:$M$205,11) -> 19 | P62: =P60+1 -> 1019 | S62: =IF(VLOOKUP($N62,'Competitor Address List'!$A$6:$M$205,2)=S$25,1,"X") -> X | T62: =IF(VLOOKUP($N62,'Competitor Address List'!$A$6:$M$205,2)=T$25,1,"X") -> X | U62: =IF(VLOOKUP($N62,'Competitor Address List'!$A$6:$M$205,2)=U$25,1,"X") -> X | V62: =IF(OR(VLOOKUP($N62,'Competitor Address List'!$A$6:$M$205,2)=V$25,W62=1),1,"X") -> X | W62: =IF(VLOOKUP($N62,'Competitor Address List'!$A$6:$M$205,2)=W$25,1,"X") -> X | X62: =IF(VLOOKUP($N62,'Competitor Address List'!$A$6:$M$205,2)=X$25,1,"X") -> 1 | Y62: =IF(S62="X","-",$P62) -> - | Z62: =IF(T62="X","-",$P62) -> - | AA62: =IF(U62="X","-",$P62) -> - | AB62: =IF(V62="X","-",$P62) -> - | AC62: =IF(W62="X","-",$P62) -> - | AD62: =IF(X62="X","-",$P62) -> 1019 | AE62: =IF(Y62="-"," ",RANK(Y62,Y$26:Y$225,$Q$24)) | AF62: =IF(Z62="-"," ",RANK(Z62,Z$26:Z$225,$Q$24)) | AG62: =IF(AA62="-"," ",RANK(AA62,AA$26:AA$225,$Q$24)) | AH62: =IF(AB62="-"," ",RANK(AB62,AB$26:AB$225,$Q$24)) | AI62: =IF(AC62="-"," ",RANK(AC62,AC$26:AC$225,$Q$24)) | AJ62: =IF(AD62="-"," ",RANK(AD62,AD$26:AD$225,$Q$24)) -> 14
H63: =VLOOKUP($N62+0.5,'Competitor Address List'!$A$6:$M$205,3) -> 19.5 | I63: =VLOOKUP($N62+0.5,'Competitor Address List'!$A$6:$M$205,4) -> 19.5 | J63: =VLOOKUP($N62+0.5,'Competitor Address List'!$A$6:$M$205,6) -> 19.5 | K63: =VLOOKUP($N62+0.5,'Competitor Address List'!$A$6:$M$205,7) -> 19.5 | L63: =VLOOKUP($N62+0.5,'Competitor Address List'!$A$6:$M$205,9) -> 19.5 | M63: =VLOOKUP($N62+0.5,'Competitor Address List'!$A$6:$M$205,10) -> 19.5 | O63: =VLOOKUP($N63,'Competitor Address List'!$A$6:$M$65,15) -> #N/A
A64: =RANK(P64,$P$26:$P$225,$Q$24) -> 20 | B64: =AE64 | C64: =AF64 | D64: =AG64 | E64: =AH64 | F64: =AI64 | G64: =AJ64 -> 15 | H64: =VLOOKUP($N64,'Competitor Address List'!$A$6:$M$205,3) -> 20 | I64: =VLOOKUP($N64,'Competitor Address List'!$A$6:$M$205,4) -> 20 | J64: =VLOOKUP($N64,'Competitor Address List'!$A$6:$M$205,6) -> 20 | K64: =VLOOKUP($N64,'Competitor Address List'!$A$6:$M$205,7) -> 20 | L64: =VLOOKUP($N64,'Competitor Address List'!$A$6:$M$205,9) -> 20 | M64: =VLOOKUP($N64,'Competitor Address List'!$A$6:$M$205,10) -> 20 | N64: 20 | O64: =VLOOKUP($N64,'Competitor Address List'!$A$6:$M$205,11) -> 20 | P64: =P62+1 -> 1020 | S64: =IF(VLOOKUP($N64,'Competitor Address List'!$A$6:$M$205,2)=S$25,1,"X") -> X | T64: =IF(VLOOKUP($N64,'Competitor Address List'!$A$6:$M$205,2)=T$25,1,"X") -> X | U64: =IF(VLOOKUP($N64,'Competitor Address List'!$A$6:$M$205,2)=U$25,1,"X") -> X | V64: =IF(OR(VLOOKUP($N64,'Competitor Address List'!$A$6:$M$205,2)=V$25,W64=1),1,"X") -> X | W64: =IF(VLOOKUP($N64,'Competitor Address List'!$A$6:$M$205,2)=W$25,1,"X") -> X | X64: =IF(VLOOKUP($N64,'Competitor Address List'!$A$6:$M$205,2)=X$25,1,"X") -> 1 | Y64: =IF(S64="X","-",$P64) -> - | Z64: =IF(T64="X","-",$P64) -> - | AA64: =IF(U64="X","-",$P64) -> - | AB64: =IF(V64="X","-",$P64) -> - | AC64: =IF(W64="X","-",$P64) -> - | AD64: =IF(X64="X","-",$P64) -> 1020 | AE64: =IF(Y64="-"," ",RANK(Y64,Y$26:Y$225,$Q$24)) | AF64: =IF(Z64="-"," ",RANK(Z64,Z$26:Z$225,$Q$24)) | AG64: =IF(AA64="-"," ",RANK(AA64,AA$26:AA$225,$Q$24)) | AH64: =IF(AB64="-"," ",RANK(AB64,AB$26:AB$225,$Q$24)) | AI64: =IF(AC64="-"," ",RANK(AC64,AC$26:AC$225,$Q$24)) | AJ64: =IF(AD64="-"," ",RANK(AD64,AD$26:AD$225,$Q$24)) -> 15
H65: =VLOOKUP($N64+0.5,'Competitor Address List'!$A$6:$M$205,3) -> 20.5 | I65: =VLOOKUP($N64+0.5,'Competitor Address List'!$A$6:$M$205,4) -> 20.5 | J65: =VLOOKUP($N64+0.5,'Competitor Address List'!$A$6:$M$205,6) -> 20.5 | K65: =VLOOKUP($N64+0.5,'Competitor Address List'!$A$6:$M$205,7) -> 20.5 | L65: =VLOOKUP($N64+0.5,'Competitor Address List'!$A$6:$M$205,9) -> 20.5 | M65: =VLOOKUP($N64+0.5,'Competitor Address List'!$A$6:$M$205,10) -> 20.5 | O65: =VLOOKUP($N65,'Competitor Address List'!$A$6:$M$65,15) -> #N/A
A66: =RANK(P66,$P$26:$P$225,$Q$24) -> 21 | B66: =AE66 | C66: =AF66 | D66: =AG66 | E66: =AH66 | F66: =AI66 | G66: =AJ66 -> 16 | H66: =VLOOKUP($N66,'Competitor Address List'!$A$6:$M$205,3) -> 21 | I66: =VLOOKUP($N66,'Competitor Address List'!$A$6:$M$205,4) -> 21 | J66: =VLOOKUP($N66,'Competitor Address List'!$A$6:$M$205,6) -> 21 | K66: =VLOOKUP($N66,'Competitor Address List'!$A$6:$M$205,7) -> 21 | L66: =VLOOKUP($N66,'Competitor Address List'!$A$6:$M$205,9) -> 21 | M66: =VLOOKUP($N66,'Competitor Address List'!$A$6:$M$205,10) -> 21 | N66: 21 | O66: =VLOOKUP($N66,'Competitor Address List'!$A$6:$M$205,11) -> 21 | P66: =P64+1 -> 1021 | S66: =IF(VLOOKUP($N66,'Competitor Address List'!$A$6:$M$205,2)=S$25,1,"X") -> X | T66: =IF(VLOOKUP($N66,'Competitor Address List'!$A$6:$M$205,2)=T$25,1,"X") -> X | U66: =IF(VLOOKUP($N66,'Competitor Address List'!$A$6:$M$205,2)=U$25,1,"X") -> X | V66: =IF(OR(VLOOKUP($N66,'Competitor Address List'!$A$6:$M$205,2)=V$25,W66=1),1,"X") -> X | W66: =IF(VLOOKUP($N66,'Competitor Address List'!$A$6:$M$205,2)=W$25,1,"X") -> X | X66: =IF(VLOOKUP($N66,'Competitor Address List'!$A$6:$M$205,2)=X$25,1,"X") -> 1 | Y66: =IF(S66="X","-",$P66) -> - | Z66: =IF(T66="X","-",$P66) -> - | AA66: =IF(U66="X","-",$P66) -> - | AB66: =IF(V66="X","-",$P66) -> - | AC66: =IF(W66="X","-",$P66) -> - | AD66: =IF(X66="X","-",$P66) -> 1021 | AE66: =IF(Y66="-"," ",RANK(Y66,Y$26:Y$225,$Q$24)) | AF66: =IF(Z66="-"," ",RANK(Z66,Z$26:Z$225,$Q$24)) | AG66: =IF(AA66="-"," ",RANK(AA66,AA$26:AA$225,$Q$24)) | AH66: =IF(AB66="-"," ",RANK(AB66,AB$26:AB$225,$Q$24)) | AI66: =IF(AC66="-"," ",RANK(AC66,AC$26:AC$225,$Q$24)) | AJ66: =IF(AD66="-"," ",RANK(AD66,AD$26:AD$225,$Q$24)) -> 16
H67: =VLOOKUP($N66+0.5,'Competitor Address List'!$A$6:$M$205,3) -> 21.5 | I67: =VLOOKUP($N66+0.5,'Competitor Address List'!$A$6:$M$205,4) -> 21.5 | J67: =VLOOKUP($N66+0.5,'Competitor Address List'!$A$6:$M$205,6) -> 21.5 | K67: =VLOOKUP($N66+0.5,'Competitor Address List'!$A$6:$M$205,7) -> 21.5 | L67: =VLOOKUP($N66+0.5,'Competitor Address List'!$A$6:$M$205,9) -> 21.5 | M67: =VLOOKUP($N66+0.5,'Competitor Address List'!$A$6:$M$205,10) -> 21.5 | O67: =VLOOKUP($N67,'Competitor Address List'!$A$6:$M$65,15) -> #N/A
A68: =RANK(P68,$P$26:$P$225,$Q$24) -> 22 | B68: =AE68 | C68: =AF68 | D68: =AG68 | E68: =AH68 | F68: =AI68 | G68: =AJ68 -> 17 | H68: =VLOOKUP($N68,'Competitor Address List'!$A$6:$M$205,3) -> 22 | I68: =VLOOKUP($N68,'Competitor Address List'!$A$6:$M$205,4) -> 22 | J68: =VLOOKUP($N68,'Competitor Address List'!$A$6:$M$205,6) -> 22 | K68: =VLOOKUP($N68,'Competitor Address List'!$A$6:$M$205,7) -> 22 | L68: =VLOOKUP($N68,'Competitor Address List'!$A$6:$M$205,9) -> 22 | M68: =VLOOKUP($N68,'Competitor Address List'!$A$6:$M$205,10) -> 22 | N68: 22 | O68: =VLOOKUP($N68,'Competitor Address List'!$A$6:$M$205,11) -> 22 | P68: =P66+1 -> 1022 | S68: =IF(VLOOKUP($N68,'Competitor Address List'!$A$6:$M$205,2)=S$25,1,"X") -> X | T68: =IF(VLOOKUP($N68,'Competitor Address List'!$A$6:$M$205,2)=T$25,1,"X") -> X | U68: =IF(VLOOKUP($N68,'Competitor Address List'!$A$6:$M$205,2)=U$25,1,"X") -> X | V68: =IF(OR(VLOOKUP($N68,'Competitor Address List'!$A$6:$M$205,2)=V$25,W68=1),1,"X") -> X | W68: =IF(VLOOKUP($N68,'Competitor Address List'!$A$6:$M$205,2)=W$25,1,"X") -> X | X68: =IF(VLOOKUP($N68,'Competitor Address List'!$A$6:$M$205,2)=X$25,1,"X") -> 1 | Y68: =IF(S68="X","-",$P68) -> - | Z68: =IF(T68="X","-",$P68) -> - | AA68: =IF(U68="X","-",$P68) -> - | AB68: =IF(V68="X","-",$P68) -> - | AC68: =IF(W68="X","-",$P68) -> - | AD68: =IF(X68="X","-",$P68) -> 1022 | AE68: =IF(Y68="-"," ",RANK(Y68,Y$26:Y$225,$Q$24)) | AF68: =IF(Z68="-"," ",RANK(Z68,Z$26:Z$225,$Q$24)) | AG68: =IF(AA68="-"," ",RANK(AA68,AA$26:AA$225,$Q$24)) | AH68: =IF(AB68="-"," ",RANK(AB68,AB$26:AB$225,$Q$24)) | AI68: =IF(AC68="-"," ",RANK(AC68,AC$26:AC$225,$Q$24)) | AJ68: =IF(AD68="-"," ",RANK(AD68,AD$26:AD$225,$Q$24)) -> 17
H69: =VLOOKUP($N68+0.5,'Competitor Address List'!$A$6:$M$205,3) -> 22.5 | I69: =VLOOKUP($N68+0.5,'Competitor Address List'!$A$6:$M$205,4) -> 22.5 | J69: =VLOOKUP($N68+0.5,'Competitor Address List'!$A$6:$M$205,6) -> 22.5 | K69: =VLOOKUP($N68+0.5,'Competitor Address List'!$A$6:$M$205,7) -> 22.5 | L69: =VLOOKUP($N68+0.5,'Competitor Address List'!$A$6:$M$205,9) -> 22.5 | M69: =VLOOKUP($N68+0.5,'Competitor Address List'!$A$6:$M$205,10) -> 22.5 | O69: =VLOOKUP($N69,'Competitor Address List'!$A$6:$M$65,15) -> #N/A
A70: =RANK(P70,$P$26:$P$225,$Q$24) -> 23 | B70: =AE70 | C70: =AF70 | D70: =AG70 | E70: =AH70 | F70: =AI70 | G70: =AJ70 -> 18 | H70: =VLOOKUP($N70,'Competitor Address List'!$A$6:$M$205,3) -> 23 | I70: =VLOOKUP($N70,'Competitor Address List'!$A$6:$M$205,4) -> 23 | J70: =VLOOKUP($N70,'Competitor Address List'!$A$6:$M$205,6) -> 23 | K70: =VLOOKUP($N70,'Competitor Address List'!$A$6:$M$205,7) -> 23 | L70: =VLOOKUP($N70,'Competitor Address List'!$A$6:$M$205,9) -> 23 | M70: =VLOOKUP($N70,'Competitor Address List'!$A$6:$M$205,10) -> 23 | N70: 23 | O70: =VLOOKUP($N70,'Competitor Address List'!$A$6:$M$205,11) -> 23 | P70: =P68+1 -> 1023 | S70: =IF(VLOOKUP($N70,'Competitor Address List'!$A$6:$M$205,2)=S$25,1,"X") -> X | T70: =IF(VLOOKUP($N70,'Competitor Address List'!$A$6:$M$205,2)=T$25,1,"X") -> X | U70: =IF(VLOOKUP($N70,'Competitor Address List'!$A$6:$M$205,2)=U$25,1,"X") -> X | V70: =IF(OR(VLOOKUP($N70,'Competitor Address List'!$A$6:$M$205,2)=V$25,W70=1),1,"X") -> X | W70: =IF(VLOOKUP($N70,'Competitor Address List'!$A$6:$M$205,2)=W$25,1,"X") -> X | X70: =IF(VLOOKUP($N70,'Competitor Address List'!$A$6:$M$205,2)=X$25,1,"X") -> 1 | Y70: =IF(S70="X","-",$P70) -> - | Z70: =IF(T70="X","-",$P70) -> - | AA70: =IF(U70="X","-",$P70) -> - | AB70: =IF(V70="X","-",$P70) -> - | AC70: =IF(W70="X","-",$P70) -> - | AD70: =IF(X70="X","-",$P70) -> 1023 | AE70: =IF(Y70="-"," ",RANK(Y70,Y$26:Y$225,$Q$24)) | AF70: =IF(Z70="-"," ",RANK(Z70,Z$26:Z$225,$Q$24)) | AG70: =IF(AA70="-"," ",RANK(AA70,AA$26:AA$225,$Q$24)) | AH70: =IF(AB70="-"," ",RANK(AB70,AB$26:AB$225,$Q$24)) | AI70: =IF(AC70="-"," ",RANK(AC70,AC$26:AC$225,$Q$24)) | AJ70: =IF(AD70="-"," ",RANK(AD70,AD$26:AD$225,$Q$24)) -> 18
H71: =VLOOKUP($N70+0.5,'Competitor Address List'!$A$6:$M$205,3) -> 23.5 | I71: =VLOOKUP($N70+0.5,'Competitor Address List'!$A$6:$M$205,4) -> 23.5 | J71: =VLOOKUP($N70+0.5,'Competitor Address List'!$A$6:$M$205,6) -> 23.5 | K71: =VLOOKUP($N70+0.5,'Competitor Address List'!$A$6:$M$205,7) -> 23.5 | L71: =VLOOKUP($N70+0.5,'Competitor Address List'!$A$6:$M$205,9) -> 23.5 | M71: =VLOOKUP($N70+0.5,'Competitor Address List'!$A$6:$M$205,10) -> 23.5 | O71: =VLOOKUP($N71,'Competitor Address List'!$A$6:$M$65,15) -> #N/A
A72: =RANK(P72,$P$26:$P$225,$Q$24) -> 24 | B72: =AE72 | C72: =AF72 | D72: =AG72 | E72: =AH72 | F72: =AI72 | G72: =AJ72 -> 19 | H72: =VLOOKUP($N72,'Competitor Address List'!$A$6:$M$205,3) -> 24 | I72: =VLOOKUP($N72,'Competitor Address List'!$A$6:$M$205,4) -> 24 | J72: =VLOOKUP($N72,'Competitor Address List'!$A$6:$M$205,6) -> 24 | K72: =VLOOKUP($N72,'Competitor Address List'!$A$6:$M$205,7) -> 24 | L72: =VLOOKUP($N72,'Competitor Address List'!$A$6:$M$205,9) -> 24 | M72: =VLOOKUP($N72,'Competitor Address List'!$A$6:$M$205,10) -> 24 | N72: 24 | O72: =VLOOKUP($N72,'Competitor Address List'!$A$6:$M$205,11) -> 24 | P72: =P70+1 -> 1024 | S72: =IF(VLOOKUP($N72,'Competitor Address List'!$A$6:$M$205,2)=S$25,1,"X") -> X | T72: =IF(VLOOKUP($N72,'Competitor Address List'!$A$6:$M$205,2)=T$25,1,"X") -> X | U72: =IF(VLOOKUP($N72,'Competitor Address List'!$A$6:$M$205,2)=U$25,1,"X") -> X | V72: =IF(OR(VLOOKUP($N72,'Competitor Address List'!$A$6:$M$205,2)=V$25,W72=1),1,"X") -> X | W72: =IF(VLOOKUP($N72,'Competitor Address List'!$A$6:$M$205,2)=W$25,1,"X") -> X | X72: =IF(VLOOKUP($N72,'Competitor Address List'!$A$6:$M$205,2)=X$25,1,"X") -> 1 | Y72: =IF(S72="X","-",$P72) -> - | Z72: =IF(T72="X","-",$P72) -> - | AA72: =IF(U72="X","-",$P72) -> - | AB72: =IF(V72="X","-",$P72) -> - | AC72: =IF(W72="X","-",$P72) -> - | AD72: =IF(X72="X","-",$P72) -> 1024 | AE72: =IF(Y72="-"," ",RANK(Y72,Y$26:Y$225,$Q$24)) | AF72: =IF(Z72="-"," ",RANK(Z72,Z$26:Z$225,$Q$24)) | AG72: =IF(AA72="-"," ",RANK(AA72,AA$26:AA$225,$Q$24)) | AH72: =IF(AB72="-"," ",RANK(AB72,AB$26:AB$225,$Q$24)) | AI72: =IF(AC72="-"," ",RANK(AC72,AC$26:AC$225,$Q$24)) | AJ72: =IF(AD72="-"," ",RANK(AD72,AD$26:AD$225,$Q$24)) -> 19
H73: =VLOOKUP($N72+0.5,'Competitor Address List'!$A$6:$M$205,3) -> 24.5 | I73: =VLOOKUP($N72+0.5,'Competitor Address List'!$A$6:$M$205,4) -> 24.5 | J73: =VLOOKUP($N72+0.5,'Competitor Address List'!$A$6:$M$205,6) -> 24.5 | K73: =VLOOKUP($N72+0.5,'Competitor Address List'!$A$6:$M$205,7) -> 24.5 | L73: =VLOOKUP($N72+0.5,'Competitor Address List'!$A$6:$M$205,9) -> 24.5 | M73: =VLOOKUP($N72+0.5,'Competitor Address List'!$A$6:$M$205,10) -> 24.5 | O73: =VLOOKUP($N73,'Competitor Address List'!$A$6:$M$65,15) -> #N/A
A74: =RANK(P74,$P$26:$P$225,$Q$24) -> 25 | B74: =AE74 | C74: =AF74 | D74: =AG74 | E74: =AH74 | F74: =AI74 | G74: =AJ74 -> 20 | H74: =VLOOKUP($N74,'Competitor Address List'!$A$6:$M$205,3) -> 25 | I74: =VLOOKUP($N74,'Competitor Address List'!$A$6:$M$205,4) -> 25 | J74: =VLOOKUP($N74,'Competitor Address List'!$A$6:$M$205,6) -> 25 | K74: =VLOOKUP($N74,'Competitor Address List'!$A$6:$M$205,7) -> 25 | L74: =VLOOKUP($N74,'Competitor Address List'!$A$6:$M$205,9) -> 25 | M74: =VLOOKUP($N74,'Competitor Address List'!$A$6:$M$205,10) -> 25 | N74: 25 | O74: =VLOOKUP($N74,'Competitor Address List'!$A$6:$M$205,11) -> 25 | P74: =P72+1 -> 1025 | S74: =IF(VLOOKUP($N74,'Competitor Address List'!$A$6:$M$205,2)=S$25,1,"X") -> X | T74: =IF(VLOOKUP($N74,'Competitor Address List'!$A$6:$M$205,2)=T$25,1,"X") -> X | U74: =IF(VLOOKUP($N74,'Competitor Address List'!$A$6:$M$205,2)=U$25,1,"X") -> X | V74: =IF(OR(VLOOKUP($N74,'Competitor Address List'!$A$6:$M$205,2)=V$25,W74=1),1,"X") -> X | W74: =IF(VLOOKUP($N74,'Competitor Address List'!$A$6:$M$205,2)=W$25,1,"X") -> X | X74: =IF(VLOOKUP($N74,'Competitor Address List'!$A$6:$M$205,2)=X$25,1,"X") -> 1 | Y74: =IF(S74="X","-",$P74) -> - | Z74: =IF(T74="X","-",$P74) -> - | AA74: =IF(U74="X","-",$P74) -> - | AB74: =IF(V74="X","-",$P74) -> - | AC74: =IF(W74="X","-",$P74) -> - | AD74: =IF(X74="X","-",$P74) -> 1025 | AE74: =IF(Y74="-"," ",RANK(Y74,Y$26:Y$225,$Q$24)) | AF74: =IF(Z74="-"," ",RANK(Z74,Z$26:Z$225,$Q$24)) | AG74: =IF(AA74="-"," ",RANK(AA74,AA$26:AA$225,$Q$24)) | AH74: =IF(AB74="-"," ",RANK(AB74,AB$26:AB$225,$Q$24)) | AI74: =IF(AC74="-"," ",RANK(AC74,AC$26:AC$225,$Q$24)) | AJ74: =IF(AD74="-"," ",RANK(AD74,AD$26:AD$225,$Q$24)) -> 20
H75: =VLOOKUP($N74+0.5,'Competitor Address List'!$A$6:$M$205,3) -> 25.5 | I75: =VLOOKUP($N74+0.5,'Competitor Address List'!$A$6:$M$205,4) -> 25.5 | J75: =VLOOKUP($N74+0.5,'Competitor Address List'!$A$6:$M$205,6) -> 25.5 | K75: =VLOOKUP($N74+0.5,'Competitor Address List'!$A$6:$M$205,7) -> 25.5 | L75: =VLOOKUP($N74+0.5,'Competitor Address List'!$A$6:$M$205,9) -> 25.5 | M75: =VLOOKUP($N74+0.5,'Competitor Address List'!$A$6:$M$205,10) -> 25.5 | O75: =VLOOKUP($N75,'Competitor Address List'!$A$6:$M$65,15) -> #N/A
A76: =RANK(P76,$P$26:$P$225,$Q$24) -> 26 | B76: =AE76 | C76: =AF76 | D76: =AG76 | E76: =AH76 | F76: =AI76 | G76: =AJ76 -> 21 | H76: =VLOOKUP($N76,'Competitor Address List'!$A$6:$M$205,3) -> 26 | I76: =VLOOKUP($N76,'Competitor Address List'!$A$6:$M$205,4) -> 26 | J76: =VLOOKUP($N76,'Competitor Address List'!$A$6:$M$205,6) -> 26 | K76: =VLOOKUP($N76,'Competitor Address List'!$A$6:$M$205,7) -> 26 | L76: =VLOOKUP($N76,'Competitor Address List'!$A$6:$M$205,9) -> 26 | M76: =VLOOKUP($N76,'Competitor Address List'!$A$6:$M$205,10) -> 26 | N76: 26 | O76: =VLOOKUP($N76,'Competitor Address List'!$A$6:$M$205,11) -> 26 | P76: =P74+1 -> 1026 | S76: =IF(VLOOKUP($N76,'Competitor Address List'!$A$6:$M$205,2)=S$25,1,"X") -> X | T76: =IF(VLOOKUP($N76,'Competitor Address List'!$A$6:$M$205,2)=T$25,1,"X") -> X | U76: =IF(VLOOKUP($N76,'Competitor Address List'!$A$6:$M$205,2)=U$25,1,"X") -> X | V76: =IF(OR(VLOOKUP($N76,'Competitor Address List'!$A$6:$M$205,2)=V$25,W76=1),1,"X") -> X | W76: =IF(VLOOKUP($N76,'Competitor Address List'!$A$6:$M$205,2)=W$25,1,"X") -> X | X76: =IF(VLOOKUP($N76,'Competitor Address List'!$A$6:$M$205,2)=X$25,1,"X") -> 1 | Y76: =IF(S76="X","-",$P76) -> - | Z76: =IF(T76="X","-",$P76) -> - | AA76: =IF(U76="X","-",$P76) -> - | AB76: =IF(V76="X","-",$P76) -> - | AC76: =IF(W76="X","-",$P76) -> - | AD76: =IF(X76="X","-",$P76) -> 1026 | AE76: =IF(Y76="-"," ",RANK(Y76,Y$26:Y$225,$Q$24)) | AF76: =IF(Z76="-"," ",RANK(Z76,Z$26:Z$225,$Q$24)) | AG76: =IF(AA76="-"," ",RANK(AA76,AA$26:AA$225,$Q$24)) | AH76: =IF(AB76="-"," ",RANK(AB76,AB$26:AB$225,$Q$24)) | AI76: =IF(AC76="-"," ",RANK(AC76,AC$26:AC$225,$Q$24)) | AJ76: =IF(AD76="-"," ",RANK(AD76,AD$26:AD$225,$Q$24)) -> 21
H77: =VLOOKUP($N76+0.5,'Competitor Address List'!$A$6:$M$205,3) -> 26.5 | I77: =VLOOKUP($N76+0.5,'Competitor Address List'!$A$6:$M$205,4) -> 26.5 | J77: =VLOOKUP($N76+0.5,'Competitor Address List'!$A$6:$M$205,6) -> 26.5 | K77: =VLOOKUP($N76+0.5,'Competitor Address List'!$A$6:$M$205,7) -> 26.5 | L77: =VLOOKUP($N76+0.5,'Competitor Address List'!$A$6:$M$205,9) -> 26.5 | M77: =VLOOKUP($N76+0.5,'Competitor Address List'!$A$6:$M$205,10) -> 26.5 | O77: =VLOOKUP($N77,'Competitor Address List'!$A$6:$M$65,15) -> #N/A
A78: =RANK(P78,$P$26:$P$225,$Q$24) -> 27 | B78: =AE78 | C78: =AF78 | D78: =AG78 | E78: =AH78 | F78: =AI78 | G78: =AJ78 -> 22 | H78: =VLOOKUP($N78,'Competitor Address List'!$A$6:$M$205,3) -> 27 | I78: =VLOOKUP($N78,'Competitor Address List'!$A$6:$M$205,4) -> 27 | J78: =VLOOKUP($N78,'Competitor Address List'!$A$6:$M$205,6) -> 27 | K78: =VLOOKUP($N78,'Competitor Address List'!$A$6:$M$205,7) -> 27 | L78: =VLOOKUP($N78,'Competitor Address List'!$A$6:$M$205,9) -> 27 | M78: =VLOOKUP($N78,'Competitor Address List'!$A$6:$M$205,10) -> 27 | N78: 27 | O78: =VLOOKUP($N78,'Competitor Address List'!$A$6:$M$205,11) -> 27 | P78: =P76+1 -> 1027 | S78: =IF(VLOOKUP($N78,'Competitor Address List'!$A$6:$M$205,2)=S$25,1,"X") -> X | T78: =IF(VLOOKUP($N78,'Competitor Address List'!$A$6:$M$205,2)=T$25,1,"X") -> X | U78: =IF(VLOOKUP($N78,'Competitor Address List'!$A$6:$M$205,2)=U$25,1,"X") -> X | V78: =IF(OR(VLOOKUP($N78,'Competitor Address List'!$A$6:$M$205,2)=V$25,W78=1),1,"X") -> X | W78: =IF(VLOOKUP($N78,'Competitor Address List'!$A$6:$M$205,2)=W$25,1,"X") -> X | X78: =IF(VLOOKUP($N78,'Competitor Address List'!$A$6:$M$205,2)=X$25,1,"X") -> 1 | Y78: =IF(S78="X","-",$P78) -> - | Z78: =IF(T78="X","-",$P78) -> - | AA78: =IF(U78="X","-",$P78) -> - | AB78: =IF(V78="X","-",$P78) -> - | AC78: =IF(W78="X","-",$P78) -> - | AD78: =IF(X78="X","-",$P78) -> 1027 | AE78: =IF(Y78="-"," ",RANK(Y78,Y$26:Y$225,$Q$24)) | AF78: =IF(Z78="-"," ",RANK(Z78,Z$26:Z$225,$Q$24)) | AG78: =IF(AA78="-"," ",RANK(AA78,AA$26:AA$225,$Q$24)) | AH78: =IF(AB78="-"," ",RANK(AB78,AB$26:AB$225,$Q$24)) | AI78: =IF(AC78="-"," ",RANK(AC78,AC$26:AC$225,$Q$24)) | AJ78: =IF(AD78="-"," ",RANK(AD78,AD$26:AD$225,$Q$24)) -> 22
H79: =VLOOKUP($N78+0.5,'Competitor Address List'!$A$6:$M$205,3) -> 27.5 | I79: =VLOOKUP($N78+0.5,'Competitor Address List'!$A$6:$M$205,4) -> 27.5 | J79: =VLOOKUP($N78+0.5,'Competitor Address List'!$A$6:$M$205,6) -> 27.5 | K79: =VLOOKUP($N78+0.5,'Competitor Address List'!$A$6:$M$205,7) -> 27.5 | L79: =VLOOKUP($N78+0.5,'Competitor Address List'!$A$6:$M$205,9) -> 27.5 | M79: =VLOOKUP($N78+0.5,'Competitor Address List'!$A$6:$M$205,10) -> 27.5 | O79: =VLOOKUP($N79,'Competitor Address List'!$A$6:$M$65,15) -> #N/A
A80: =RANK(P80,$P$26:$P$225,$Q$24) -> 28 | B80: =AE80 | C80: =AF80 | D80: =AG80 | E80: =AH80 | F80: =AI80 | G80: =AJ80 -> 23 | H80: =VLOOKUP($N80,'Competitor Address List'!$A$6:$M$205,3) -> 28 | I80: =VLOOKUP($N80,'Competitor Address List'!$A$6:$M$205,4) -> 28 | J80: =VLOOKUP($N80,'Competitor Address List'!$A$6:$M$205,6) -> 28 | K80: =VLOOKUP($N80,'Competitor Address List'!$A$6:$M$205,7) -> 28 | L80: =VLOOKUP($N80,'Competitor Address List'!$A$6:$M$205,9) -> 28 | M80: =VLOOKUP($N80,'Competitor Address List'!$A$6:$M$205,10) -> 28 | N80: 28 | O80: =VLOOKUP($N80,'Competitor Address List'!$A$6:$M$205,11) -> 28 | P80: =P78+1 -> 1028 | S80: =IF(VLOOKUP($N80,'Competitor Address List'!$A$6:$M$205,2)=S$25,1,"X") -> X | T80: =IF(VLOOKUP($N80,'Competitor Address List'!$A$6:$M$205,2)=T$25,1,"X") -> X | U80: =IF(VLOOKUP($N80,'Competitor Address List'!$A$6:$M$205,2)=U$25,1,"X") -> X | V80: =IF(OR(VLOOKUP($N80,'Competitor Address List'!$A$6:$M$205,2)=V$25,W80=1),1,"X") -> X | W80: =IF(VLOOKUP($N80,'Competitor Address List'!$A$6:$M$205,2)=W$25,1,"X") -> X | X80: =IF(VLOOKUP($N80,'Competitor Address List'!$A$6:$M$205,2)=X$25,1,"X") -> 1 | Y80: =IF(S80="X","-",$P80) -> - | Z80: =IF(T80="X","-",$P80) -> - | AA80: =IF(U80="X","-",$P80) -> - | AB80: =IF(V80="X","-",$P80) -> - | AC80: =IF(W80="X","-",$P80) -> - | AD80: =IF(X80="X","-",$P80) -> 1028 | AE80: =IF(Y80="-"," ",RANK(Y80,Y$26:Y$225,$Q$24)) | AF80: =IF(Z80="-"," ",RANK(Z80,Z$26:Z$225,$Q$24)) | AG80: =IF(AA80="-"," ",RANK(AA80,AA$26:AA$225,$Q$24)) | AH80: =IF(AB80="-"," ",RANK(AB80,AB$26:AB$225,$Q$24)) | AI80: =IF(AC80="-"," ",RANK(AC80,AC$26:AC$225,$Q$24)) | AJ80: =IF(AD80="-"," ",RANK(AD80,AD$26:AD$225,$Q$24)) -> 23
H81: =VLOOKUP($N80+0.5,'Competitor Address List'!$A$6:$M$205,3) -> 28.5 | I81: =VLOOKUP($N80+0.5,'Competitor Address List'!$A$6:$M$205,4) -> 28.5 | J81: =VLOOKUP($N80+0.5,'Competitor Address List'!$A$6:$M$205,6) -> 28.5 | K81: =VLOOKUP($N80+0.5,'Competitor Address List'!$A$6:$M$205,7) -> 28.5 | L81: =VLOOKUP($N80+0.5,'Competitor Address List'!$A$6:$M$205,9) -> 28.5 | M81: =VLOOKUP($N80+0.5,'Competitor Address List'!$A$6:$M$205,10) -> 28.5 | O81: =VLOOKUP($N81,'Competitor Address List'!$A$6:$M$65,15) -> #N/A
A82: =RANK(P82,$P$26:$P$225,$Q$24) -> 29 | B82: =AE82 | C82: =AF82 | D82: =AG82 | E82: =AH82 | F82: =AI82 | G82: =AJ82 -> 24 | H82: =VLOOKUP($N82,'Competitor Address List'!$A$6:$M$205,3) -> 29 | I82: =VLOOKUP($N82,'Competitor Address List'!$A$6:$M$205,4) -> 29 | J82: =VLOOKUP($N82,'Competitor Address List'!$A$6:$M$205,6) -> 29 | K82: =VLOOKUP($N82,'Competitor Address List'!$A$6:$M$205,7) -> 29 | L82: =VLOOKUP($N82,'Competitor Address List'!$A$6:$M$205,9) -> 29 | M82: =VLOOKUP($N82,'Competitor Address List'!$A$6:$M$205,10) -> 29 | N82: 29 | O82: =VLOOKUP($N82,'Competitor Address List'!$A$6:$M$205,11) -> 29 | P82: =P80+1 -> 1029 | S82: =IF(VLOOKUP($N82,'Competitor Address List'!$A$6:$M$205,2)=S$25,1,"X") -> X | T82: =IF(VLOOKUP($N82,'Competitor Address List'!$A$6:$M$205,2)=T$25,1,"X") -> X | U82: =IF(VLOOKUP($N82,'Competitor Address List'!$A$6:$M$205,2)=U$25,1,"X") -> X | V82: =IF(OR(VLOOKUP($N82,'Competitor Address List'!$A$6:$M$205,2)=V$25,W82=1),1,"X") -> X | W82: =IF(VLOOKUP($N82,'Competitor Address List'!$A$6:$M$205,2)=W$25,1,"X") -> X | X82: =IF(VLOOKUP($N82,'Competitor Address List'!$A$6:$M$205,2)=X$25,1,"X") -> 1 | Y82: =IF(S82="X","-",$P82) -> - | Z82: =IF(T82="X","-",$P82) -> - | AA82: =IF(U82="X","-",$P82) -> - | AB82: =IF(V82="X","-",$P82) -> - | AC82: =IF(W82="X","-",$P82) -> - | AD82: =IF(X82="X","-",$P82) -> 1029 | AE82: =IF(Y82="-"," ",RANK(Y82,Y$26:Y$225,$Q$24)) | AF82: =IF(Z82="-"," ",RANK(Z82,Z$26:Z$225,$Q$24)) | AG82: =IF(AA82="-"," ",RANK(AA82,AA$26:AA$225,$Q$24)) | AH82: =IF(AB82="-"," ",RANK(AB82,AB$26:AB$225,$Q$24)) | AI82: =IF(AC82="-"," ",RANK(AC82,AC$26:AC$225,$Q$24)) | AJ82: =IF(AD82="-"," ",RANK(AD82,AD$26:AD$225,$Q$24)) -> 24
H83: =VLOOKUP($N82+0.5,'Competitor Address List'!$A$6:$M$205,3) -> 29.5 | I83: =VLOOKUP($N82+0.5,'Competitor Address List'!$A$6:$M$205,4) -> 29.5 | J83: =VLOOKUP($N82+0.5,'Competitor Address List'!$A$6:$M$205,6) -> 29.5 | K83: =VLOOKUP($N82+0.5,'Competitor Address List'!$A$6:$M$205,7) -> 29.5 | L83: =VLOOKUP($N82+0.5,'Competitor Address List'!$A$6:$M$205,9) -> 29.5 | M83: =VLOOKUP($N82+0.5,'Competitor Address List'!$A$6:$M$205,10) -> 29.5 | O83: =VLOOKUP($N83,'Competitor Address List'!$A$6:$M$65,15) -> #N/A
A84: =RANK(P84,$P$26:$P$225,$Q$24) -> 30 | B84: =AE84 | C84: =AF84 | D84: =AG84 | E84: =AH84 | F84: =AI84 | G84: =AJ84 -> 25 | H84: =VLOOKUP($N84,'Competitor Address List'!$A$6:$M$205,3) -> 30 | I84: =VLOOKUP($N84,'Competitor Address List'!$A$6:$M$205,4) -> 30 | J84: =VLOOKUP($N84,'Competitor Address List'!$A$6:$M$205,6) -> 30 | K84: =VLOOKUP($N84,'Competitor Address List'!$A$6:$M$205,7) -> 30 | L84: =VLOOKUP($N84,'Competitor Address List'!$A$6:$M$205,9) -> 30 | M84: =VLOOKUP($N84,'Competitor Address List'!$A$6:$M$205,10) -> 30 | N84: 30 | O84: =VLOOKUP($N84,'Competitor Address List'!$A$6:$M$205,11) -> 30 | P84: =P82+1 -> 1030 | S84: =IF(VLOOKUP($N84,'Competitor Address List'!$A$6:$M$205,2)=S$25,1,"X") -> X | T84: =IF(VLOOKUP($N84,'Competitor Address List'!$A$6:$M$205,2)=T$25,1,"X") -> X | U84: =IF(VLOOKUP($N84,'Competitor Address List'!$A$6:$M$205,2)=U$25,1,"X") -> X | V84: =IF(OR(VLOOKUP($N84,'Competitor Address List'!$A$6:$M$205,2)=V$25,W84=1),1,"X") -> X | W84: =IF(VLOOKUP($N84,'Competitor Address List'!$A$6:$M$205,2)=W$25,1,"X") -> X | X84: =IF(VLOOKUP($N84,'Competitor Address List'!$A$6:$M$205,2)=X$25,1,"X") -> 1 | Y84: =IF(S84="X","-",$P84) -> - | Z84: =IF(T84="X","-",$P84) -> - | AA84: =IF(U84="X","-",$P84) -> - | AB84: =IF(V84="X","-",$P84) -> - | AC84: =IF(W84="X","-",$P84) -> - | AD84: =IF(X84="X","-",$P84) -> 1030 | AE84: =IF(Y84="-"," ",RANK(Y84,Y$26:Y$225,$Q$24)) | AF84: =IF(Z84="-"," ",RANK(Z84,Z$26:Z$225,$Q$24)) | AG84: =IF(AA84="-"," ",RANK(AA84,AA$26:AA$225,$Q$24)) | AH84: =IF(AB84="-"," ",RANK(AB84,AB$26:AB$225,$Q$24)) | AI84: =IF(AC84="-"," ",RANK(AC84,AC$26:AC$225,$Q$24)) | AJ84: =IF(AD84="-"," ",RANK(AD84,AD$26:AD$225,$Q$24)) -> 25
H85: =VLOOKUP($N84+0.5,'Competitor Address List'!$A$6:$M$205,3) -> 30.5 | I85: =VLOOKUP($N84+0.5,'Competitor Address List'!$A$6:$M$205,4) -> 30.5 | J85: =VLOOKUP($N84+0.5,'Competitor Address List'!$A$6:$M$205,6) -> 30.5 | K85: =VLOOKUP($N84+0.5,'Competitor Address List'!$A$6:$M$205,7) -> 30.5 | L85: =VLOOKUP($N84+0.5,'Competitor Address List'!$A$6:$M$205,9) -> 30.5 | M85: =VLOOKUP($N84+0.5,'Competitor Address List'!$A$6:$M$205,10) -> 30.5 | O85: =VLOOKUP($N85,'Competitor Address List'!$A$6:$M$65,15) -> #N/A
A86: =RANK(P86,$P$26:$P$225,$Q$24) -> 31 | B86: =AE86 | C86: =AF86 | D86: =AG86 | E86: =AH86 | F86: =AI86 | G86: =AJ86 -> 26 | H86: =VLOOKUP($N86,'Competitor Address List'!$A$6:$M$205,3) -> 31 | I86: =VLOOKUP($N86,'Competitor Address List'!$A$6:$M$205,4) -> 31 | J86: =VLOOKUP($N86,'Competitor Address List'!$A$6:$M$205,6) -> 31 | K86: =VLOOKUP($N86,'Competitor Address List'!$A$6:$M$205,7) -> 31 | L86: =VLOOKUP($N86,'Competitor Address List'!$A$6:$M$205,9) -> 31 | M86: =VLOOKUP($N86,'Competitor Address List'!$A$6:$M$205,10) -> 31 | N86: 31 | O86: =VLOOKUP($N86,'Competitor Address List'!$A$6:$M$205,11) -> 31 | P86: =P84+1 -> 1031 | S86: =IF(VLOOKUP($N86,'Competitor Address List'!$A$6:$M$205,2)=S$25,1,"X") -> X | T86: =IF(VLOOKUP($N86,'Competitor Address List'!$A$6:$M$205,2)=T$25,1,"X") -> X | U86: =IF(VLOOKUP($N86,'Competitor Address List'!$A$6:$M$205,2)=U$25,1,"X") -> X | V86: =IF(OR(VLOOKUP($N86,'Competitor Address List'!$A$6:$M$205,2)=V$25,W86=1),1,"X") -> X | W86: =IF(VLOOKUP($N86,'Competitor Address List'!$A$6:$M$205,2)=W$25,1,"X") -> X | X86: =IF(VLOOKUP($N86,'Competitor Address List'!$A$6:$M$205,2)=X$25,1,"X") -> 1 | Y86: =IF(S86="X","-",$P86) -> - | Z86: =IF(T86="X","-",$P86) -> - | AA86: =IF(U86="X","-",$P86) -> - | AB86: =IF(V86="X","-",$P86) -> - | AC86: =IF(W86="X","-",$P86) -> - | AD86: =IF(X86="X","-",$P86) -> 1031 | AE86: =IF(Y86="-"," ",RANK(Y86,Y$26:Y$225,$Q$24)) | AF86: =IF(Z86="-"," ",RANK(Z86,Z$26:Z$225,$Q$24)) | AG86: =IF(AA86="-"," ",RANK(AA86,AA$26:AA$225,$Q$24)) | AH86: =IF(AB86="-"," ",RANK(AB86,AB$26:AB$225,$Q$24)) | AI86: =IF(AC86="-"," ",RANK(AC86,AC$26:AC$225,$Q$24)) | AJ86: =IF(AD86="-"," ",RANK(AD86,AD$26:AD$225,$Q$24)) -> 26
H87: =VLOOKUP($N86+0.5,'Competitor Address List'!$A$6:$M$205,3) -> 31.5 | I87: =VLOOKUP($N86+0.5,'Competitor Address List'!$A$6:$M$205,4) -> 31.5 | J87: =VLOOKUP($N86+0.5,'Competitor Address List'!$A$6:$M$205,6) -> 31.5 | K87: =VLOOKUP($N86+0.5,'Competitor Address List'!$A$6:$M$205,7) -> 31.5 | L87: =VLOOKUP($N86+0.5,'Competitor Address List'!$A$6:$M$205,9) -> 31.5 | M87: =VLOOKUP($N86+0.5,'Competitor Address List'!$A$6:$M$205,10) -> 31.5 | O87: =VLOOKUP($N87,'Competitor Address List'!$A$6:$M$65,15) -> #N/A
A88: =RANK(P88,$P$26:$P$225,$Q$24) -> 32 | B88: =AE88 | C88: =AF88 | D88: =AG88 | E88: =AH88 | F88: =AI88 | G88: =AJ88 -> 27 | H88: =VLOOKUP($N88,'Competitor Address List'!$A$6:$M$205,3) -> 32 | I88: =VLOOKUP($N88,'Competitor Address List'!$A$6:$M$205,4) -> 32 | J88: =VLOOKUP($N88,'Competitor Address List'!$A$6:$M$205,6) -> 32 | K88: =VLOOKUP($N88,'Competitor Address List'!$A$6:$M$205,7) -> 32 | L88: =VLOOKUP($N88,'Competitor Address List'!$A$6:$M$205,9) -> 32 | M88: =VLOOKUP($N88,'Competitor Address List'!$A$6:$M$205,10) -> 32 | N88: 32 | O88: =VLOOKUP($N88,'Competitor Address List'!$A$6:$M$205,11) -> 32 | P88: =P86+1 -> 1032 | S88: =IF(VLOOKUP($N88,'Competitor Address List'!$A$6:$M$205,2)=S$25,1,"X") -> X | T88: =IF(VLOOKUP($N88,'Competitor Address List'!$A$6:$M$205,2)=T$25,1,"X") -> X | U88: =IF(VLOOKUP($N88,'Competitor Address List'!$A$6:$M$205,2)=U$25,1,"X") -> X | V88: =IF(OR(VLOOKUP($N88,'Competitor Address List'!$A$6:$M$205,2)=V$25,W88=1),1,"X") -> X | W88: =IF(VLOOKUP($N88,'Competitor Address List'!$A$6:$M$205,2)=W$25,1,"X") -> X | X88: =IF(VLOOKUP($N88,'Competitor Address List'!$A$6:$M$205,2)=X$25,1,"X") -> 1 | Y88: =IF(S88="X","-",$P88) -> - | Z88: =IF(T88="X","-",$P88) -> - | AA88: =IF(U88="X","-",$P88) -> - | AB88: =IF(V88="X","-",$P88) -> - | AC88: =IF(W88="X","-",$P88) -> - | AD88: =IF(X88="X","-",$P88) -> 1032 | AE88: =IF(Y88="-"," ",RANK(Y88,Y$26:Y$225,$Q$24)) | AF88: =IF(Z88="-"," ",RANK(Z88,Z$26:Z$225,$Q$24)) | AG88: =IF(AA88="-"," ",RANK(AA88,AA$26:AA$225,$Q$24)) | AH88: =IF(AB88="-"," ",RANK(AB88,AB$26:AB$225,$Q$24)) | AI88: =IF(AC88="-"," ",RANK(AC88,AC$26:AC$225,$Q$24)) | AJ88: =IF(AD88="-"," ",RANK(AD88,AD$26:AD$225,$Q$24)) -> 27
H89: =VLOOKUP($N88+0.5,'Competitor Address List'!$A$6:$M$205,3) -> 32.5 | I89: =VLOOKUP($N88+0.5,'Competitor Address List'!$A$6:$M$205,4) -> 32.5 | J89: =VLOOKUP($N88+0.5,'Competitor Address List'!$A$6:$M$205,6) -> 32.5 | K89: =VLOOKUP($N88+0.5,'Competitor Address List'!$A$6:$M$205,7) -> 32.5 | L89: =VLOOKUP($N88+0.5,'Competitor Address List'!$A$6:$M$205,9) -> 32.5 | M89: =VLOOKUP($N88+0.5,'Competitor Address List'!$A$6:$M$205,10) -> 32.5 | O89: =VLOOKUP($N89,'Competitor Address List'!$A$6:$M$65,15) -> #N/A
A90: =RANK(P90,$P$26:$P$225,$Q$24) -> 33 | B90: =AE90 | C90: =AF90 | D90: =AG90 | E90: =AH90 | F90: =AI90 | G90: =AJ90 -> 28 | H90: =VLOOKUP($N90,'Competitor Address List'!$A$6:$M$205,3) -> 33 | I90: =VLOOKUP($N90,'Competitor Address List'!$A$6:$M$205,4) -> 33 | J90: =VLOOKUP($N90,'Competitor Address List'!$A$6:$M$205,6) -> 33 | K90: =VLOOKUP($N90,'Competitor Address List'!$A$6:$M$205,7) -> 33 | L90: =VLOOKUP($N90,'Competitor Address List'!$A$6:$M$205,9) -> 33 | M90: =VLOOKUP($N90,'Competitor Address List'!$A$6:$M$205,10) -> 33 | N90: 33 | O90: =VLOOKUP($N90,'Competitor Address List'!$A$6:$M$205,11) -> 33 | P90: =P88+1 -> 1033 | S90: =IF(VLOOKUP($N90,'Competitor Address List'!$A$6:$M$205,2)=S$25,1,"X") -> X | T90: =IF(VLOOKUP($N90,'Competitor Address List'!$A$6:$M$205,2)=T$25,1,"X") -> X | U90: =IF(VLOOKUP($N90,'Competitor Address List'!$A$6:$M$205,2)=U$25,1,"X") -> X | V90: =IF(OR(VLOOKUP($N90,'Competitor Address List'!$A$6:$M$205,2)=V$25,W90=1),1,"X") -> X | W90: =IF(VLOOKUP($N90,'Competitor Address List'!$A$6:$M$205,2)=W$25,1,"X") -> X | X90: =IF(VLOOKUP($N90,'Competitor Address List'!$A$6:$M$205,2)=X$25,1,"X") -> 1 | Y90: =IF(S90="X","-",$P90) -> - | Z90: =IF(T90="X","-",$P90) -> - | AA90: =IF(U90="X","-",$P90) -> - | AB90: =IF(V90="X","-",$P90) -> - | AC90: =IF(W90="X","-",$P90) -> - | AD90: =IF(X90="X","-",$P90) -> 1033 | AE90: =IF(Y90="-"," ",RANK(Y90,Y$26:Y$225,$Q$24)) | AF90: =IF(Z90="-"," ",RANK(Z90,Z$26:Z$225,$Q$24)) | AG90: =IF(AA90="-"," ",RANK(AA90,AA$26:AA$225,$Q$24)) | AH90: =IF(AB90="-"," ",RANK(AB90,AB$26:AB$225,$Q$24)) | AI90: =IF(AC90="-"," ",RANK(AC90,AC$26:AC$225,$Q$24)) | AJ90: =IF(AD90="-"," ",RANK(AD90,AD$26:AD$225,$Q$24)) -> 28
H91: =VLOOKUP($N90+0.5,'Competitor Address List'!$A$6:$M$205,3) -> 33.5 | I91: =VLOOKUP($N90+0.5,'Competitor Address List'!$A$6:$M$205,4) -> 33.5 | J91: =VLOOKUP($N90+0.5,'Competitor Address List'!$A$6:$M$205,6) -> 33.5 | K91: =VLOOKUP($N90+0.5,'Competitor Address List'!$A$6:$M$205,7) -> 33.5 | L91: =VLOOKUP($N90+0.5,'Competitor Address List'!$A$6:$M$205,9) -> 33.5 | M91: =VLOOKUP($N90+0.5,'Competitor Address List'!$A$6:$M$205,10) -> 33.5 | O91: =VLOOKUP($N91,'Competitor Address List'!$A$6:$M$65,15) -> #N/A
A92: =RANK(P92,$P$26:$P$225,$Q$24) -> 34 | B92: =AE92 | C92: =AF92 | D92: =AG92 | E92: =AH92 | F92: =AI92 | G92: =AJ92 -> 29 | H92: =VLOOKUP($N92,'Competitor Address List'!$A$6:$M$205,3) -> 34 | I92: =VLOOKUP($N92,'Competitor Address List'!$A$6:$M$205,4) -> 34 | J92: =VLOOKUP($N92,'Competitor Address List'!$A$6:$M$205,6) -> 34 | K92: =VLOOKUP($N92,'Competitor Address List'!$A$6:$M$205,7) -> 34 | L92: =VLOOKUP($N92,'Competitor Address List'!$A$6:$M$205,9) -> 34 | M92: =VLOOKUP($N92,'Competitor Address List'!$A$6:$M$205,10) -> 34 | N92: 34 | O92: =VLOOKUP($N92,'Competitor Address List'!$A$6:$M$205,11) -> 34 | P92: =P90+1 -> 1034 | S92: =IF(VLOOKUP($N92,'Competitor Address List'!$A$6:$M$205,2)=S$25,1,"X") -> X | T92: =IF(VLOOKUP($N92,'Competitor Address List'!$A$6:$M$205,2)=T$25,1,"X") -> X | U92: =IF(VLOOKUP($N92,'Competitor Address List'!$A$6:$M$205,2)=U$25,1,"X") -> X | V92: =IF(OR(VLOOKUP($N92,'Competitor Address List'!$A$6:$M$205,2)=V$25,W92=1),1,"X") -> X | W92: =IF(VLOOKUP($N92,'Competitor Address List'!$A$6:$M$205,2)=W$25,1,"X") -> X | X92: =IF(VLOOKUP($N92,'Competitor Address List'!$A$6:$M$205,2)=X$25,1,"X") -> 1 | Y92: =IF(S92="X","-",$P92) -> - | Z92: =IF(T92="X","-",$P92) -> - | AA92: =IF(U92="X","-",$P92) -> - | AB92: =IF(V92="X","-",$P92) -> - | AC92: =IF(W92="X","-",$P92) -> - | AD92: =IF(X92="X","-",$P92) -> 1034 | AE92: =IF(Y92="-"," ",RANK(Y92,Y$26:Y$225,$Q$24)) | AF92: =IF(Z92="-"," ",RANK(Z92,Z$26:Z$225,$Q$24)) | AG92: =IF(AA92="-"," ",RANK(AA92,AA$26:AA$225,$Q$24)) | AH92: =IF(AB92="-"," ",RANK(AB92,AB$26:AB$225,$Q$24)) | AI92: =IF(AC92="-"," ",RANK(AC92,AC$26:AC$225,$Q$24)) | AJ92: =IF(AD92="-"," ",RANK(AD92,AD$26:AD$225,$Q$24)) -> 29
H93: =VLOOKUP($N92+0.5,'Competitor Address List'!$A$6:$M$205,3) -> 34.5 | I93: =VLOOKUP($N92+0.5,'Competitor Address List'!$A$6:$M$205,4) -> 34.5 | J93: =VLOOKUP($N92+0.5,'Competitor Address List'!$A$6:$M$205,6) -> 34.5 | K93: =VLOOKUP($N92+0.5,'Competitor Address List'!$A$6:$M$205,7) -> 34.5 | L93: =VLOOKUP($N92+0.5,'Competitor Address List'!$A$6:$M$205,9) -> 34.5 | M93: =VLOOKUP($N92+0.5,'Competitor Address List'!$A$6:$M$205,10) -> 34.5 | O93: =VLOOKUP($N93,'Competitor Address List'!$A$6:$M$65,15) -> #N/A
A94: =RANK(P94,$P$26:$P$225,$Q$24) -> 35 | B94: =AE94 | C94: =AF94 | D94: =AG94 | E94: =AH94 | F94: =AI94 | G94: =AJ94 -> 30 | H94: =VLOOKUP($N94,'Competitor Address List'!$A$6:$M$205,3) -> 35 | I94: =VLOOKUP($N94,'Competitor Address List'!$A$6:$M$205,4) -> 35 | J94: =VLOOKUP($N94,'Competitor Address List'!$A$6:$M$205,6) -> 35 | K94: =VLOOKUP($N94,'Competitor Address List'!$A$6:$M$205,7) -> 35 | L94: =VLOOKUP($N94,'Competitor Address List'!$A$6:$M$205,9) -> 35 | M94: =VLOOKUP($N94,'Competitor Address List'!$A$6:$M$205,10) -> 35 | N94: 35 | O94: =VLOOKUP($N94,'Competitor Address List'!$A$6:$M$205,11) -> 35 | P94: =P92+1 -> 1035 | S94: =IF(VLOOKUP($N94,'Competitor Address List'!$A$6:$M$205,2)=S$25,1,"X") -> X | T94: =IF(VLOOKUP($N94,'Competitor Address List'!$A$6:$M$205,2)=T$25,1,"X") -> X | U94: =IF(VLOOKUP($N94,'Competitor Address List'!$A$6:$M$205,2)=U$25,1,"X") -> X | V94: =IF(OR(VLOOKUP($N94,'Competitor Address List'!$A$6:$M$205,2)=V$25,W94=1),1,"X") -> X | W94: =IF(VLOOKUP($N94,'Competitor Address List'!$A$6:$M$205,2)=W$25,1,"X") -> X | X94: =IF(VLOOKUP($N94,'Competitor Address List'!$A$6:$M$205,2)=X$25,1,"X") -> 1 | Y94: =IF(S94="X","-",$P94) -> - | Z94: =IF(T94="X","-",$P94) -> - | AA94: =IF(U94="X","-",$P94) -> - | AB94: =IF(V94="X","-",$P94) -> - | AC94: =IF(W94="X","-",$P94) -> - | AD94: =IF(X94="X","-",$P94) -> 1035 | AE94: =IF(Y94="-"," ",RANK(Y94,Y$26:Y$225,$Q$24)) | AF94: =IF(Z94="-"," ",RANK(Z94,Z$26:Z$225,$Q$24)) | AG94: =IF(AA94="-"," ",RANK(AA94,AA$26:AA$225,$Q$24)) | AH94: =IF(AB94="-"," ",RANK(AB94,AB$26:AB$225,$Q$24)) | AI94: =IF(AC94="-"," ",RANK(AC94,AC$26:AC$225,$Q$24)) | AJ94: =IF(AD94="-"," ",RANK(AD94,AD$26:AD$225,$Q$24)) -> 30
H95: =VLOOKUP($N94+0.5,'Competitor Address List'!$A$6:$M$205,3) -> 35.5 | I95: =VLOOKUP($N94+0.5,'Competitor Address List'!$A$6:$M$205,4) -> 35.5 | J95: =VLOOKUP($N94+0.5,'Competitor Address List'!$A$6:$M$205,6) -> 35.5 | K95: =VLOOKUP($N94+0.5,'Competitor Address List'!$A$6:$M$205,7) -> 35.5 | L95: =VLOOKUP($N94+0.5,'Competitor Address List'!$A$6:$M$205,9) -> 35.5 | M95: =VLOOKUP($N94+0.5,'Competitor Address List'!$A$6:$M$205,10) -> 35.5 | O95: =VLOOKUP($N95,'Competitor Address List'!$A$6:$M$65,15) -> #N/A
A96: =RANK(P96,$P$26:$P$225,$Q$24) -> 36 | B96: =AE96 | C96: =AF96 | D96: =AG96 | E96: =AH96 | F96: =AI96 | G96: =AJ96 -> 31 | H96: =VLOOKUP($N96,'Competitor Address List'!$A$6:$M$205,3) -> 36 | I96: =VLOOKUP($N96,'Competitor Address List'!$A$6:$M$205,4) -> 36 | J96: =VLOOKUP($N96,'Competitor Address List'!$A$6:$M$205,6) -> 36 | K96: =VLOOKUP($N96,'Competitor Address List'!$A$6:$M$205,7) -> 36 | L96: =VLOOKUP($N96,'Competitor Address List'!$A$6:$M$205,9) -> 36 | M96: =VLOOKUP($N96,'Competitor Address List'!$A$6:$M$205,10) -> 36 | N96: 36 | O96: =VLOOKUP($N96,'Competitor Address List'!$A$6:$M$205,11) -> 36 | P96: =P94+1 -> 1036 | S96: =IF(VLOOKUP($N96,'Competitor Address List'!$A$6:$M$205,2)=S$25,1,"X") -> X | T96: =IF(VLOOKUP($N96,'Competitor Address List'!$A$6:$M$205,2)=T$25,1,"X") -> X | U96: =IF(VLOOKUP($N96,'Competitor Address List'!$A$6:$M$205,2)=U$25,1,"X") -> X | V96: =IF(OR(VLOOKUP($N96,'Competitor Address List'!$A$6:$M$205,2)=V$25,W96=1),1,"X") -> X | W96: =IF(VLOOKUP($N96,'Competitor Address List'!$A$6:$M$205,2)=W$25,1,"X") -> X | X96: =IF(VLOOKUP($N96,'Competitor Address List'!$A$6:$M$205,2)=X$25,1,"X") -> 1 | Y96: =IF(S96="X","-",$P96) -> - | Z96: =IF(T96="X","-",$P96) -> - | AA96: =IF(U96="X","-",$P96) -> - | AB96: =IF(V96="X","-",$P96) -> - | AC96: =IF(W96="X","-",$P96) -> - | AD96: =IF(X96="X","-",$P96) -> 1036 | AE96: =IF(Y96="-"," ",RANK(Y96,Y$26:Y$225,$Q$24)) | AF96: =IF(Z96="-"," ",RANK(Z96,Z$26:Z$225,$Q$24)) | AG96: =IF(AA96="-"," ",RANK(AA96,AA$26:AA$225,$Q$24)) | AH96: =IF(AB96="-"," ",RANK(AB96,AB$26:AB$225,$Q$24)) | AI96: =IF(AC96="-"," ",RANK(AC96,AC$26:AC$225,$Q$24)) | AJ96: =IF(AD96="-"," ",RANK(AD96,AD$26:AD$225,$Q$24)) -> 31
H97: =VLOOKUP($N96+0.5,'Competitor Address List'!$A$6:$M$205,3) -> 36.5 | I97: =VLOOKUP($N96+0.5,'Competitor Address List'!$A$6:$M$205,4) -> 36.5 | J97: =VLOOKUP($N96+0.5,'Competitor Address List'!$A$6:$M$205,6) -> 36.5 | K97: =VLOOKUP($N96+0.5,'Competitor Address List'!$A$6:$M$205,7) -> 36.5 | L97: =VLOOKUP($N96+0.5,'Competitor Address List'!$A$6:$M$205,9) -> 36.5 | M97: =VLOOKUP($N96+0.5,'Competitor Address List'!$A$6:$M$205,10) -> 36.5 | O97: =VLOOKUP($N97,'Competitor Address List'!$A$6:$M$65,15) -> #N/A
A98: =RANK(P98,$P$26:$P$225,$Q$24) -> 37 | B98: =AE98 | C98: =AF98 | D98: =AG98 | E98: =AH98 | F98: =AI98 | G98: =AJ98 -> 32 | H98: =VLOOKUP($N98,'Competitor Address List'!$A$6:$M$205,3) -> 37 | I98: =VLOOKUP($N98,'Competitor Address List'!$A$6:$M$205,4) -> 37 | J98: =VLOOKUP($N98,'Competitor Address List'!$A$6:$M$205,6) -> 37 | K98: =VLOOKUP($N98,'Competitor Address List'!$A$6:$M$205,7) -> 37 | L98: =VLOOKUP($N98,'Competitor Address List'!$A$6:$M$205,9) -> 37 | M98: =VLOOKUP($N98,'Competitor Address List'!$A$6:$M$205,10) -> 37 | N98: 37 | O98: =VLOOKUP($N98,'Competitor Address List'!$A$6:$M$205,11) -> 37 | P98: =P96+1 -> 1037 | S98: =IF(VLOOKUP($N98,'Competitor Address List'!$A$6:$M$205,2)=S$25,1,"X") -> X | T98: =IF(VLOOKUP($N98,'Competitor Address List'!$A$6:$M$205,2)=T$25,1,"X") -> X | U98: =IF(VLOOKUP($N98,'Competitor Address List'!$A$6:$M$205,2)=U$25,1,"X") -> X | V98: =IF(OR(VLOOKUP($N98,'Competitor Address List'!$A$6:$M$205,2)=V$25,W98=1),1,"X") -> X | W98: =IF(VLOOKUP($N98,'Competitor Address List'!$A$6:$M$205,2)=W$25,1,"X") -> X | X98: =IF(VLOOKUP($N98,'Competitor Address List'!$A$6:$M$205,2)=X$25,1,"X") -> 1 | Y98: =IF(S98="X","-",$P98) -> - | Z98: =IF(T98="X","-",$P98) -> - | AA98: =IF(U98="X","-",$P98) -> - | AB98: =IF(V98="X","-",$P98) -> - | AC98: =IF(W98="X","-",$P98) -> - | AD98: =IF(X98="X","-",$P98) -> 1037 | AE98: =IF(Y98="-"," ",RANK(Y98,Y$26:Y$225,$Q$24)) | AF98: =IF(Z98="-"," ",RANK(Z98,Z$26:Z$225,$Q$24)) | AG98: =IF(AA98="-"," ",RANK(AA98,AA$26:AA$225,$Q$24)) | AH98: =IF(AB98="-"," ",RANK(AB98,AB$26:AB$225,$Q$24)) | AI98: =IF(AC98="-"," ",RANK(AC98,AC$26:AC$225,$Q$24)) | AJ98: =IF(AD98="-"," ",RANK(AD98,AD$26:AD$225,$Q$24)) -> 32
H99: =VLOOKUP($N98+0.5,'Competitor Address List'!$A$6:$M$205,3) -> 37.5 | I99: =VLOOKUP($N98+0.5,'Competitor Address List'!$A$6:$M$205,4) -> 37.5 | J99: =VLOOKUP($N98+0.5,'Competitor Address List'!$A$6:$M$205,6) -> 37.5 | K99: =VLOOKUP($N98+0.5,'Competitor Address List'!$A$6:$M$205,7) -> 37.5 | L99: =VLOOKUP($N98+0.5,'Competitor Address List'!$A$6:$M$205,9) -> 37.5 | M99: =VLOOKUP($N98+0.5,'Competitor Address List'!$A$6:$M$205,10) -> 37.5 | O99: =VLOOKUP($N99,'Competitor Address List'!$A$6:$M$65,15) -> #N/A
A100: =RANK(P100,$P$26:$P$225,$Q$24) -> 38 | B100: =AE100 | C100: =AF100 | D100: =AG100 | E100: =AH100 | F100: =AI100 | G100: =AJ100 -> 33 | H100: =VLOOKUP($N100,'Competitor Address List'!$A$6:$M$205,3) -> 38 | I100: =VLOOKUP($N100,'Competitor Address List'!$A$6:$M$205,4) -> 38 | J100: =VLOOKUP($N100,'Competitor Address List'!$A$6:$M$205,6) -> 38 | K100: =VLOOKUP($N100,'Competitor Address List'!$A$6:$M$205,7) -> 38 | L100: =VLOOKUP($N100,'Competitor Address List'!$A$6:$M$205,9) -> 38 | M100: =VLOOKUP($N100,'Competitor Address List'!$A$6:$M$205,10) -> 38 | N100: 38 | O100: =VLOOKUP($N100,'Competitor Address List'!$A$6:$M$205,11) -> 38 | P100: =P98+1 -> 1038 | S100: =IF(VLOOKUP($N100,'Competitor Address List'!$A$6:$M$205,2)=S$25,1,"X") -> X | T100: =IF(VLOOKUP($N100,'Competitor Address List'!$A$6:$M$205,2)=T$25,1,"X") -> X | U100: =IF(VLOOKUP($N100,'Competitor Address List'!$A$6:$M$205,2)=U$25,1,"X") -> X | V100: =IF(OR(VLOOKUP($N100,'Competitor Address List'!$A$6:$M$205,2)=V$25,W100=1),1,"X") -> X | W100: =IF(VLOOKUP($N100,'Competitor Address List'!$A$6:$M$205,2)=W$25,1,"X") -> X | X100: =IF(VLOOKUP($N100,'Competitor Address List'!$A$6:$M$205,2)=X$25,1,"X") -> 1 | Y100: =IF(S100="X","-",$P100) -> - | Z100: =IF(T100="X","-",$P100) -> - | AA100: =IF(U100="X","-",$P100) -> - | AB100: =IF(V100="X","-",$P100) -> - | AC100: =IF(W100="X","-",$P100) -> - | AD100: =IF(X100="X","-",$P100) -> 1038 | AE100: =IF(Y100="-"," ",RANK(Y100,Y$26:Y$225,$Q$24)) | AF100: =IF(Z100="-"," ",RANK(Z100,Z$26:Z$225,$Q$24)) | AG100: =IF(AA100="-"," ",RANK(AA100,AA$26:AA$225,$Q$24)) | AH100: =IF(AB100="-"," ",RANK(AB100,AB$26:AB$225,$Q$24)) | AI100: =IF(AC100="-"," ",RANK(AC100,AC$26:AC$225,$Q$24)) | AJ100: =IF(AD100="-"," ",RANK(AD100,AD$26:AD$225,$Q$24)) -> 33
H101: =VLOOKUP($N100+0.5,'Competitor Address List'!$A$6:$M$205,3) -> 38.5 | I101: =VLOOKUP($N100+0.5,'Competitor Address List'!$A$6:$M$205,4) -> 38.5 | J101: =VLOOKUP($N100+0.5,'Competitor Address List'!$A$6:$M$205,6) -> 38.5 | K101: =VLOOKUP($N100+0.5,'Competitor Address List'!$A$6:$M$205,7) -> 38.5 | L101: =VLOOKUP($N100+0.5,'Competitor Address List'!$A$6:$M$205,9) -> 38.5 | M101: =VLOOKUP($N100+0.5,'Competitor Address List'!$A$6:$M$205,10) -> 38.5 | O101: =VLOOKUP($N101,'Competitor Address List'!$A$6:$M$65,15) -> #N/A
...

Sheet Leg by Leg Scores (Optional)
A1: Rally: | B1: ='SCCA Official Results'!H6 -> XYZ Rally
A2: Region: | B2: ='SCCA Official Results'!H8 -> ABC (#)
A3: Date: | B3: ='SCCA Official Results'!H7 -> 44835
F5: Position | S5: Checkpoint Number
A6: Car # | B6: Driver | D6: Navigator | F6: O/A | G6: Class | H6: Total
A7: 1 | B7: =VLOOKUP($A7,'Competitor Address List'!$A$6:$M$205,3) -> D1First | C7: =VLOOKUP($A7,'Competitor Address List'!$A$6:$M$205,4) -> D1Last | D7: =VLOOKUP($A7+0.5,'Competitor Address List'!$A$6:$M$205,3) -> N1First | E7: =VLOOKUP($A7+0.5,'Competitor Address List'!$A$6:$M$205,4) -> N1Last | G7: =VLOOKUP($A7,'Competitor Address List'!$A$6:$M$205,2) -> E
A8: 2 | B8: =VLOOKUP($A8,'Competitor Address List'!$A$6:$M$205,3) -> 2 | C8: =VLOOKUP($A8,'Competitor Address List'!$A$6:$M$205,4) -> 2 | D8: =VLOOKUP($A8+0.5,'Competitor Address List'!$A$6:$M$205,3) -> 2.5 | E8: =VLOOKUP($A8+0.5,'Competitor Address List'!$A$6:$M$205,4) -> 2.5 | G8: =VLOOKUP($A8,'Competitor Address List'!$A$6:$M$205,2) -> G
A9: 3 | B9: =VLOOKUP($A9,'Competitor Address List'!$A$6:$M$205,3) -> 3 | C9: =VLOOKUP($A9,'Competitor Address List'!$A$6:$M$205,4) -> 3 | D9: =VLOOKUP($A9+0.5,'Competitor Address List'!$A$6:$M$205,3) -> 3.5 | E9: =VLOOKUP($A9+0.5,'Competitor Address List'!$A$6:$M$205,4) -> 3.5 | G9: =VLOOKUP($A9,'Competitor Address List'!$A$6:$M$205,2) -> L
A10: 4 | B10: =VLOOKUP($A10,'Competitor Address List'!$A$6:$M$205,3) -> 4 | C10: =VLOOKUP($A10,'Competitor Address List'!$A$6:$M$205,4) -> 4 | D10: =VLOOKUP($A10+0.5,'Competitor Address List'!$A$6:$M$205,3) -> 4.5 | E10: =VLOOKUP($A10+0.5,'Competitor Address List'!$A$6:$M$205,4) -> 4.5 | G10: =VLOOKUP($A10,'Competitor Address List'!$A$6:$M$205,2) -> S
A11: 5 | B11: =VLOOKUP($A11,'Competitor Address List'!$A$6:$M$205,3) -> 5 | C11: =VLOOKUP($A11,'Competitor Address List'!$A$6:$M$205,4) -> 5 | D11: =VLOOKUP($A11+0.5,'Competitor Address List'!$A$6:$M$205,3) -> 5.5 | E11: =VLOOKUP($A11+0.5,'Competitor Address List'!$A$6:$M$205,4) -> 5.5 | G11: =VLOOKUP($A11,'Competitor Address List'!$A$6:$M$205,2) -> N
A12: 6 | B12: =VLOOKUP($A12,'Competitor Address List'!$A$6:$M$205,3) -> 6 | C12: =VLOOKUP($A12,'Competitor Address List'!$A$6:$M$205,4) -> 6 | D12: =VLOOKUP($A12+0.5,'Competitor Address List'!$A$6:$M$205,3) -> 6.5 | E12: =VLOOKUP($A12+0.5,'Competitor Address List'!$A$6:$M$205,4) -> 6.5 | G12: =VLOOKUP($A12,'Competitor Address List'!$A$6:$M$205,2) -> GTA
A13: 7 | B13: =VLOOKUP($A13,'Competitor Address List'!$A$6:$M$205,3) -> 7 | C13: =VLOOKUP($A13,'Competitor Address List'!$A$6:$M$205,4) -> 7 | D13: =VLOOKUP($A13+0.5,'Competitor Address List'!$A$6:$M$205,3) -> 7.5 | E13: =VLOOKUP($A13+0.5,'Competitor Address List'!$A$6:$M$205,4) -> 7.5 | G13: =VLOOKUP($A13,'Competitor Address List'!$A$6:$M$205,2) -> GTA
A14: 8 | B14: =VLOOKUP($A14,'Competitor Address List'!$A$6:$M$205,3) -> 8 | C14: =VLOOKUP($A14,'Competitor Address List'!$A$6:$M$205,4) -> 8 | D14: =VLOOKUP($A14+0.5,'Competitor Address List'!$A$6:$M$205,3) -> 8.5 | E14: =VLOOKUP($A14+0.5,'Competitor Address List'!$A$6:$M$205,4) -> 8.5 | G14: =VLOOKUP($A14,'Competitor Address List'!$A$6:$M$205,2) -> GTA
A15: 9 | B15: =VLOOKUP($A15,'Competitor Address List'!$A$6:$M$205,3) -> 9 | C15: =VLOOKUP($A15,'Competitor Address List'!$A$6:$M$205,4) -> 9 | D15: =VLOOKUP($A15+0.5,'Competitor Address List'!$A$6:$M$205,3) -> 9.5 | E15: =VLOOKUP($A15+0.5,'Competitor Address List'!$A$6:$M$205,4) -> 9.5 | G15: =VLOOKUP($A15,'Competitor Address List'!$A$6:$M$205,2) -> GTA
A16: 10 | B16: =VLOOKUP($A16,'Competitor Address List'!$A$6:$M$205,3) -> 10 | C16: =VLOOKUP($A16,'Competitor Address List'!$A$6:$M$205,4) -> 10 | D16: =VLOOKUP($A16+0.5,'Competitor Address List'!$A$6:$M$205,3) -> 10.5 | E16: =VLOOKUP($A16+0.5,'Competitor Address List'!$A$6:$M$205,4) -> 10.5 | G16: =VLOOKUP($A16,'Competitor Address List'!$A$6:$M$205,2) -> GTA
A17: 11 | B17: =VLOOKUP($A17,'Competitor Address List'!$A$6:$M$205,3) -> 11 | C17: =VLOOKUP($A17,'Competitor Address List'!$A$6:$M$205,4) -> 11 | D17: =VLOOKUP($A17+0.5,'Competitor Address List'!$A$6:$M$205,3) -> 11.5 | E17: =VLOOKUP($A17+0.5,'Competitor Address List'!$A$6:$M$205,4) -> 11.5 | G17: =VLOOKUP($A17,'Competitor Address List'!$A$6:$M$205,2) -> GTA
A18: 12 | B18: =VLOOKUP($A18,'Competitor Address List'!$A$6:$M$205,3) -> 12 | C18: =VLOOKUP($A18,'Competitor Address List'!$A$6:$M$205,4) -> 12 | D18: =VLOOKUP($A18+0.5,'Competitor Address List'!$A$6:$M$205,3) -> 12.5 | E18: =VLOOKUP($A18+0.5,'Competitor Address List'!$A$6:$M$205,4) -> 12.5 | G18: =VLOOKUP($A18,'Competitor Address List'!$A$6:$M$205,2) -> GTA
... A106: 100 | B106: =VLOOKUP($A106,'Competitor Address List'!$A$6:$M$205,3) -> 100 | C106: =VLOOKUP($A106,'Competitor Address List'!$A$6:$M$205,4) -> 100 | D106: =VLOOKUP($A106+0.5,'Competitor Address List'!$A$6:$M$205,3) -> 100.5 | E106: =VLOOKUP($A106+0.5,'Competitor Address List'!$A$6:$M$205,4) -> 100.5 | G106: =VLOOKUP($A106,'Competitor Address List'!$A$6:$M$205,2) -> GTA

Sheet SCCA Waiver Printing Template
B1: NOTE: Due to printer variations, column widths and row heights may have to be adjusted to assure that text prints in exactly the correct locations on waiver forms. | L1: None | M1: Competitor
L2: 1 | M2: Worker
L3: 6 | M3: None
A4: SCCA Adult waiver name/membership information fill template - 092020 version | L4: 11
L5: 16
B6: Event Description: | C6: Johnny Appleseed Rally, Bolivar, Ohio. Neohio Region (24). October 1, 2022 | I6: <<<< | J6: Event description | L6: 21
B7: Event Date: | C7: 44835 | I7: <<<< | J7: Event date | L7: 26
B8: Event Official: | C8: W. Gregory Lester | I8: <<<< | J8: Waiver witness name | L8: 31
B9: SCCA Member #: | C9: 108833 | I9: <<<< | J9: Witness' SCCA membership number | L9: 36
B10: Region: | C10: Neohio | J10: Witness' SCCA Region of Record | L10: 41
B11: Beginning Car #: | C11: 1 | E11: =NOW() -> 44894.543 | I11: <<<< | J11: First Car # to be printed on waiver (or None) | L11: 46
H12: Capacity | L12: 51
B13: First | C13: Last | D13: Event Description/Location | E13: Signature | F13: Member # | G13: Region | H13: Competitor | I13: <<<< | J13: Capacity (Competitor, Worker, None) | L13: 56
L14: 61
D15: =C6 -> Johnny Appleseed Rally, Bolivar, Ohio. Neohio Region (24). October 1, 2022 | H15: =C7 -> 44835 | L15: 66
L16: 71
L17: 76
L18: 81
A19: =IF($C$11="None"," ",$C$11) -> 1 | B19: =IF($C$11="None"," ",VLOOKUP($A19,'Competitor Address List'!$A$6:$M$205,3)) -> D1First | C19: =IF($C$11="None"," ",VLOOKUP($A19,'Competitor Address List'!$A$6:$M$205,4)) -> D1Last | F19: =IF($C$11="None"," ",VLOOKUP($A19,'Competitor Address List'!$A$6:$M$205,9)) -> 11111 | G19: =IF($C$11="None"," ",VLOOKUP($A19,'Competitor Address List'!$A$6:$M$205,10)) -> D1Reg | H19: =IF($H$13="None"," ",$H$13) -> Competitor | I19: <<<< | L19: 86
A20: =IF($C$11="None"," ",$C$11) -> 1 | B20: =IF($C$11="None"," ",VLOOKUP($A20+0.5,'Competitor Address List'!$A$6:$M$205,3)) -> N1First | C20: =IF($C$11="None"," ",VLOOKUP($A20+0.5,'Competitor Address List'!$A$6:$M$205,4)) -> N1Last | F20: =IF($C$11="None"," ",VLOOKUP($A20+0.5,'Competitor Address List'!$A$6:$M$205,9)) -> 151515 | G20: =IF($C$11="None"," ",VLOOKUP($A20+0.5,'Competitor Address List'!$A$6:$M$205,10)) -> N1Reg | H20: =IF($H$13="None"," ",$H$13) -> Competitor | I20: <<<< | L20: 91
A21: =IF($C$11="None"," ",$C$11+1) -> 2 | B21: =IF($C$11="None"," ",VLOOKUP($A21,'Competitor Address List'!$A$6:$M$205,3)) -> 2 | C21: =IF($C$11="None"," ",VLOOKUP($A21,'Competitor Address List'!$A$6:$M$205,4)) -> 2 | F21: =IF($C$11="None"," ",VLOOKUP($A21,'Competitor Address List'!$A$6:$M$205,9)) -> 2 | G21: =IF($C$11="None"," ",VLOOKUP($A21,'Competitor Address List'!$A$6:$M$205,10)) -> 2 | H21: =IF($H$13="None"," ",$H$13) -> Competitor | I21: <<<< | J21: Information to be printed on SCCA waiver form | L21: 96
A22: =IF($C$11="None"," ",$C$11+1) -> 2 | B22: =IF($C$11="None"," ",VLOOKUP($A22+0.5,'Competitor Address List'!$A$6:$M$205,3)) -> 2.5 | C22: =IF($C$11="None"," ",VLOOKUP($A22+0.5,'Competitor Address List'!$A$6:$M$205,4)) -> 2.5 | F22: =IF($C$11="None"," ",VLOOKUP($A22+0.5,'Competitor Address List'!$A$6:$M$205,9)) -> 2.5 | G22: =IF($C$11="None"," ",VLOOKUP($A22+0.5,'Competitor Address List'!$A$6:$M$205,10)) -> 2.5 | H22: =IF($H$13="None"," ",$H$13) -> Competitor | I22: <<<< | J22: extracted from Competitor Address List, and top of | L22: 101
A23: =IF($C$11="None"," ",$C$11+2) -> 3 | B23: =IF($C$11="None"," ",VLOOKUP($A23,'Competitor Address List'!$A$6:$M$205,3)) -> 3 | C23: =IF($C$11="None"," ",VLOOKUP($A23,'Competitor Address List'!$A$6:$M$205,4)) -> 3 | F23: =IF($C$11="None"," ",VLOOKUP($A23,'Competitor Address List'!$A$6:$M$205,9)) -> 3 | G23: =IF($C$11="None"," ",VLOOKUP($A23,'Competitor Address List'!$A$6:$M$205,10)) -> 3 | H23: =IF($H$13="None"," ",$H$13) -> Competitor | I23: <<<< | J23: this template. | L23: 106
A24: =IF($C$11="None"," ",$C$11+2) -> 3 | B24: =IF($C$11="None"," ",VLOOKUP($A24+0.5,'Competitor Address List'!$A$6:$M$205,3)) -> 3.5 | C24: =IF($C$11="None"," ",VLOOKUP($A24+0.5,'Competitor Address List'!$A$6:$M$205,4)) -> 3.5 | F24: =IF($C$11="None"," ",VLOOKUP($A24+0.5,'Competitor Address List'!$A$6:$M$205,9)) -> 3.5 | G24: =IF($C$11="None"," ",VLOOKUP($A24+0.5,'Competitor Address List'!$A$6:$M$205,10)) -> 3.5 | H24: =IF($H$13="None"," ",$H$13) -> Competitor | I24: <<<< | L24: 111
A25: =IF($C$11="None"," ",$C$11+3) -> 4 | B25: =IF($C$11="None"," ",VLOOKUP($A25,'Competitor Address List'!$A$6:$M$205,3)) -> 4 | C25: =IF($C$11="None"," ",VLOOKUP($A25,'Competitor Address List'!$A$6:$M$205,4)) -> 4 | F25: =IF($C$11="None"," ",VLOOKUP($A25,'Competitor Address List'!$A$6:$M$205,9)) -> 4 | G25: =IF($C$11="None"," ",VLOOKUP($A25,'Competitor Address List'!$A$6:$M$205,10)) -> 4 | H25: =IF($H$13="None"," ",$H$13) -> Competitor | I25: <<<<
A26: =IF($C$11="None"," ",$C$11+3) -> 4 | B26: =IF($C$11="None"," ",VLOOKUP($A26+0.5,'Competitor Address List'!$A$6:$M$205,3)) -> 4.5 | C26: =IF($C$11="None"," ",VLOOKUP($A26+0.5,'Competitor Address List'!$A$6:$M$205,4)) -> 4.5 | F26: =IF($C$11="None"," ",VLOOKUP($A26+0.5,'Competitor Address List'!$A$6:$M$205,9)) -> 4.5 | G26: =IF($C$11="None"," ",VLOOKUP($A26+0.5,'Competitor Address List'!$A$6:$M$205,10)) -> 4.5 | H26: =IF($H$13="None"," ",$H$13) -> Competitor | I26: <<<<
A27: =IF($C$11="None"," ",$C$11+4) -> 5 | B27: =IF($C$11="None"," ",VLOOKUP($A27,'Competitor Address List'!$A$6:$M$205,3)) -> 5 | C27: =IF($C$11="None"," ",VLOOKUP($A27,'Competitor Address List'!$A$6:$M$205,4)) -> 5 | F27: =IF($C$11="None"," ",VLOOKUP($A27,'Competitor Address List'!$A$6:$M$205,9)) -> 5 | G27: =IF($C$11="None"," ",VLOOKUP($A27,'Competitor Address List'!$A$6:$M$205,10)) -> 5 | H27: =IF($H$13="None"," ",$H$13) -> Competitor | I27: <<<<
A28: =IF($C$11="None"," ",$C$11+4) -> 5 | B28: =IF($C$11="None"," ",VLOOKUP($A28+0.5,'Competitor Address List'!$A$6:$M$205,3)) -> 5.5 | C28: =IF($C$11="None"," ",VLOOKUP($A28+0.5,'Competitor Address List'!$A$6:$M$205,4)) -> 5.5 | F28: =IF($C$11="None"," ",VLOOKUP($A28+0.5,'Competitor Address List'!$A$6:$M$205,9)) -> 5.5 | G28: =IF($C$11="None"," ",VLOOKUP($A28+0.5,'Competitor Address List'!$A$6:$M$205,10)) -> 5.5 | H28: =IF($H$13="None"," ",$H$13) -> Competitor | I28: <<<<
B30: =C8 -> W. Gregory Lester | F30: =C9 -> 108833 | G30: =C10 -> Neohio | H30: =C7 -> 44835 | I30: <<<<

Sheet Revision Log
A2: # | B2: Date | C2: Action | E2: # | F2: Date | G2: Issue Identified, or Action Needed/Requested | H2: Action Taken
A3: 1 | B3: 44440 | C3: Cleaned up print formatting of SCCA waiver template to better fit current paper forms. | E3: 1 | F3: 44802 | G3: Official Results: Repeated car number at bottom of list of finishers in cas of one or more DNS's.
A4: 2 | B4: 44758 | C4: Added user-defined columns on rigtht side of Address list | E4: 2 | F4: 44802 | G4: Need for basic instruction page. | H4: X
A5: 3 | B5: 44758 | C5: Implemented user-selectable ascending and descending score sorting in Official Results | E5: 3 | F5: 44832 | G5: Need for Date of Birth for Weekend and Trial Member entries on Address List tab. | H5: X
A6: 4 | B6: 44770 | C6: Minor reformatting of waiver printing template. | E6: 4 | F6: 44832 | G6: Need for addition of membership@scca.com to post-rally distribution list (for Weekend/Trial membership accounting purposes). | H6: X
A7: 5 | B7: 44796 | C7: Correction (removal) of redundant cell labels, SCCA Official Results tab. | E7: 5 | F7: 44874 | G7: Need to adjust print area to include all entries not just the first 10 positions. | H7: X
A8: 6 | B8: 44833 | C8: Added Date of Birth column to Competitor Address List tab (Weekend/Trial members only). | E8: 6
A9: 7 | B9: 44833 | C9: Added membership@scca.com to Official Results distribution list on Official Results tab. | E9: 7
A10: 8 | B10: 44837 | C10: Swapped Series and Class positions in Worker declaration (as requested by Bruce Gezon). | E10: 8
A11: 9 | B11: 44869 | C11: Updated some instructions for consistency with the latest updates to the RFOs. | E11: 9
A12: 10 | B12: 44876 | C12: Updated print area so that all positions 1-100 are printable and exportable to pdf. | E12: 10
A13: 11 | B13: 44880 | C13: Centered Hometown City and State (as requested by Mike Thompson) | E13: 11
A14: 12 | B14: 44885 | C14: Added nec@scca.com to Official Results distribution list on Official Results tab. | E14: 12
A15: 13 | E15: 13
A16: 14 | E16: 14
A17: 15 | E17: 15
A18: 16 | E18: 16
A19: 17 | E19: 17
A20: 18 | E20: 18
A21: 19 | E21: 19
A22: 20 | E22: 20
A23: 21 | E23: 21
A24: 22 | E24: 22
A25: 23 | E25: 23
A26: 24 | E26: 24
... A52: 50 | E52: 50
