Workbook
Name abssum: #REF!
Name RallyAddresses01_01_08: 'Competitor Address List'!$C$5:$M$6

Sheet User Instructions
A1: SCCA National Rally Championship Results Reporting Workbook
A3: Intent:
B4: - Standardize and simplify rally results reporting and competitor information capture (for SCCA Weekand/Trial Membership accounting, points keeping, rally promotional purposes, etc.).
B5: - Intended to be usable by anyone with a rudimaentary knowledge of Excel or Google Sheets.
A8: Overview:
B9: - 5 "tabs", each with a specific purpose.
B10: Competitor Address List: Core database on which the rest of the workbook relies for information.
B11: Entry List: Automatically generated Entry List. Can be easily distributed as pdf.
B12: SCCA Official Results: Main results and organizer reporting document.
B13: Leg by Leg Scores (Optional): Optional score grid. May be overwritten if scores are received in another format. Note: while the use of this sheet is optional the RoadRally Rules Article 18 section I requires the results to include Leg by Leg scores to be considered official.
B14: SCCA Waiver Printing Template: Simplifies pre-event preparation of paper waivers.
B16: - Once Competitor Address List information is filled in, most cells in other tabs are populated automatically by lookup functions keyed to car numbers.
A19: Setup:
B20: - Essential competitor information (names, addresses, SCCA Membership # nad Region affiliation, email adresses, etc) can be imported directly from MSR (or other registration system) to Competitor Address List tab.
B21: HINT: Use "Paste values" function to insert text from MSR (or other) registration system.
B22: - Rally-specific information (name, date, organizing Region, Sanction #, etc) must be filled in at the top of the SCCA Official Results tab.
B23: - The Competitor Address List sheet includes 9 columns that may be used for any rally specific or custom information you need to record.
A26: Submission
B27: - When it is time to report the results to the SCCA the cleanest way is to email this entire workbook to the National rally pointskeeper (smuncher@windstream.net), SCCA Rally Department (sanction@scca.com), SCCA Road Rally Board (rrb@scca.com), SCCA Membership Department (membership@scca.com), and SCCA National Events Committee (nec#scca.com).
B28: - To send the results to the participants it is suggested that you export the SCCA Official Results sheet and the Leg by Leg Scores as pdf files. If using Excel with the Official Results sheet selected, click File, Export, Create PDF/XPS, select the desired directory and file name, click the Publish button.

Sheet Competitor Address List
D1: Rally competitor address list (fill out with information from entry forms or online registration system):
D2: - Information in light blue shaded columns is essential for series pointskeeping and promotional purposes. | Y2: E
D3: - Information in unshaded columns is essential for SCCA Weekend/Trial membership reporting purposes. It is optional for current SCCA full members. | O3: These colums are unlocked, and may be used as desired. The column headings may be changed to suit your needs. | Y3: G
C4: Event: | D4: ='SCCA Official Results'!H6 -> XYZ Rally | F4: ='SCCA Official Results'!H7 -> 44835 | I4: Organizing Region: | J4: ='SCCA Official Results'!H8 -> ABC (#) | Y4: L
A5: Car # | B5: Class | C5: First | D5: Last | E5: Address | F5: City | G5: ST | H5: Zip | I5: Member # | J5: Region | K5: Vehicle | L5: Phone | M5: e-mail | N5: Date of Birth | O5: $$ Due | P5: Event email List | Q5: Generals Sent | R5: Minor Waiver? | S5: Valid Annual Waiver | T5: Waiver Signed | U5: Valid Annual Waiver | V5: Richta Information | W5: User Defined 9 | X5: # | Y5: S
A6: 1 | B6: E | C6: D1First | D6: D1Last | E6: D1 Street | F6: D1City | G6: D1 | H6: D1Zip | I6: 11111 | J6: D1Reg | K6: V1 Year/Make/Model | L6: 11111111 | M6: =A6 -> 1 | N6: 36892 | X6: =A6 -> 1 | Y6: N
A7: 1.5 | C7: N1First | D7: N1Last | E7: N1 Street | F7: N1City | G7: N1 | H7: N1Zip | I7: 151515 | J7: N1Reg | L7: =A7 -> 1.5 | M7: =A7 -> 1.5 | N7: 36519 | X7: =A6 -> 1 | Y7: GTA
A8: 2 | B8: G | C8: =A8 -> 2 | D8: =A8 -> 2 | E8: - | F8: =A8 -> 2 | G8: =A8 -> 2 | I8: =A8 -> 2 | J8: =A8 -> 2 | K8: =A8 -> 2 | L8: =A8 -> 2 | M8: =A8 -> 2 | X8: =A8 -> 2
A9: 2.5 | C9: =A9 -> 2.5 | D9: =A9 -> 2.5 | E9: - | F9: =A9 -> 2.5 | G9: =A9 -> 2.5 | I9: =A9 -> 2.5 | J9: =A9 -> 2.5 | L9: =A9 -> 2.5 | M9: =A9 -> 2.5 | X9: =A8 -> 2
A10: 3 | B10: L | C10: =A10 -> 3 | D10: =A10 -> 3 | E10: - | F10: =A10 -> 3 | G10: =A10 -> 3 | I10: =A10 -> 3 | J10: =A10 -> 3 | K10: =A10 -> 3 | L10: =A10 -> 3 | M10: =A10 -> 3 | X10: =A10 -> 3
A11: 3.5 | C11: =A11 -> 3.5 | D11: =A11 -> 3.5 | E11: - | F11: =A11 -> 3.5 | G11: =A11 -> 3.5 | I11: =A11 -> 3.5 | J11: =A11 -> 3.5 | L11: =A11 -> 3.5 | M11: =A11 -> 3.5 | X11: =A10 -> 3
A12: 4 | B12: S | C12: =A12 -> 4 | D12: =A12 -> 4 | E12: - | F12: =A12 -> 4 | G12: =A12 -> 4 | I12: =A12 -> 4 | J12: =A12 -> 4 | K12: =A12 -> 4 | L12: =A12 -> 4 | M12: =A12 -> 4 | X12: =A12 -> 4
A13: 4.5 | C13: =A13 -> 4.5 | D13: =A13 -> 4.5 | E13: - | F13: =A13 -> 4.5 | G13: =A13 -> 4.5 | I13: =A13 -> 4.5 | J13: =A13 -> 4.5 | L13: =A13 -> 4.5 | M13: =A13 -> 4.5 | X13: =A12 -> 4
A14: 5 | B14: N | C14: =A14 -> 5 | D14: =A14 -> 5 | E14: - | F14: =A14 -> 5 | G14: =A14 -> 5 | I14: =A14 -> 5 | J14: =A14 -> 5 | K14: =A14 -> 5 | L14: =A14 -> 5 | M14: =A14 -> 5 | X14: =A14 -> 5
A15: 5.5 | C15: =A15 -> 5.5 | D15: =A15 -> 5.5 | E15: - | F15: =A15 -> 5.5 | G15: =A15 -> 5.5 | I15: =A15 -> 5.5 | J15: =A15 -> 5.5 | L15: =A15 -> 5.5 | M15: =A15 -> 5.5 | X15: =A14 -> 5
A16: 6 | B16: GTA | C16: =A16 -> 6 | D16: =A16 -> 6 | E16: - | F16: =A16 -> 6 | G16: =A16 -> 6 | I16: =A16 -> 6 | J16: =A16 -> 6 | K16: =A16 -> 6 | L16: =A16 -> 6 | M16: =A16 -> 6 | X16: =A16 -> 6
A17: 6.5 | C17: =A17 -> 6.5 | D17: =A17 -> 6.5 | E17: - | F17: =A17 -> 6.5 | G17: =A17 -> 6.5 | I17: =A17 -> 6.5 | J17: =A17 -> 6.5 | L17: =A17 -> 6.5 | M17: =A17 -> 6.5 | X17: =A16 -> 6
A18: 7 | B18: GTA | C18: =A18 -> 7 | D18: =A18 -> 7 | E18: - | F18: =A18 -> 7 | G18: =A18 -> 7 | I18: =A18 -> 7 | J18: =A18 -> 7 | K18: =A18 -> 7 | L18: =A18 -> 7 | M18: =A18 -> 7 | X18: =A18 -> 7
A19: 7.5 | C19: =A19 -> 7.5 | D19: =A19 -> 7.5 | E19: - | F19: =A19 -> 7.5 | G19: =A19 -> 7.5 | I19: =A19 -> 7.5 | J19: =A19 -> 7.5 | L19: =A19 -> 7.5 | M19: =A19 -> 7.5 | X19: =A18 -> 7
A20: 8 | B20: GTA | C20: =A20 -> 8 | D20: =A20 -> 8 | E20: - | F20: =A20 -> 8 | G20: =A20 -> 8 | I20: =A20 -> 8 | J20: =A20 -> 8 | K20: =A20 -> 8 | L20: =A20 -> 8 | M20: =A20 -> 8 | X20: =A20 -> 8
A21: 8.5 | C21: =A21 -> 8.5 | D21: =A21 -> 8.5 | E21: - | F21: =A21 -> 8.5 | G21: =A21 -> 8.5 | I21: =A21 -> 8.5 | J21: =A21 -> 8.5 | L21: =A21 -> 8.5 | M21: =A21 -> 8.5 | X21: =A20 -> 8
A22: 9 | B22: GTA | C22: =A22 -> 9 | D22: =A22 -> 9 | E22: - | F22: =A22 -> 9 | G22: =A22 -> 9 | I22: =A22 -> 9 | J22: =A22 -> 9 | K22: =A22 -> 9 | L22: =A22 -> 9 | M22: =A22 -> 9 | X22: =A22 -> 9
A23: 9.5 | C23: =A23 -> 9.5 | D23: =A23 -> 9.5 | E23: - | F23: =A23 -> 9.5 | G23: =A23 -> 9.5 | I23: =A23 -> 9.5 | J23: =A23 -> 9.5 | L23: =A23 -> 9.5 | M23: =A23 -> 9.5 | X23: =A22 -> 9
A24: 10 | B24: GTA | C24: =A24 -> 10 | D24: =A24 -> 10 | E24: - | F24: =A24 -> 10 | G24: =A24 -> 10 | I24: =A24 -> 10 | J24: =A24 -> 10 | K24: =A24 -> 10 | L24: =A24 -> 10 | M24: =A24 -> 10 | X24: =A24 -> 10
A25: 10.5 | C25: =A25 -> 10.5 | D25: =A25 -> 10.5 | E25: - | F25: =A25 -> 10.5 | G25: =A25 -> 10.5 | I25: =A25 -> 10.5 | J25: =A25 -> 10.5 | L25: =A25 -> 10.5 | M25: =A25 -> 10.5 | X25: =A24 -> 10
A26: 11 | B26: GTA | C26: =A26 -> 11 | D26: =A26 -> 11 | E26: - | F26: =A26 -> 11 | G26: =A26 -> 11 | I26: =A26 -> 11 | J26: =A26 -> 11 | K26: =A26 -> 11 | L26: =A26 -> 11 | M26: =A26 -> 11 | X26: =A26 -> 11
A27: 11.5 | C27: =A27 -> 11.5 | D27: =A27 -> 11.5 | E27: - | F27: =A27 -> 11.5 | G27: =A27 -> 11.5 | I27: =A27 -> 11.5 | J27: =A27 -> 11.5 | L27: =A27 -> 11.5 | M27: =A27 -> 11.5 | X27: =A26 -> 11
A28: 12 | B28: GTA | C28: =A28 -> 12 | D28: =A28 -> 12 | E28: - | F28: =A28 -> 12 | G28: =A28 -> 12 | I28: =A28 -> 12 | J28: =A28 -> 12 | K28: =A28 -> 12 | L28: =A28 -> 12 | M28: =A28 -> 12 | X28: =A28 -> 12
A29: 12.5 | C29: =A29 -> 12.5 | D29: =A29 -> 12.5 | E29: - | F29: =A29 -> 12.5 | G29: =A29 -> 12.5 | I29: =A29 -> 12.5 | J29: =A29 -> 12.5 | L29: =A29 -> 12.5 | M29: =A29 -> 12.5 | X29: =A28 -> 12
A30: 13 | B30: GTA | C30: =A30 -> 13 | D30: =A30 -> 13 | E30: - | F30: =A30 -> 13 | G30: =A30 -> 13 | I30: =A30 -> 13 | J30: =A30 -> 13 | K30: =A30 -> 13 | L30: =A30 -> 13 | M30: =A30 -> 13 | X30: =A30 -> 13
A31: 13.5 | C31: =A31 -> 13.5 | D31: =A31 -> 13.5 | E31: - | F31: =A31 -> 13.5 | G31: =A31 -> 13.5 | I31: =A31 -> 13.5 | J31: =A31 -> 13.5 | L31: =A31 -> 13.5 | M31: =A31 -> 13.5 | X31: =A30 -> 13
A32: 14 | B32: GTA | C32: =A32 -> 14 | D32: =A32 -> 14 | E32: - | F32: =A32 -> 14 | G32: =A32 -> 14 | I32: =A32 -> 14 | J32: =A32 -> 14 | K32: =A32 -> 14 | L32: =A32 -> 14 | M32: =A32 -> 14 | X32: =A32 -> 14
A33: 14.5 | C33: =A33 -> 14.5 | D33: =A33 -> 14.5 | E33: - | F33: =A33 -> 14.5 | G33: =A33 -> 14.5 | I33: =A33 -> 14.5 | J33: =A33 -> 14.5 | L33: =A33 -> 14.5 | M33: =A33 -> 14.5 | X33: =A32 -> 14
A34: 15 | B34: GTA | C34: =A34 -> 15 | D34: =A34 -> 15 | E34: - | F34: =A34 -> 15 | G34: =A34 -> 15 | I34: =A34 -> 15 | J34: =A34 -> 15 | K34: =A34 -> 15 | L34: =A34 -> 15 | M34: =A34 -> 15 | X34: =A34 -> 15
A35: 15.5 | C35: =A35 -> 15.5 | D35: =A35 -> 15.5 | E35: - | F35: =A35 -> 15.5 | G35: =A35 -> 15.5 | I35: =A35 -> 15.5 | J35: =A35 -> 15.5 | L35: =A35 -> 15.5 | M35: =A35 -> 15.5 | X35: =A34 -> 15
A36: 16 | B36: GTA | C36: =A36 -> 16 | D36: =A36 -> 16 | E36: - | F36: =A36 -> 16 | G36: =A36 -> 16 | I36: =A36 -> 16 | J36: =A36 -> 16 | K36: =A36 -> 16 | L36: =A36 -> 16 | M36: =A36 -> 16 | X36: =A36 -> 16
A37: 16.5 | C37: =A37 -> 16.5 | D37: =A37 -> 16.5 | E37: - | F37: =A37 -> 16.5 | G37: =A37 -> 16.5 | I37: =A37 -> 16.5 | J37: =A37 -> 16.5 | L37: =A37 -> 16.5 | M37: =A37 -> 16.5 | X37: =A36 -> 16
A38: 17 | B38: GTA | C38: =A38 -> 17 | D38: =A38 -> 17 | E38: - | F38: =A38 -> 17 | G38: =A38 -> 17 | I38: =A38 -> 17 | J38: =A38 -> 17 | K38: =A38 -> 17 | L38: =A38 -> 17 | M38: =A38 -> 17 | X38: =A38 -> 17
A39: 17.5 | C39: =A39 -> 17.5 | D39: =A39 -> 17.5 | E39: - | F39: =A39 -> 17.5 | G39: =A39 -> 17.5 | I39: =A39 -> 17.5 | J39: =A39 -> 17.5 | L39: =A39 -> 17.5 | M39: =A39 -> 17.5 | X39: =A38 -> 17
A40: 18 | B40: GTA | C40: =A40 -> 18 | D40: =A40 -> 18 | E40: - | F40: =A40 -> 18 | G40: =A40 -> 18 | I40: =A40 -> 18 | J40: =A40 -> 18 | K40: =A40 -> 18 | L40: =A40 -> 18 | M40: =A40 -> 18 | X40: =A40 -> 18
...

Sheet Entry List
B1: Event: | C1: ='SCCA Official Results'!H6 -> XYZ Rally | E1: Region: | F1: ='SCCA Official Results'!H8 -> ABC (#)
B2: Date: | C2: ='SCCA Official Results'!H7 -> 44835 | E2: Sanction #: | F2: ='SCCA Official Results'!H11 -> ?
A4: Entry List (in assigned start order):
A7: Car # | B7: Class | C7: Driver | E7: Hometown | G7: Member | H7: SCCA | I7: Hooptie
C8: Navigator | G8: Number | H8: Region
A9: 1 | B9: =VLOOKUP(A9,'Competitor Address List'!$A6:$M205,2) -> E | C9: =VLOOKUP($A9,'Competitor Address List'!$A6:$M205,3) -> D1First | D9: =VLOOKUP($A9,'Competitor Address List'!$A6:$M205,4) -> D1Last | E9: =VLOOKUP($A9,'Competitor Address List'!$A6:$M205,6) -> D1City | F9: =VLOOKUP($A9,'Competitor Address List'!$A6:$M205,7) -> D1 | G9: =VLOOKUP($A9,'Competitor Address List'!$A6:$M205,9) -> 11111 | H9: =VLOOKUP($A9,'Competitor Address List'!$A6:$M205,10) -> D1Reg | I9: =VLOOKUP($A9,'Competitor Address List'!$A6:$M205,11) -> V1 Year/Make/Model
C10: =VLOOKUP($A9+0.5,'Competitor Address List'!$A7:$M205,3) -> N1First | D10: =VLOOKUP($A9+0.5,'Competitor Address List'!$A7:$M205,4) -> N1Last | E10: =VLOOKUP($A9+0.5,'Competitor Address List'!$A7:$M205,6) -> N1City | F10: =VLOOKUP($A9+0.5,'Competitor Address List'!$A7:$M205,7) -> N1 | G10: =VLOOKUP($A9+0.5,'Competitor Address List'!$A7:$M205,9) -> 151515 | H10: =VLOOKUP($A9+0.5,'Competitor Address List'!$A7:$M205,10) -> N1Reg
A11: 2 | B11: =VLOOKUP(A11,'Competitor Address List'!$A8:$M205,2) -> G | C11: =VLOOKUP($A11,'Competitor Address List'!$A8:$M205,3) -> 2 | D11: =VLOOKUP($A11,'Competitor Address List'!$A8:$M205,4) -> 2 | E11: =VLOOKUP($A11,'Competitor Address List'!$A8:$M205,6) -> 2 | F11: =VLOOKUP($A11,'Competitor Address List'!$A8:$M205,7) -> 2 | G11: =VLOOKUP($A11,'Competitor Address List'!$A8:$M205,9) -> 2 | H11: =VLOOKUP($A11,'Competitor Address List'!$A8:$M205,10) -> 2 | I11: =VLOOKUP($A11,'Competitor Address List'!$A8:$M205,11) -> 2
C12: =VLOOKUP($A11+0.5,'Competitor Address List'!$A9:$M205,3) -> 2.5 | D12: =VLOOKUP($A11+0.5,'Competitor Address List'!$A9:$M205,4) -> 2.5 | E12: =VLOOKUP($A11+0.5,'Competitor Address List'!$A9:$M205,6) -> 2.5 | F12: =VLOOKUP($A11+0.5,'Competitor Address List'!$A9:$M205,7) -> 2.5 | G12: =VLOOKUP($A11+0.5,'Competitor Address List'!$A9:$M205,9) -> 2.5 | H12: =VLOOKUP($A11+0.5,'Competitor Address List'!$A9:$M205,10) -> 2.5
A13: 3 | B13: =VLOOKUP(A13,'Competitor Address List'!$A10:$M205,2) -> L | C13: =VLOOKUP($A13,'Competitor Address List'!$A10:$M205,3) -> 3 | D13: =VLOOKUP($A13,'Competitor Address List'!$A10:$M205,4) -> 3 | E13: =VLOOKUP($A13,'Competitor Address List'!$A10:$M205,6) -> 3 | F13: =VLOOKUP($A13,'Competitor Address List'!$A10:$M205,7) -> 3 | G13: =VLOOKUP($A13,'Competitor Address List'!$A10:$M205,9) -> 3 | H13: =VLOOKUP($A13,'Competitor Address List'!$A10:$M205,10) -> 3 | I13: =VLOOKUP($A13,'Competitor Address List'!$A10:$M205,11) -> 3
C14: =VLOOKUP($A13+0.5,'Competitor Address List'!$A11:$M205,3) -> 3.5 | D14: =VLOOKUP($A13+0.5,'Competitor Address List'!$A11:$M205,4) -> 3.5 | E14: =VLOOKUP($A13+0.5,'Competitor Address List'!$A11:$M205,6) -> 3.5 | F14: =VLOOKUP($A13+0.5,'Competitor Address List'!$A11:$M205,7) -> 3.5 | G14: =VLOOKUP($A13+0.5,'Competitor Address List'!$A11:$M205,9) -> 3.5 | H14: =VLOOKUP($A13+0.5,'Competitor Address List'!$A11:$M205,10) -> 3.5
A15: 4 | B15: =VLOOKUP(A15,'Competitor Address List'!$A12:$M205,2) -> S | C15: =VLOOKUP($A15,'Competitor Address List'!$A12:$M205,3) -> 4 | D15: =VLOOKUP($A15,'Competitor Address List'!$A12:$M205,4) -> 4 | E15: =VLOOKUP($A15,'Competitor Address List'!$A12:$M205,6) -> 4 | F15: =VLOOKUP($A15,'Competitor Address List'!$A12:$M205,7) -> 4 | G15: =VLOOKUP($A15,'Competitor Address List'!$A12:$M205,9) -> 4 | H15: =VLOOKUP($A15,'Competitor Address List'!$A12:$M205,10) -> 4 | I15: =VLOOKUP($A15,'Competitor Address List'!$A12:$M205,11) -> 4
C16: =VLOOKUP($A15+0.5,'Competitor Address List'!$A13:$M205,3) -> 4.5 | D16: =VLOOKUP($A15+0.5,'Competitor Address List'!$A13:$M205,4) -> 4.5 | E16: =VLOOKUP($A15+0.5,'Competitor Address List'!$A13:$M205,6) -> 4.5 | F16: =VLOOKUP($A15+0.5,'Competitor Address List'!$A13:$M205,7) -> 4.5 | G16: =VLOOKUP($A15+0.5,'Competitor Address List'!$A13:$M205,9) -> 4.5 | H16: =VLOOKUP($A15+0.5,'Competitor Address List'!$A13:$M205,10) -> 4.5
A17: 5 | B17: =VLOOKUP(A17,'Competitor Address List'!$A14:$M205,2) -> N | C17: =VLOOKUP($A17,'Competitor Address List'!$A14:$M205,3) -> 5 | D17: =VLOOKUP($A17,'Competitor Address List'!$A14:$M205,4) -> 5 | E17: =VLOOKUP($A17,'Competitor Address List'!$A14:$M205,6) -> 5 | F17: =VLOOKUP($A17,'Competitor Address List'!$A14:$M205,7) -> 5 | G17: =VLOOKUP($A17,'Competitor Address List'!$A14:$M205,9) -> 5 | H17: =VLOOKUP($A17,'Competitor Address List'!$A14:$M205,10) -> 5 | I17: =VLOOKUP($A17,'Competitor Address List'!$A14:$M205,11) -> 5
C18: =VLOOKUP($A17+0.5,'Competitor Address List'!$A15:$M205,3) -> 5.5 | D18: =VLOOKUP($A17+0.5,'Competitor Address List'!$A15:$M205,4) -> 5.5 | E18: =VLOOKUP($A17+0.5,'Competitor Address List'!$A15:$M205,6) -> 5.5 | F18: =VLOOKUP($A17+0.5,'Competitor Address List'!$A15:$M205,7) -> 5.5 | G18: =VLOOKUP($A17+0.5,'Competitor Address List'!$A15:$M205,9) -> 5.5 | H18: =VLOOKUP($A17+0.5,'Competitor Address List'!$A15:$M205,10) -> 5.5
A19: 6 | B19: =VLOOKUP(A19,'Competitor Address List'!$A16:$M205,2) -> GTA | C19: =VLOOKUP($A19,'Competitor Address List'!$A16:$M205,3) -> 6 | D19: =VLOOKUP($A19,'Competitor Address List'!$A16:$M205,4) -> 6 | E19: =VLOOKUP($A19,'Competitor Address List'!$A16:$M205,6) -> 6 | F19: =VLOOKUP($A19,'Competitor Address List'!$A16:$M205,7) -> 6 | G19: =VLOOKUP($A19,'Competitor Address List'!$A16:$M205,9) -> 6 | H19: =VLOOKUP($A19,'Competitor Address List'!$A16:$M205,10) -> 6 | I19: =VLOOKUP($A19,'Competitor Address List'!$A16:$M205,11) -> 6
C20: =VLOOKUP($A19+0.5,'Competitor Address List'!$A17:$M205,3) -> 6.5 | D20: =VLOOKUP($A19+0.5,'Competitor Address List'!$A17:$M205,4) -> 6.5 | E20: =VLOOKUP($A19+0.5,'Competitor Address List'!$A17:$M205,6) -> 6.5 | F20: =VLOOKUP($A19+0.5,'Competitor Address List'!$A17:$M205,7) -> 6.5 | G20: =VLOOKUP($A19+0.5,'Competitor Address List'!$A17:$M205,9) -> 6.5 | H20: =VLOOKUP($A19+0.5,'Competitor Address List'!$A17:$M205,10) -> 6.5
A21: 7 | B21: =VLOOKUP(A21,'Competitor Address List'!$A18:$M205,2) -> GTA | C21: =VLOOKUP($A21,'Competitor Address List'!$A18:$M205,3) -> 7 | D21: =VLOOKUP($A21,'Competitor Address List'!$A18:$M205,4) -> 7 | E21: =VLOOKUP($A21,'Competitor Address List'!$A18:$M205,6) -> 7 | F21: =VLOOKUP($A21,'Competitor Address List'!$A18:$M205,7) -> 7 | G21: =VLOOKUP($A21,'Competitor Address List'!$A18:$M205,9) -> 7 | H21: =VLOOKUP($A21,'Competitor Address List'!$A18:$M205,10) -> 7 | I21: =VLOOKUP($A21,'Competitor Address List'!$A18:$M205,11) -> 7
C22: =VLOOKUP($A21+0.5,'Competitor Address List'!$A19:$M205,3) -> 7.5 | D22: =VLOOKUP($A21+0.5,'Competitor Address List'!$A19:$M205,4) -> 7.5 | E22: =VLOOKUP($A21+0.5,'Competitor Address List'!$A19:$M205,6) -> 7.5 | F22: =VLOOKUP($A21+0.5,'Competitor Address List'!$A19:$M205,7) -> 7.5 | G22: =VLOOKUP($A21+0.5,'Competitor Address List'!$A19:$M205,9) -> 7.5 | H22: =VLOOKUP($A21+0.5,'Competitor Address List'!$A19:$M205,10) -> 7.5
A23: 8 | B23: =VLOOKUP(A23,'Competitor Address List'!$A20:$M205,2) -> GTA | C23: =VLOOKUP($A23,'Competitor Address List'!$A20:$M205,3) -> 8 | D23: =VLOOKUP($A23,'Competitor Address List'!$A20:$M205,4) -> 8 | E23: =VLOOKUP($A23,'Competitor Address List'!$A20:$M205,6) -> 8 | F23: =VLOOKUP($A23,'Competitor Address List'!$A20:$M205,7) -> 8 | G23: =VLOOKUP($A23,'Competitor Address List'!$A20:$M205,9) -> 8 | H23: =VLOOKUP($A23,'Competitor Address List'!$A20:$M205,10) -> 8 | I23: =VLOOKUP($A23,'Competitor Address List'!$A20:$M205,11) -> 8
C24: =VLOOKUP($A23+0.5,'Competitor Address List'!$A21:$M205,3) -> 8.5 | D24: =VLOOKUP($A23+0.5,'Competitor Address List'!$A21:$M205,4) -> 8.5 | E24: =VLOOKUP($A23+0.5,'Competitor Address List'!$A21:$M205,6) -> 8.5 | F24: =VLOOKUP($A23+0.5,'Competitor Address List'!$A21:$M205,7) -> 8.5 | G24: =VLOOKUP($A23+0.5,'Competitor Address List'!$A21:$M205,9) -> 8.5 | H24: =VLOOKUP($A23+0.5,'Competitor Address List'!$A21:$M205,10) -> 8.5
A25: 9 | B25: =VLOOKUP(A25,'Competitor Address List'!$A22:$M205,2) -> GTA | C25: =VLOOKUP($A25,'Competitor Address List'!$A22:$M205,3) -> 9 | D25: =VLOOKUP($A25,'Competitor Address List'!$A22:$M205,4) -> 9 | E25: =VLOOKUP($A25,'Competitor Address List'!$A22:$M205,6) -> 9 | F25: =VLOOKUP($A25,'Competitor Address List'!$A22:$M205,7) -> 9 | G25: =VLOOKUP($A25,'Competitor Address List'!$A22:$M205,9) -> 9 | H25: =VLOOKUP($A25,'Competitor Address List'!$A22:$M205,10) -> 9 | I25: =VLOOKUP($A25,'Competitor Address List'!$A22:$M205,11) -> 9
C26: =VLOOKUP($A25+0.5,'Competitor Address List'!$A23:$M205,3) -> 9.5 | D26: =VLOOKUP($A25+0.5,'Competitor Address List'!$A23:$M205,4) -> 9.5 | E26: =VLOOKUP($A25+0.5,'Competitor Address List'!$A23:$M205,6) -> 9.5 | F26: =VLOOKUP($A25+0.5,'Competitor Address List'!$A23:$M205,7) -> 9.5 | G26: =VLOOKUP($A25+0.5,'Competitor Address List'!$A23:$M205,9) -> 9.5 | H26: =VLOOKUP($A25+0.5,'Competitor Address List'!$A23:$M205,10) -> 9.5
A27: 10 | B27: =VLOOKUP(A27,'Competitor Address List'!$A24:$M205,2) -> GTA | C27: =VLOOKUP($A27,'Competitor Address List'!$A24:$M205,3) -> 10 | D27: =VLOOKUP($A27,'Competitor Address List'!$A24:$M205,4) -> 10 | E27: =VLOOKUP($A27,'Competitor Address List'!$A24:$M205,6) -> 10 | F27: =VLOOKUP($A27,'Competitor Address List'!$A24:$M205,7) -> 10 | G27: =VLOOKUP($A27,'Competitor Address List'!$A24:$M205,9) -> 10 | H27: =VLOOKUP($A27,'Competitor Address List'!$A24:$M205,10) -> 10 | I27: =VLOOKUP($A27,'Competitor Address List'!$A24:$M205,11) -> 10
C28: =VLOOKUP($A27+0.5,'Competitor Address List'!$A25:$M205,3) -> 10.5 | D28: =VLOOKUP($A27+0.5,'Competitor Address List'!$A25:$M205,4) -> 10.5 | E28: =VLOOKUP($A27+0.5,'Competitor Address List'!$A25:$M205,6) -> 10.5 | F28: =VLOOKUP($A27+0.5,'Competitor Address List'!$A25:$M205,7) -> 10.5 | G28: =VLOOKUP($A27+0.5,'Competitor Address List'!$A25:$M205,9) -> 10.5 | H28: =VLOOKUP($A27+0.5,'Competitor Address List'!$A25:$M205,10) -> 10.5
A29: 11 | B29: =VLOOKUP(A29,'Competitor Address List'!$A26:$M205,2) -> GTA | C29: =VLOOKUP($A29,'Competitor Address List'!$A26:$M205,3) -> 11 | D29: =VLOOKUP($A29,'Competitor Address List'!$A26:$M205,4) -> 11 | E29: =VLOOKUP($A29,'Competitor Address List'!$A26:$M205,6) -> 11 | F29: =VLOOKUP($A29,'Competitor Address List'!$A26:$M205,7) -> 11 | G29: =VLOOKUP($A29,'Competitor Address List'!$A26:$M205,9) -> 11 | H29: =VLOOKUP($A29,'Competitor Address List'!$A26:$M205,10) -> 11 | I29: =VLOOKUP($A29,'Competitor Address List'!$A26:$M205,11) -> 11
C30: =VLOOKUP($A29+0.5,'Competitor Address List'!$A27:$M205,3) -> 11.5 | D30: =VLOOKUP($A29+0.5,'Competitor Address List'!$A27:$M205,4) -> 11.5 | E30: =VLOOKUP($A29+0.5,'Competitor Address List'!$A27:$M205,6) -> 11.5 | F30: =VLOOKUP($A29+0.5,'Competitor Address List'!$A27:$M205,7) -> 11.5 | G30: =VLOOKUP($A29+0.5,'Competitor Address List'!$A27:$M205,9) -> 11.5 | H30: =VLOOKUP($A29+0.5,'Competitor Address List'!$A27:$M205,10) -> 11.5
A31: 12 | B31: =VLOOKUP(A31,'Competitor Address List'!$A28:$M205,2) -> GTA | C31: =VLOOKUP($A31,'Competitor Address List'!$A28:$M205,3) -> 12 | D31: =VLOOKUP($A31,'Competitor Address List'!$A28:$M205,4) -> 12 | E31: =VLOOKUP($A31,'Competitor Address List'!$A28:$M205,6) -> 12 | F31: =VLOOKUP($A31,'Competitor Address List'!$A28:$M205,7) -> 12 | G31: =VLOOKUP($A31,'Competitor Address List'!$A28:$M205,9) -> 12 | H31: =VLOOKUP($A31,'Competitor Address List'!$A28:$M205,10) -> 12 | I31: =VLOOKUP($A31,'Competitor Address List'!$A28:$M205,11) -> 12
C32: =VLOOKUP($A31+0.5,'Competitor Address List'!$A29:$M205,3) -> 12.5 | D32: =VLOOKUP($A31+0.5,'Competitor Address List'!$A29:$M205,4) -> 12.5 | E32: =VLOOKUP($A31+0.5,'Competitor Address List'!$A29:$M205,6) -> 12.5 | F32: =VLOOKUP($A31+0.5,'Competitor Address List'!$A29:$M205,7) -> 12.5 | G32: =VLOOKUP($A31+0.5,'Competitor Address List'!$A29:$M205,9) -> 12.5 | H32: =VLOOKUP($A31+0.5,'Competitor Address List'!$A29:$M205,10) -> 12.5
A33: 13 | B33: =VLOOKUP(A33,'Competitor Address List'!$A30:$M205,2) -> GTA | C33: =VLOOKUP($A33,'Competitor Address List'!$A30:$M205,3) -> 13 | D33: =VLOOKUP($A33,'Competitor Address List'!$A30:$M205,4) -> 13 | E33: =VLOOKUP($A33,'Competitor Address List'!$A30:$M205,6) -> 13 | F33: =VLOOKUP($A33,'Competitor Address List'!$A30:$M205,7) -> 13 | G33: =VLOOKUP($A33,'Competitor Address List'!$A30:$M205,9) -> 13 | H33: =VLOOKUP($A33,'Competitor Address List'!$A30:$M205,10) -> 13 | I33: =VLOOKUP($A33,'Competitor Address List'!$A30:$M205,11) -> 13
C34: =VLOOKUP($A33+0.5,'Competitor Address List'!$A31:$M205,3) -> 13.5 | D34: =VLOOKUP($A33+0.5,'Competitor Address List'!$A31:$M205,4) -> 13.5 | E34: =VLOOKUP($A33+0.5,'Competitor Address List'!$A31:$M205,6) -> 13.5 | F34: =VLOOKUP($A33+0.5,'Competitor Address List'!$A31:$M205,7) -> 13.5 | G34: =VLOOKUP($A33+0.5,'Competitor Address List'!$A31:$M205,9) -> 13.5 | H34: =VLOOKUP($A33+0.5,'Competitor Address List'!$A31:$M205,10) -> 13.5
A35: 14 | B35: =VLOOKUP(A35,'Competitor Address List'!$A32:$M205,2) -> GTA | C35: =VLOOKUP($A35,'Competitor Address List'!$A32:$M205,3) -> 14 | D35: =VLOOKUP($A35,'Competitor Address List'!$A32:$M205,4) -> 14 | E35: =VLOOKUP($A35,'Competitor Address List'!$A32:$M205,6) -> 14 | F35: =VLOOKUP($A35,'Competitor Address List'!$A32:$M205,7) -> 14 | G35: =VLOOKUP($A35,'Competitor Address List'!$A32:$M205,9) -> 14 | H35: =VLOOKUP($A35,'Competitor Address List'!$A32:$M205,10) -> 14 | I35: =VLOOKUP($A35,'Competitor Address List'!$A32:$M205,11) -> 14
C36: =VLOOKUP($A35+0.5,'Competitor Address List'!$A33:$M205,3) -> 14.5 | D36: =VLOOKUP($A35+0.5,'Competitor Address List'!$A33:$M205,4) -> 14.5 | E36: =VLOOKUP($A35+0.5,'Competitor Address List'!$A33:$M205,6) -> 14.5 | F36: =VLOOKUP($A35+0.5,'Competitor Address List'!$A33:$M205,7) -> 14.5 | G36: =VLOOKUP($A35+0.5,'Competitor Address List'!$A33:$M205,9) -> 14.5 | H36: =VLOOKUP($A35+0.5,'Competitor Address List'!$A33:$M205,10) -> 14.5
A37: 15 | B37: =VLOOKUP(A37,'Competitor Address List'!$A34:$M205,2) -> GTA | C37: =VLOOKUP($A37,'Competitor Address List'!$A34:$M205,3) -> 15 | D37: =VLOOKUP($A37,'Competitor Address List'!$A34:$M205,4) -> 15 | E37: =VLOOKUP($A37,'Competitor Address List'!$A34:$M205,6) -> 15 | F37: =VLOOKUP($A37,'Competitor Address List'!$A34:$M205,7) -> 15 | G37: =VLOOKUP($A37,'Competitor Address List'!$A34:$M205,9) -> 15 | H37: =VLOOKUP($A37,'Competitor Address List'!$A34:$M205,10) -> 15 | I37: =VLOOKUP($A37,'Competitor Address List'!$A34:$M205,11) -> 15
C38: =VLOOKUP($A37+0.5,'Competitor Address List'!$A35:$M205,3) -> 15.5 | D38: =VLOOKUP($A37+0.5,'Competitor Address List'!$A35:$M205,4) -> 15.5 | E38: =VLOOKUP($A37+0.5,'Competitor Address List'!$A35:$M205,6) -> 15.5 | F38: =VLOOKUP($A37+0.5,'Competitor Address List'!$A35:$M205,7) -> 15.5 | G38: =VLOOKUP($A37+0.5,'Competitor Address List'!$A35:$M205,9) -> 15.5 | H38: =VLOOKUP($A37+0.5,'Competitor Address List'!$A35:$M205,10) -> 15.5
A39: 16 | B39: =VLOOKUP(A39,'Competitor Address List'!$A36:$M205,2) -> GTA | C39: =VLOOKUP($A39,'Competitor Address List'!$A36:$M205,3) -> 16 | D39: =VLOOKUP($A39,'Competitor Address List'!$A36:$M205,4) -> 16 | E39: =VLOOKUP($A39,'Competitor Address List'!$A36:$M205,6) -> 16 | F39: =VLOOKUP($A39,'Competitor Address List'!$A36:$M205,7) -> 16 | G39: =VLOOKUP($A39,'Competitor Address List'!$A36:$M205,9) -> 16 | H39: =VLOOKUP($A39,'Competitor Address List'!$A36:$M205,10) -> 16 | I39: =VLOOKUP($A39,'Competitor Address List'!$A36:$M205,11) -> 16
C40: =VLOOKUP($A39+0.5,'Competitor Address List'!$A37:$M205,3) -> 16.5 | D40: =VLOOKUP($A39+0.5,'Competitor Address List'!$A37:$M205,4) -> 16.5 | E40: =VLOOKUP($A39+0.5,'Competitor Address List'!$A37:$M205,6) -> 16.5 | F40: =VLOOKUP($A39+0.5,'Competitor Address List'!$A37:$M205,7) -> 16.5 | G40: =VLOOKUP($A39+0.5,'Competitor Address List'!$A37:$M205,9) -> 16.5 | H40: =VLOOKUP($A39+0.5,'Competitor Address List'!$A37:$M205,10) -> 16.5
A41: 17 | B41: =VLOOKUP(A41,'Competitor Address List'!$A38:$M205,2) -> GTA | C41: =VLOOKUP($A41,'Competitor Address List'!$A38:$M205,3) -> 17 | D41: =VLOOKUP($A41,'Competitor Address List'!$A38:$M205,4) -> 17 | E41: =VLOOKUP($A41,'Competitor Address List'!$A38:$M205,6) -> 17 | F41: =VLOOKUP($A41,'Competitor Address List'!$A38:$M205,7) -> 17 | G41: =VLOOKUP($A41,'Competitor Address List'!$A38:$M205,9) -> 17 | H41: =VLOOKUP($A41,'Competitor Address List'!$A38:$M205,10) -> 17 | I41: =VLOOKUP($A41,'Competitor Address List'!$A38:$M205,11) -> 17
C42: =VLOOKUP($A41+0.5,'Competitor Address List'!$A39:$M205,3) -> 17.5 | D42: =VLOOKUP($A41+0.5,'Competitor Address List'!$A39:$M205,4) -> 17.5 | E42: =VLOOKUP($A41+0.5,'Competitor Address List'!$A39:$M205,6) -> 17.5 | F42: =VLOOKUP($A41+0.5,'Competitor Address List'!$A39:$M205,7) -> 17.5 | G42: =VLOOKUP($A41+0.5,'Competitor Address List'!$A39:$M205,9) -> 17.5 | H42: =VLOOKUP($A41+0.5,'Competitor Address List'!$A39:$M205,10) -> 17.5
A43: 18 | B43: =VLOOKUP(A43,'Competitor Address List'!$A40:$M205,2) -> GTA | C43: =VLOOKUP($A43,'Competitor Address List'!$A40:$M205,3) -> 18 | D43: =VLOOKUP($A43,'Competitor Address List'!$A40:$M205,4) -> 18 | E43: =VLOOKUP($A43,'Competitor Address List'!$A40:$M205,6) -> 18 | F43: =VLOOKUP($A43,'Competitor Address List'!$A40:$M205,7) -> 18 | G43: =VLOOKUP($A43,'Competitor Address List'!$A40:$M205,9) -> 18 | H43: =VLOOKUP($A43,'Competitor Address List'!$A40:$M205,10) -> 18 | I43: =VLOOKUP($A43,'Competitor Address List'!$A40:$M205,11) -> 18
...

Sheet SCCA Official Results
B1: Notes:
D2: 1) User inputs in blue shaded cells only. All other cells will be automatically filled with information extracted from participant address list.
A4: OFFICIAL RESULTS: SCCA National Rally Championships | K4: Submit results and participant address list to:
L5: 1) National rally pointskeeper: | O5: smuncher@windstream.net | S5: Divisional
G6: Event Name: | H6: XYZ Rally | L6: 2) SCCA Rally Department: | O6: sanction@scca.com | Q6: <<<< | R6: Enter rally identifying information here. | S6: National
G7: Event Date: | H7: 44835 | L7: 3) SCCA Road Rally Board: | O7: rrb@scca.com
G8: Organizing Region: | H8: ABC (#) | L8: 4) SCCA Membership Department: | O8: membership@scca.com | S8: Course
G9: Sanction Level: | H9: Divisional | L9: 5) SCCA National Event Committee: | O9: nec@scca.com | S9: Tour
G10: Series: | H10: Tour | S10: GTA
G11: Sanction #: | H11: ?
G12: Course length: | H12: ? | S12: 0.01 minute
G13: # of Scored Controls: | H13: ? | S13: Second
G14: Scoring Unit: | H14: Second | L14: Pointskeeper Name (Member #) | S14: Responses
L15: Signature of event official certifying results | S15: Other:_________
A16: Worker Points (to be awaded to event chairman, rallymaster , and safety steward/precheckers only):
H17: First | I17: Last | J17: Hometown | K17: ST | L17: Member # | M17: Region | N17: Series | O17: Class | P17: Capacity | S17: Equipped | U17: Chair
G18: Worker Points (#1): | Q18: <<<< | R18: Enter information for key members of the organizing team nominated to receive worker points here. | S18: GPS | U18: RM
G19: Worker Points (#2): | S19: Limited | U19: SS
G20: Worker Points (#3): | S20: Stock | U20: Pre-Check
G21: Worker Points (#4): | S21: GTA
S22: 1
A23: Finish Positions | S23: 0
B24: Class | H24: Team Members | J24: Hometown | L24: SCCA | M24: SCCA | P24: Total | Q24: 1 | R24: Sort order: 1 = Ascending total scores, 0 = Descending total scores. | S24: Class | Y24: Score | AE24: Ranking
A25: O/A | B25: E | C25: G | D25: L | E25: S | F25: N | G25: GTA | H25: First | I25: Last | J25: City | K25: ST | L25: Member # | M25: Region | N25: Car # | O25: Vehicle | P25: Score | S25: E | T25: G | U25: L | V25: S | W25: N | X25: GTA | Y25: E | Z25: G | AA25: L | AB25: S | AC25: N | AD25: GTA | AE25: E | AF25: G | AG25: L | AH25: S | AI25: N | AJ25: GTA
A26: =RANK(P26,$P$26:$P$225,$Q$24) -> 1 | B26: =AE26 -> 1 | C26: =AF26 | D26: =AG26 | E26: =AH26 | F26: =AI26 | G26: =AJ26 | H26: =VLOOKUP($N26,'Competitor Address List'!$A$6:$M$205,3) -> D1First | I26: =VLOOKUP($N26,'Competitor Address List'!$A$6:$M$205,4) -> D1Last | J26: =VLOOKUP($N26,'Competitor Address List'!$A$6:$M$205,6) -> D1City | K26: =VLOOKUP($N26,'Competitor Address List'!$A$6:$M$205,7) -> D1 | L26: =VLOOKUP($N26,'Competitor Address List'!$A$6:$M$205,9) -> 11111 | M26: =VLOOKUP($N26,'Competitor Address List'!$A$6:$M$205,10) -> D1Reg | N26: 1 | O26: =VLOOKUP($N26,'Competitor Address List'!$A$6:$M$205,11) -> V1 Year/Make/Model | P26: 1001 | Q26: <<<< | R26: Enter Car # and Total Score of 1st | S26: =IF(VLOOKUP($N26,'Competitor Address List'!$A$6:$M$205,2)=S$25,1,"X") -> 1 | T26: =IF(VLOOKUP($N26,'Competitor Address List'!$A$6:$M$205,2)=T$25,1,"X") -> X | U26: =IF(VLOOKUP($N26,'Competitor Address List'!$A$6:$M$205,2)=U$25,1,"X") -> X | V26: =IF(OR(VLOOKUP($N26,'Competitor Address List'!$A$6:$M$205,2)=V$25,W26=1),1,"X") -> X | W26: =IF(VLOOKUP($N26,'Competitor Address List'!$A$6:$M$205,2)=W$25,1,"X") -> X | X26: =IF(VLOOKUP($N26,'Competitor Address List'!$A$6:$M$205,2)=X$25,1,"X") -> X | Y26: =IF(S26="X","-",$P26) -> 1001 | Z26: =IF(T26="X","-",$P26) -> - | AA26: =IF(U26="X","-",$P26) -> - | AB26: =IF(V26="X","-",$P26) -> - | AC26: =IF(W26="X","-",$P26) -> - | AD26: =IF(X26="X","-",$P26) -> - | AE26: =IF(Y26="-"," ",RANK(Y26,Y$26:Y$225,$Q$24)) -> 1 | AF26: =IF(Z26="-"," ",RANK(Z26,Z$26:Z$225,$Q$24)) | AG26: =IF(AA26="-"," ",RANK(AA26,AA$26:AA$225,$Q$24)) | AH26: =IF(AB26="-"," ",RANK(AB26,AB$26:AB$225,$Q$24)) | AI26: =IF(AC26="-"," ",RANK(AC26,AC$26:AC$225,$Q$24)) | AJ26: =IF(AD26="-"," ",RANK(AD26,AD$26:AD$225,$Q$24))
H27: =VLOOKUP($N26+0.5,'Competitor Address List'!$A$6:$M$205,3) -> N1First | I27: =VLOOKUP($N26+0.5,'Competitor Address List'!$A$6:$M$205,4) -> N1Last | J27: =VLOOKUP($N26+0.5,'Competitor Address List'!$A$6:$M$205,6) -> N1City | K27: =VLOOKUP($N26+0.5,'Competitor Address List'!$A$6:$M$205,7) -> N1 | L27: =VLOOKUP($N26+0.5,'Competitor Address List'!$A$6:$M$205,9) -> 151515 | M27: =VLOOKUP($N26+0.5,'Competitor Address List'!$A$6:$M$205,10) -> N1Reg | O27: =VLOOKUP($N27,'Competitor Address List'!$A$6:$M$65,15) -> #N/A | R27: Overall finisher.
A28: =RANK(P28,$P$26:$P$225,$Q$24) -> 2 | B28: =AE28 | C28: =AF28 -> 1 | D28: =AG28 | E28: =AH28 | F28: =AI28 | G28: =AJ28 | H28: =VLOOKUP($N28,'Competitor Address List'!$A$6:$M$205,3) -> 2 | I28: =VLOOKUP($N28,'Competitor Address List'!$A$6:$M$205,4) -> 2 | J28: =VLOOKUP($N28,'Competitor Address List'!$A$6:$M$205,6) -> 2 | K28: =VLOOKUP($N28,'Competitor Address List'!$A$6:$M$205,7) -> 2 | L28: =VLOOKUP($N28,'Competitor Address List'!$A$6:$M$205,9) -> 2 | M28: =VLOOKUP($N28,'Competitor Address List'!$A$6:$M$205,10) -> 2 | N28: 2 | O28: =VLOOKUP($N28,'Competitor Address List'!$A$6:$M$205,11) -> 2 | P28: =P26+1 -> 1002 | Q28: <<<< | R28: Enter Car # and Total Score of 2nd | S28: =IF(VLOOKUP($N28,'Competitor Address List'!$A$6:$M$205,2)=S$25,1,"X") -> X | T28: =IF(VLOOKUP($N28,'Competitor Address List'!$A$6:$M$205,2)=T$25,1,"X") -> 1 | U28: =IF(VLOOKUP($N28,'Competitor Address List'!$A$6:$M$205,2)=U$25,1,"X") -> X | V28: =IF(OR(VLOOKUP($N28,'Competitor Address List'!$A$6:$M$205,2)=V$25,W28=1),1,"X") -> X | W28: =IF(VLOOKUP($N28,'Competitor Address List'!$A$6:$M$205,2)=W$25,1,"X") -> X | X28: =IF(VLOOKUP($N28,'Competitor Address List'!$A$6:$M$205,2)=X$25,1,"X") -> X | Y28: =IF(S28="X","-",$P28) -> - | Z28: =IF(T28="X","-",$P28) -> 1002 | AA28: =IF(U28="X","-",$P28) -> - | AB28: =IF(V28="X","-",$P28) -> - | AC28: =IF(W28="X","-",$P28) -> - | AD28: =IF(X28="X","-",$P28) -> - | AE28: =IF(Y28="-"," ",RANK(Y28,Y$26:Y$225,$Q$24)) | AF28: =IF(Z28="-"," ",RANK(Z28,Z$26:Z$225,$Q$24)) -> 1 | AG28: =IF(AA28="-"," ",RANK(AA28,AA$26:AA$225,$Q$24)) | AH28: =IF(AB28="-"," ",RANK(AB28,AB$26:AB$225,$Q$24)) | AI28: =IF(AC28="-"," ",RANK(AC28,AC$26:AC$225,$Q$24)) | AJ28: =IF(AD28="-"," ",RANK(AD28,AD$26:AD$225,$Q$24))
H29: =VLOOKUP($N28+0.5,'Competitor Address List'!$A$6:$M$205,3) -> 2.5 | I29: =VLOOKUP($N28+0.5,'Competitor Address List'!$A$6:$M$205,4) -> 2.5 | J29: =VLOOKUP($N28+0.5,'Competitor Address List'!$A$6:$M$205,6) -> 2.5 | K29: =VLOOKUP($N28+0.5,'Competitor Address List'!$A$6:$M$205,7) -> 2.5 | L29: =VLOOKUP($N28+0.5,'Competitor Address List'!$A$6:$M$205,9) -> 2.5 | M29: =VLOOKUP($N28+0.5,'Competitor Address List'!$A$6:$M$205,10) -> 2.5 | O29: =VLOOKUP($N29,'Competitor Address List'!$A$6:$M$65,15) -> #N/A | R29: Overall (or tied) finisher.
A30: =RANK(P30,$P$26:$P$225,$Q$24) -> 3 | B30: =AE30 | C30: =AF30 | D30: =AG30 -> 1 | E30: =AH30 | F30: =AI30 | G30: =AJ30 | H30: =VLOOKUP($N30,'Competitor Address List'!$A$6:$M$205,3) -> 3 | I30: =VLOOKUP($N30,'Competitor Address List'!$A$6:$M$205,4) -> 3 | J30: =VLOOKUP($N30,'Competitor Address List'!$A$6:$M$205,6) -> 3 | K30: =VLOOKUP($N30,'Competitor Address List'!$A$6:$M$205,7) -> 3 | L30: =VLOOKUP($N30,'Competitor Address List'!$A$6:$M$205,9) -> 3 | M30: =VLOOKUP($N30,'Competitor Address List'!$A$6:$M$205,10) -> 3 | N30: 3 | O30: =VLOOKUP($N30,'Competitor Address List'!$A$6:$M$205,11) -> 3 | P30: =P28+1 -> 1003 | Q30: <<<< | R30: Enter Car # and Total Score of 3rd | S30: =IF(VLOOKUP($N30,'Competitor Address List'!$A$6:$M$205,2)=S$25,1,"X") -> X | T30: =IF(VLOOKUP($N30,'Competitor Address List'!$A$6:$M$205,2)=T$25,1,"X") -> X | U30: =IF(VLOOKUP($N30,'Competitor Address List'!$A$6:$M$205,2)=U$25,1,"X") -> 1 | V30: =IF(OR(VLOOKUP($N30,'Competitor Address List'!$A$6:$M$205,2)=V$25,W30=1),1,"X") -> X | W30: =IF(VLOOKUP($N30,'Competitor Address List'!$A$6:$M$205,2)=W$25,1,"X") -> X | X30: =IF(VLOOKUP($N30,'Competitor Address List'!$A$6:$M$205,2)=X$25,1,"X") -> X | Y30: =IF(S30="X","-",$P30) -> - | Z30: =IF(T30="X","-",$P30) -> - | AA30: =IF(U30="X","-",$P30) -> 1003 | AB30: =IF(V30="X","-",$P30) -> - | AC30: =IF(W30="X","-",$P30) -> - | AD30: =IF(X30="X","-",$P30) -> - | AE30: =IF(Y30="-"," ",RANK(Y30,Y$26:Y$225,$Q$24)) | AF30: =IF(Z30="-"," ",RANK(Z30,Z$26:Z$225,$Q$24)) | AG30: =IF(AA30="-"," ",RANK(AA30,AA$26:AA$225,$Q$24)) -> 1 | AH30: =IF(AB30="-"," ",RANK(AB30,AB$26:AB$225,$Q$24)) | AI30: =IF(AC30="-"," ",RANK(AC30,AC$26:AC$225,$Q$24)) | AJ30: =IF(AD30="-"," ",RANK(AD30,AD$26:AD$225,$Q$24))
H31: =VLOOKUP($N30+0.5,'Competitor Address List'!$A$6:$M$205,3) -> 3.5 | I31: =VLOOKUP($N30+0.5,'Competitor Address List'!$A$6:$M$205,4) -> 3.5 | J31: =VLOOKUP($N30+0.5,'Competitor Address List'!$A$6:$M$205,6) -> 3.5 | K31: =VLOOKUP($N30+0.5,'Competitor Address List'!$A$6:$M$205,7) -> 3.5 | L31: =VLOOKUP($N30+0.5,'Competitor Address List'!$A$6:$M$205,9) -> 3.5 | M31: =VLOOKUP($N30+0.5,'Competitor Address List'!$A$6:$M$205,10) -> 3.5 | O31: =VLOOKUP($N31,'Competitor Address List'!$A$6:$M$65,15) -> #N/A | R31: Overall (or tied) finisher.
A32: =RANK(P32,$P$26:$P$225,$Q$24) -> 4 | B32: =AE32 | C32: =AF32 | D32: =AG32 | E32: =AH32 -> 1 | F32: =AI32 | G32: =AJ32 | H32: =VLOOKUP($N32,'Competitor Address List'!$A$6:$M$205,3) -> 4 | I32: =VLOOKUP($N32,'Competitor Address List'!$A$6:$M$205,4) -> 4 | J32: =VLOOKUP($N32,'Competitor Address List'!$A$6:$M$205,6) -> 4 | K32: =VLOOKUP($N32,'Competitor Address List'!$A$6:$M$205,7) -> 4 | L32: =VLOOKUP($N32,'Competitor Address List'!$A$6:$M$205,9) -> 4 | M32: =VLOOKUP($N32,'Competitor Address List'!$A$6:$M$205,10) -> 4 | N32: 4 | O32: =VLOOKUP($N32,'Competitor Address List'!$A$6:$M$205,11) -> 4 | P32: =P30+1 -> 1004 | Q32: <<<< | R32: 4th O/A | S32: =IF(VLOOKUP($N32,'Competitor Address List'!$A$6:$M$205,2)=S$25,1,"X") -> X | T32: =IF(VLOOKUP($N32,'Competitor Address List'!$A$6:$M$205,2)=T$25,1,"X") -> X | U32: =IF(VLOOKUP($N32,'Competitor Address List'!$A$6:$M$205,2)=U$25,1,"X") -> X | V32: =IF(OR(VLOOKUP($N32,'Competitor Address List'!$A$6:$M$205,2)=V$25,W32=1),1,"X") -> 1 | W32: =IF(VLOOKUP($N32,'Competitor Address List'!$A$6:$M$205,2)=W$25,1,"X") -> X | X32: =IF(VLOOKUP($N32,'Competitor Address List'!$A$6:$M$205,2)=X$25,1,"X") -> X | Y32: =IF(S32="X","-",$P32) -> - | Z32: =IF(T32="X","-",$P32) -> - | AA32: =IF(U32="X","-",$P32) -> - | AB32: =IF(V32="X","-",$P32) -> 1004 | AC32: =IF(W32="X","-",$P32) -> - | AD32: =IF(X32="X","-",$P32) -> - | AE32: =IF(Y32="-"," ",RANK(Y32,Y$26:Y$225,$Q$24)) | AF32: =IF(Z32="-"," ",RANK(Z32,Z$26:Z$225,$Q$24)) | AG32: =IF(AA32="-"," ",RANK(AA32,AA$26:AA$225,$Q$24)) | AH32: =IF(AB32="-"," ",RANK(AB32,AB$26:AB$225,$Q$24)) -> 1 | AI32: =IF(AC32="-"," ",RANK(AC32,AC$26:AC$225,$Q$24)) | AJ32: =IF(AD32="-"," ",RANK(AD32,AD$26:AD$225,$Q$24))
H33: =VLOOKUP($N32+0.5,'Competitor Address List'!$A$6:$M$205,3) -> 4.5 | I33: =VLOOKUP($N32+0.5,'Competitor Address List'!$A$6:$M$205,4) -> 4.5 | J33: =VLOOKUP($N32+0.5,'Competitor Address List'!$A$6:$M$205,6) -> 4.5 | K33: =VLOOKUP($N32+0.5,'Competitor Address List'!$A$6:$M$205,7) -> 4.5 | L33: =VLOOKUP($N32+0.5,'Competitor Address List'!$A$6:$M$205,9) -> 4.5 | M33: =VLOOKUP($N32+0.5,'Competitor Address List'!$A$6:$M$205,10) -> 4.5 | O33: =VLOOKUP($N33,'Competitor Address List'!$A$6:$M$65,15) -> #N/A
A34: =RANK(P34,$P$26:$P$225,$Q$24) -> 5 | B34: =AE34 | C34: =AF34 | D34: =AG34 | E34: =AH34 -> 2 | F34: =AI34 -> 1 | G34: =AJ34 | H34: =VLOOKUP($N34,'Competitor Address List'!$A$6:$M$205,3) -> 5 | I34: =VLOOKUP($N34,'Competitor Address List'!$A$6:$M$205,4) -> 5 | J34: =VLOOKUP($N34,'Competitor Address List'!$A$6:$M$205,6) -> 5 | K34: =VLOOKUP($N34,'Competitor Address List'!$A$6:$M$205,7) -> 5 | L34: =VLOOKUP($N34,'Competitor Address List'!$A$6:$M$205,9) -> 5 | M34: =VLOOKUP($N34,'Competitor Address List'!$A$6:$M$205,10) -> 5 | N34: 5 | O34: =VLOOKUP($N34,'Competitor Address List'!$A$6:$M$205,11) -> 5 | P34: =P32+1 -> 1005 | Q34: <<<< | R34: etc. | S34: =IF(VLOOKUP($N34,'Competitor Address List'!$A$6:$M$205,2)=S$25,1,"X") -> X | T34: =IF(VLOOKUP($N34,'Competitor Address List'!$A$6:$M$205,2)=T$25,1,"X") -> X | U34: =IF(VLOOKUP($N34,'Competitor Address List'!$A$6:$M$205,2)=U$25,1,"X") -> X | V34: =IF(OR(VLOOKUP($N34,'Competitor Address List'!$A$6:$M$205,2)=V$25,W34=1),1,"X") -> 1 | W34: =IF(VLOOKUP($N34,'Competitor Address List'!$A$6:$M$205,2)=W$25,1,"X") -> 1 | X34: =IF(VLOOKUP($N34,'Competitor Address List'!$A$6:$M$205,2)=X$25,1,"X") -> X | Y34: =IF(S34="X","-",$P34) -> - | Z34: =IF(T34="X","-",$P34) -> - | AA34: =IF(U34="X","-",$P34) -> - | AB34: =IF(V34="X","-",$P34) -> 1005 | AC34: =IF(W34="X","-",$P34) -> 1005 | AD34: =IF(X34="X","-",$P34) -> - | AE34: =IF(Y34="-"," ",RANK(Y34,Y$26:Y$225,$Q$24)) | AF34: =IF(Z34="-"," ",RANK(Z34,Z$26:Z$225,$Q$24)) | AG34: =IF(AA34="-"," ",RANK(AA34,AA$26:AA$225,$Q$24)) | AH34: =IF(AB34="-"," ",RANK(AB34,AB$26:AB$225,$Q$24)) -> 2 | AI34: =IF(AC34="-"," ",RANK(AC34,AC$26:AC$225,$Q$24)) -> 1 | AJ34: =IF(AD34="-"," ",RANK(AD34,AD$26:AD$225,$Q$24))
H35: =VLOOKUP($N34+0.5,'Competitor Address List'!$A$6:$M$205,3) -> 5.5 | I35: =VLOOKUP($N34+0.5,'Competitor Address List'!$A$6:$M$205,4) -> 5.5 | J35: =VLOOKUP($N34+0.5,'Competitor Address List'!$A$6:$M$205,6) -> 5.5 | K35: =VLOOKUP($N34+0.5,'Competitor Address List'!$A$6:$M$205,7) -> 5.5 | L35: =VLOOKUP($N34+0.5,'Competitor Address List'!$A$6:$M$205,9) -> 5.5 | M35: =VLOOKUP($N34+0.5,'Competitor Address List'!$A$6:$M$205,10) -> 5.5 | O35: =VLOOKUP($N35,'Competitor Address List'!$A$6:$M$65,15) -> #N/A
A36: =RANK(P36,$P$26:$P$225,$Q$24) -> 6 | B36: =AE36 | C36: =AF36 | D36: =AG36 | E36: =AH36 | F36: =AI36 | G36: =AJ36 -> 1 | H36: =VLOOKUP($N36,'Competitor Address List'!$A$6:$M$205,3) -> 6 | I36: =VLOOKUP($N36,'Competitor Address List'!$A$6:$M$205,4) -> 6 | J36: =VLOOKUP($N36,'Competitor Address List'!$A$6:$M$205,6) -> 6 | K36: =VLOOKUP($N36,'Competitor Address List'!$A$6:$M$205,7) -> 6 | L36: =VLOOKUP($N36,'Competitor Address List'!$A$6:$M$205,9) -> 6 | M36: =VLOOKUP($N36,'Competitor Address List'!$A$6:$M$205,10) -> 6 | N36: 6 | O36: =VLOOKUP($N36,'Competitor Address List'!$A$6:$M$205,11) -> 6 | P36: =P34+1 -> 1006 | S36: =IF(VLOOKUP($N36,'Competitor Address List'!$A$6:$M$205,2)=S$25,1,"X") -> X | T36: =IF(VLOOKUP($N36,'Competitor Address List'!$A$6:$M$205,2)=T$25,1,"X") -> X | U36: =IF(VLOOKUP($N36,'Competitor Address List'!$A$6:$M$205,2)=U$25,1,"X") -> X | V36: =IF(OR(VLOOKUP($N36,'Competitor Address List'!$A$6:$M$205,2)=V$25,W36=1),1,"X") -> X | W36: =IF(VLOOKUP($N36,'Competitor Address List'!$A$6:$M$205,2)=W$25,1,"X") -> X | X36: =IF(VLOOKUP($N36,'Competitor Address List'!$A$6:$M$205,2)=X$25,1,"X") -> 1 | Y36: =IF(S36="X","-",$P36) -> - | Z36: =IF(T36="X","-",$P36) -> - | AA36: =IF(U36="X","-",$P36) -> - | AB36: =IF(V36="X","-",$P36) -> - | AC36: =IF(W36="X","-",$P36) -> - | AD36: =IF(X36="X","-",$P36) -> 1006 | AE36: =IF(Y36="-"," ",RANK(Y36,Y$26:Y$225,$Q$24)) | AF36: =IF(Z36="-"," ",RANK(Z36,Z$26:Z$225,$Q$24)) | AG36: =IF(AA36="-"," ",RANK(AA36,AA$26:AA$225,$Q$24)) | AH36: =IF(AB36="-"," ",RANK(AB36,AB$26:AB$225,$Q$24)) | AI36: =IF(AC36="-"," ",RANK(AC36,AC$26:AC$225,$Q$24)) | AJ36: =IF(AD36="-"," ",RANK(AD36,AD$26:AD$225,$Q$24)) -> 1
H37: =VLOOKUP($N36+0.5,'Competitor Address List'!$A$6:$M$205,3) -> 6.5 | I37: =VLOOKUP($N36+0.5,'Competitor Address List'!$A$6:$M$205,4) -> 6.5 | J37: =VLOOKUP($N36+0.5,'Competitor Address List'!$A$6:$M$205,6) -> 6.5 | K37: =VLOOKUP($N36+0.5,'Competitor Address List'!$A$6:$M$205,7) -> 6.5 | L37: =VLOOKUP($N36+0.5,'Competitor Address List'!$A$6:$M$205,9) -> 6.5 | M37: =VLOOKUP($N36+0.5,'Competitor Address List'!$A$6:$M$205,10) -> 6.5 | O37: =VLOOKUP($N37,'Competitor Address List'!$A$6:$M$65,15) -> #N/A
A38: =RANK(P38,$P$26:$P$225,$Q$24) -> 7 | B38: =AE38 | C38: =AF38 | D38: =AG38 | E38: =AH38 | F38: =AI38 | G38: =AJ38 -> 2 | H38: =VLOOKUP($N38,'Competitor Address List'!$A$6:$M$205,3) -> 7 | I38: =VLOOKUP($N38,'Competitor Address List'!$A$6:$M$205,4) -> 7 | J38: =VLOOKUP($N38,'Competitor Address List'!$A$6:$M$205,6) -> 7 | K38: =VLOOKUP($N38,'Competitor Address List'!$A$6:$M$205,7) -> 7 | L38: =VLOOKUP($N38,'Competitor Address List'!$A$6:$M$205,9) -> 7 | M38: =VLOOKUP($N38,'Competitor Address List'!$A$6:$M$205,10) -> 7 | N38: 7 | O38: =VLOOKUP($N38,'Competitor Address List'!$A$6:$M$205,11) -> 7 | P38: =P36+1 -> 1007 | S38: =IF(VLOOKUP($N38,'Competitor Address List'!$A$6:$M$205,2)=S$25,1,"X") -> X | T38: =IF(VLOOKUP($N38,'Competitor Address List'!$A$6:$M$205,2)=T$25,1,"X") -> X | U38: =IF(VLOOKUP($N38,'Competitor Address List'!$A$6:$M$205,2)=U$25,1,"X") -> X | V38: =IF(OR(VLOOKUP($N38,'Competitor Address List'!$A$6:$M$205,2)=V$25,W38=1),1,"X") -> X | W38: =IF(VLOOKUP($N38,'Competitor Address List'!$A$6:$M$205,2)=W$25,1,"X") -> X | X38: =IF(VLOOKUP($N38,'Competitor Address List'!$A$6:$M$205,2)=X$25,1,"X") -> 1 | Y38: =IF(S38="X","-",$P38) -> - | Z38: =IF(T38="X","-",$P38) -> - | AA38: =IF(U38="X","-",$P38) -> - | AB38: =IF(V38="X","-",$P38) -> - | AC38: =IF(W38="X","-",$P38) -> - | AD38: =IF(X38="X","-",$P38) -> 1007 | AE38: =IF(Y38="-"," ",RANK(Y38,Y$26:Y$225,$Q$24)) | AF38: =IF(Z38="-"," ",RANK(Z38,Z$26:Z$225,$Q$24)) | AG38: =IF(AA38="-"," ",RANK(AA38,AA$26:AA$225,$Q$24)) | AH38: =IF(AB38="-"," ",RANK(AB38,AB$26:AB$225,$Q$24)) | AI38: =IF(AC38="-"," ",RANK(AC38,AC$26:AC$225,$Q$24)) | AJ38: =IF(AD38="-"," ",RANK(AD38,AD$26:AD$225,$Q$24)) -> 2
H39: =VLOOKUP($N38+0.5,'Competitor Address List'!$A$6:$M$205,3) -> 7.5 | I39: =VLOOKUP($N38+0.5,'Competitor Address List'!$A$6:$M$205,4) -> 7.5 | J39: =VLOOKUP($N38+0.5,'Competitor Address List'!$A$6:$M$205,6) -> 7.5 | K39: =VLOOKUP($N38+0.5,'Competitor Address List'!$A$6:$M$205,7) -> 7.5 | L39: =VLOOKUP($N38+0.5,'Competitor Address List'!$A$6:$M$205,9) -> 7.5 | M39: =VLOOKUP($N38+0.5,'Competitor Address List'!$A$6:$M$205,10) -> 7.5 | O39: =VLOOKUP($N39,'Competitor Address List'!$A$6:$M$65,15) -> #N/A
A40: =RANK(P40,$P$26:$P$225,$Q$24) -> 8 | B40: =AE40 | C40: =AF40 | D40: =AG40 | E40: =AH40 | F40: =AI40 | G40: =AJ40 -> 3 | H40: =VLOOKUP($N40,'Competitor Address List'!$A$6:$M$205,3) -> 8 | I40: =VLOOKUP($N40,'Competitor Address List'!$A$6:$M$205,4) -> 8 | J40: =VLOOKUP($N40,'Competitor Address List'!$A$6:$M$205,6) -> 8 | K40: =VLOOKUP($N40,'Competitor Address List'!$A$6:$M$205,7) -> 8 | L40: =VLOOKUP($N40,'Competitor Address List'!$A$6:$M$205,9) -> 8 | M40: =VLOOKUP($N40,'Competitor Address List'!$A$6:$M$205,10) -> 8 | N40: 8 | O40: =VLOOKUP($N40,'Competitor Address List'!$A$6:$M$205,11) -> 8 | P40: =P38+1 -> 1008 | S40: =IF(VLOOKUP($N40,'Competitor Address List'!$A$6:$M$205,2)=S$25,1,"X") -> X | T40: =IF(VLOOKUP($N40,'Competitor Address List'!$A$6:$M$205,2)=T$25,1,"X") -> X | U40: =IF(VLOOKUP($N40,'Competitor Address List'!$A$6:$M$205,2)=U$25,1,"X") -> X | V40: =IF(OR(VLOOKUP($N40,'Competitor Address List'!$A$6:$M$205,2)=V$25,W40=1),1,"X") -> X | W40: =IF(VLOOKUP($N40,'Competitor Address List'!$A$6:$M$205,2)=W$25,1,"X") -> X | X40: =IF(VLOOKUP($N40,'Competitor Address List'!$A$6:$M$205,2)=X$25,1,"X") -> 1 | Y40: =IF(S40="X","-",$P40) -> - | Z40: =IF(T40="X","-",$P40) -> - | AA40: =IF(U40="X","-",$P40) -> - | AB40: =IF(V40="X","-",$P40) -> - | AC40: =IF(W40="X","-",$P40) -> - | AD40: =IF(X40="X","-",$P40) -> 1008 | AE40: =IF(Y40="-"," ",RANK(Y40,Y$26:Y$225,$Q$24)) | AF40: =IF(Z40="-"," ",RANK(Z40,Z$26:Z$225,$Q$24)) | AG40: =IF(AA40="-"," ",RANK(AA40,AA$26:AA$225,$Q$24)) | AH40: =IF(AB40="-"," ",RANK(AB40,AB$26:AB$225,$Q$24)) | AI40: =IF(AC40="-"," ",RANK(AC40,AC$26:AC$225,$Q$24)) | AJ40: =IF(AD40="-"," ",RANK(AD40,AD$26:AD$225,$Q$24)) -> 3
H41: =VLOOKUP($N40+0.5,'Competitor Address List'!$A$6:$M$205,3) -> 8.5 | I41: =VLOOKUP($N40+0.5,'Competitor Address List'!$A$6:$M$205,4) -> 8.5 | J41: =VLOOKUP($N40+0.5,'Competitor Address List'!$A$6:$M$205,6) -> 8.5 | K41: =VLOOKUP($N40+0.5,'Competitor Address List'!$A$6:$M$205,7) -> 8.5 | L41: =VLOOKUP($N40+0.5,'Competitor Address List'!$A$6:$M$205,9) -> 8.5 | M41: =VLOOKUP($N40+0.5,'Competitor Address List'!$A$6:$M$205,10) -> 8.5 | O41: =VLOOKUP($N41,'Competitor Address List'!$A$6:$M$65,15) -> #N/A
...

Sheet Leg by Leg Scores (Optional)
A1: Rally: | B1: ='SCCA Official Results'!H6 -> XYZ Rally
A2: Region: | B2: ='SCCA Official Results'!H8 -> ABC (#)
A3: Date: | B3: ='SCCA Official Results'!H7 -> 44835
F5: Position | S5: Checkpoint Number
A6: Car # | B6: Driver | D6: Navigator | F6: O/A | G6: Class | H6: Total
A7: 1 | B7: =VLOOKUP($A7,'Competitor Address List'!$A$6:$M$205,3) -> D1First | C7: =VLOOKUP($A7,'Competitor Address List'!$A$6:$M$205,4) -> D1Last | D7: =VLOOKUP($A7+0.5,'Competitor Address List'!$A$6:$M$205,3) -> N1First | E7: =VLOOKUP($A7+0.5,'Competitor Address List'!$A$6:$M$205,4) -> N1Last | G7: =VLOOKUP($A7,'Competitor Address List'!$A$6:$M$205,2) -> E
A8: 2 | B8: =VLOOKUP($A8,'Competitor Address List'!$A$6:$M$205,3) -> 2 | C8: =VLOOKUP($A8,'Competitor Address List'!$A$6:$M$205,4) -> 2 | D8: =VLOOKUP($A8+0.5,'Competitor Address List'!$A$6:$M$205,3) -> 2.5 | E8: =VLOOKUP($A8+0.5,'Competitor Address List'!$A$6:$M$205,4) -> 2.5 | G8: =VLOOKUP($A8,'Competitor Address List'!$A$6:$M$205,2) -> G
A9: 3 | B9: =VLOOKUP($A9,'Competitor Address List'!$A$6:$M$205,3) -> 3 | C9: =VLOOKUP($A9,'Competitor Address List'!$A$6:$M$205,4) -> 3 | D9: =VLOOKUP($A9+0.5,'Competitor Address List'!$A$6:$M$205,3) -> 3.5 | E9: =VLOOKUP($A9+0.5,'Competitor Address List'!$A$6:$M$205,4) -> 3.5 | G9: =VLOOKUP($A9,'Competitor Address List'!$A$6:$M$205,2) -> L
A10: 4 | B10: =VLOOKUP($A10,'Competitor Address List'!$A$6:$M$205,3) -> 4 | C10: =VLOOKUP($A10,'Competitor Address List'!$A$6:$M$205,4) -> 4 | D10: =VLOOKUP($A10+0.5,'Competitor Address List'!$A$6:$M$205,3) -> 4.5 | E10: =VLOOKUP($A10+0.5,'Competitor Address List'!$A$6:$M$205,4) -> 4.5 | G10: =VLOOKUP($A10,'Competitor Address List'!$A$6:$M$205,2) -> S
A11: 5 | B11: =VLOOKUP($A11,'Competitor Address List'!$A$6:$M$205,3) -> 5 | C11: =VLOOKUP($A11,'Competitor Address List'!$A$6:$M$205,4) -> 5 | D11: =VLOOKUP($A11+0.5,'Competitor Address List'!$A$6:$M$205,3) -> 5.5 | E11: =VLOOKUP($A11+0.5,'Competitor Address List'!$A$6:$M$205,4) -> 5.5 | G11: =VLOOKUP($A11,'Competitor Address List'!$A$6:$M$205,2) -> N
A12: 6 | B12: =VLOOKUP($A12,'Competitor Address List'!$A$6:$M$205,3) -> 6 | C12: =VLOOKUP($A12,'Competitor Address List'!$A$6:$M$205,4) -> 6 | D12: =VLOOKUP($A12+0.5,'Competitor Address List'!$A$6:$M$205,3) -> 6.5 | E12: =VLOOKUP($A12+0.5,'Competitor Address List'!$A$6:$M$205,4) -> 6.5 | G12: =VLOOKUP($A12,'Competitor Address List'!$A$6:$M$205,2) -> GTA
A13: 7 | B13: =VLOOKUP($A13,'Competitor Address List'!$A$6:$M$205,3) -> 7 | C13: =VLOOKUP($A13,'Competitor Address List'!$A$6:$M$205,4) -> 7 | D13: =VLOOKUP($A13+0.5,'Competitor Address List'!$A$6:$M$205,3) -> 7.5 | E13: =VLOOKUP($A13+0.5,'Competitor Address List'!$A$6:$M$205,4) -> 7.5 | G13: =VLOOKUP($A13,'Competitor Address List'!$A$6:$M$205,2) -> GTA
A14: 8 | B14: =VLOOKUP($A14,'Competitor Address List'!$A$6:$M$205,3) -> 8 | C14: =VLOOKUP($A14,'Competitor Address List'!$A$6:$M$205,4) -> 8 | D14: =VLOOKUP($A14+0.5,'Competitor Address List'!$A$6:$M$205,3) -> 8.5 | E14: =VLOOKUP($A14+0.5,'Competitor Address List'!$A$6:$M$205,4) -> 8.5 | G14: =VLOOKUP($A14,'Competitor Address List'!$A$6:$M$205,2) -> GTA
A15: 9 | B15: =VLOOKUP($A15,'Competitor Address List'!$A$6:$M$205,3) -> 9 | C15: =VLOOKUP($A15,'Competitor Address List'!$A$6:$M$205,4) -> 9 | D15: =VLOOKUP($A15+0.5,'Competitor Address List'!$A$6:$M$205,3) -> 9.5 | E15: =VLOOKUP($A15+0.5,'Competitor Address List'!$A$6:$M$205,4) -> 9.5 | G15: =VLOOKUP($A15,'Competitor Address List'!$A$6:$M$205,2) -> GTA
A16: 10 | B16: =VLOOKUP($A16,'Competitor Address List'!$A$6:$M$205,3) -> 10 | C16: =VLOOKUP($A16,'Competitor Address List'!$A$6:$M$205,4) -> 10 | D16: =VLOOKUP($A16+0.5,'Competitor Address List'!$A$6:$M$205,3) -> 10.5 | E16: =VLOOKUP($A16+0.5,'Competitor Address List'!$A$6:$M$205,4) -> 10.5 | G16: =VLOOKUP($A16,'Competitor Address List'!$A$6:$M$205,2) -> GTA
A17: 11 | B17: =VLOOKUP($A17,'Competitor Address List'!$A$6:$M$205,3) -> 11 | C17: =VLOOKUP($A17,'Competitor Address List'!$A$6:$M$205,4) -> 11 | D17: =VLOOKUP($A17+0.5,'Competitor Address List'!$A$6:$M$205,3) -> 11.5 | E17: =VLOOKUP($A17+0.5,'Competitor Address List'!$A$6:$M$205,4) -> 11.5 | G17: =VLOOKUP($A17,'Competitor Address List'!$A$6:$M$205,2) -> GTA
A18: 12 | B18: =VLOOKUP($A18,'Competitor Address List'!$A$6:$M$205,3) -> 12 | C18: =VLOOKUP($A18,'Competitor Address List'!$A$6:$M$205,4) -> 12 | D18: =VLOOKUP($A18+0.5,'Competitor Address List'!$A$6:$M$205,3) -> 12.5 | E18: =VLOOKUP($A18+0.5,'Competitor Address List'!$A$6:$M$205,4) -> 12.5 | G18: =VLOOKUP($A18,'Competitor Address List'!$A$6:$M$205,2) -> GTA
... A106: 100 | B106: =VLOOKUP($A106,'Competitor Address List'!$A$6:$M$205,3) -> 100 | C106: =VLOOKUP($A106,'Competitor Address List'!$A$6:$M$205,4) -> 100 | D106: =VLOOKUP($A106+0.5,'Competitor Address List'!$A$6:$M$205,3) -> 100.5 | E106: =VLOOKUP($A106+0.5,'Competitor Address List'!$A$6:$M$205,4) -> 100.5 | G106: =VLOOKUP($A106,'Competitor Address List'!$A$6:$M$205,2) -> GTA

Sheet SCCA Waiver Printing Template
B1: NOTE: Due to printer variations, column widths and row heights may have to be adjusted to assure that text prints in exactly the correct locations on waiver forms. | L1: None | M1: Competitor
L2: 1 | M2: Worker
L3: 6 | M3: None
A4: SCCA Adult waiver name/membership information fill template - 092020 version | L4: 11
L5: 16
B6: Event Description: | C6: Johnny Appleseed Rally, Bolivar, Ohio. Neohio Region (24). October 1, 2022 | I6: <<<< | J6: Event description | L6: 21
B7: Event Date: | C7: 44835 | I7: <<<< | J7: Event date | L7: 26
B8: Event Official: | C8: W. Gregory Lester | I8: <<<< | J8: Waiver witness name | L8: 31
B9: SCCA Member #: | C9: 108833 | I9: <<<< | J9: Witness' SCCA membership number | L9: 36
B10: Region: | C10: Neohio | J10: Witness' SCCA Region of Record | L10: 41
B11: Beginning Car #: | C11: 1 | E11: =NOW() -> 44894.543 | I11: <<<< | J11: First Car # to be printed on waiver (or None) | L11: 46
H12: Capacity | L12: 51
B13: First | C13: Last | D13: Event Description/Location | E13: Signature | F13: Member # | G13: Region | H13: Competitor | I13: <<<< | J13: Capacity (Competitor, Worker, None) | L13: 56
L14: 61
D15: =C6 -> Johnny Appleseed Rally, Bolivar, Ohio. Neohio Region (24). October 1, 2022 | H15: =C7 -> 44835 | L15: 66
L16: 71
L17: 76
L18: 81
A19: =IF($C$11="None"," ",$C$11) -> 1 | B19: =IF($C$11="None"," ",VLOOKUP($A19,'Competitor Address List'!$A$6:$M$205,3)) -> D1First | C19: =IF($C$11="None"," ",VLOOKUP($A19,'Competitor Address List'!$A$6:$M$205,4)) -> D1Last | F19: =IF($C$11="None"," ",VLOOKUP($A19,'Competitor Address List'!$A$6:$M$205,9)) -> 11111 | G19: =IF($C$11="None"," ",VLOOKUP($A19,'Competitor Address List'!$A$6:$M$205,10)) -> D1Reg | H19: =IF($H$13="None"," ",$H$13) -> Competitor | I19: <<<< | L19: 86
A20: =IF($C$11="None"," ",$C$11) -> 1 | B20: =IF($C$11="None"," ",VLOOKUP($A20+0.5,'Competitor Address List'!$A$6:$M$205,3)) -> N1First | C20: =IF($C$11="None"," ",VLOOKUP($A20+0.5,'Competitor Address List'!$A$6:$M$205,4)) -> N1Last | F20: =IF($C$11="None"," ",VLOOKUP($A20+0.5,'Competitor Address List'!$A$6:$M$205,9)) -> 151515 | G20: =IF($C$11="None"," ",VLOOKUP($A20+0.5,'Competitor Address List'!$A$6:$M$205,10)) -> N1Reg | H20: =IF($H$13="None"," ",$H$13) -> Competitor | I20: <<<< | L20: 91
A21: =IF($C$11="None"," ",$C$11+1) -> 2 | B21: =IF($C$11="None"," ",VLOOKUP($A21,'Competitor Address List'!$A$6:$M$205,3)) -> 2 | C21: =IF($C$11="None"," ",VLOOKUP($A21,'Competitor Address List'!$A$6:$M$205,4)) -> 2 | F21: =IF($C$11="None"," ",VLOOKUP($A21,'Competitor Address List'!$A$6:$M$205,9)) -> 2 | G21: =IF($C$11="None"," ",VLOOKUP($A21,'Competitor Address List'!$A$6:$M$205,10)) -> 2 | H21: =IF($H$13="None"," ",$H$13) -> Competitor | I21: <<<< | J21: Information to be printed on SCCA waiver form | L21: 96
A22: =IF($C$11="None"," ",$C$11+1) -> 2 | B22: =IF($C$11="None"," ",VLOOKUP($A22+0.5,'Competitor Address List'!$A$6:$M$205,3)) -> 2.5 | C22: =IF($C$11="None"," ",VLOOKUP($A22+0.5,'Competitor Address List'!$A$6:$M$205,4)) -> 2.5 | F22: =IF($C$11="None"," ",VLOOKUP($A22+0.5,'Competitor Address List'!$A$6:$M$205,9)) -> 2.5 | G22: =IF($C$11="None"," ",VLOOKUP($A22+0.5,'Competitor Address List'!$A$6:$M$205,10)) -> 2.5 | H22: =IF($H$13="None"," ",$H$13) -> Competitor | I22: <<<< | J22: extracted from Competitor Address List, and top of | L22: 101
A23: =IF($C$11="None"," ",$C$11+2) -> 3 | B23: =IF($C$11="None"," ",VLOOKUP($A23,'Competitor Address List'!$A$6:$M$205,3)) -> 3 | C23: =IF($C$11="None"," ",VLOOKUP($A23,'Competitor Address List'!$A$6:$M$205,4)) -> 3 | F23: =IF($C$11="None"," ",VLOOKUP($A23,'Competitor Address List'!$A$6:$M$205,9)) -> 3 | G23: =IF($C$11="None"," ",VLOOKUP($A23,'Competitor Address List'!$A$6:$M$205,10)) -> 3 | H23: =IF($H$13="None"," ",$H$13) -> Competitor | I23: <<<< | J23: this template. | L23: 106
A24: =IF($C$11="None"," ",$C$11+2) -> 3 | B24: =IF($C$11="None"," ",VLOOKUP($A24+0.5,'Competitor Address List'!$A$6:$M$205,3)) -> 3.5 | C24: =IF($C$11="None"," ",VLOOKUP($A24+0.5,'Competitor Address List'!$A$6:$M$205,4)) -> 3.5 | F24: =IF($C$11="None"," ",VLOOKUP($A24+0.5,'Competitor Address List'!$A$6:$M$205,9)) -> 3.5 | G24: =IF($C$11="None"," ",VLOOKUP($A24+0.5,'Competitor Address List'!$A$6:$M$205,10)) -> 3.5 | H24: =IF($H$13="None"," ",$H$13) -> Competitor | I24: <<<< | L24: 111
A25: =IF($C$11="None"," ",$C$11+3) -> 4 | B25: =IF($C$11="None"," ",VLOOKUP($A25,'Competitor Address List'!$A$6:$M$205,3)) -> 4 | C25: =IF($C$11="None"," ",VLOOKUP($A25,'Competitor Address List'!$A$6:$M$205,4)) -> 4 | F25: =IF($C$11="None"," ",VLOOKUP($A25,'Competitor Address List'!$A$6:$M$205,9)) -> 4 | G25: =IF($C$11="None"," ",VLOOKUP($A25,'Competitor Address List'!$A$6:$M$205,10)) -> 4 | H25: =IF($H$13="None"," ",$H$13) -> Competitor | I25: <<<<
A26: =IF($C$11="None"," ",$C$11+3) -> 4 | B26: =IF($C$11="None"," ",VLOOKUP($A26+0.5,'Competitor Address List'!$A$6:$M$205,3)) -> 4.5 | C26: =IF($C$11="None"," ",VLOOKUP($A26+0.5,'Competitor Address List'!$A$6:$M$205,4)) -> 4.5 | F26: =IF($C$11="None"," ",VLOOKUP($A26+0.5,'Competitor Address List'!$A$6:$M$205,9)) -> 4.5 | G26: =IF($C$11="None"," ",VLOOKUP($A26+0.5,'Competitor Address List'!$A$6:$M$205,10)) -> 4.5 | H26: =IF($H$13="None"," ",$H$13) -> Competitor | I26: <<<<
A27: =IF($C$11="None"," ",$C$11+4) -> 5 | B27: =IF($C$11="None"," ",VLOOKUP($A27,'Competitor Address List'!$A$6:$M$205,3)) -> 5 | C27: =IF($C$11="None"," ",VLOOKUP($A27,'Competitor Address List'!$A$6:$M$205,4)) -> 5 | F27: =IF($C$11="None"," ",VLOOKUP($A27,'Competitor Address List'!$A$6:$M$205,9)) -> 5 | G27: =IF($C$11="None"," ",VLOOKUP($A27,'Competitor Address List'!$A$6:$M$205,10)) -> 5 | H27: =IF($H$13="None"," ",$H$13) -> Competitor | I27: <<<<
A28: =IF($C$11="None"," ",$C$11+4) -> 5 | B28: =IF($C$11="None"," ",VLOOKUP($A28+0.5,'Competitor Address List'!$A$6:$M$205,3)) -> 5.5 | C28: =IF($C$11="None"," ",VLOOKUP($A28+0.5,'Competitor Address List'!$A$6:$M$205,4)) -> 5.5 | F28: =IF($C$11="None"," ",VLOOKUP($A28+0.5,'Competitor Address List'!$A$6:$M$205,9)) -> 5.5 | G28: =IF($C$11="None"," ",VLOOKUP($A28+0.5,'Competitor Address List'!$A$6:$M$205,10)) -> 5.5 | H28: =IF($H$13="None"," ",$H$13) -> Competitor | I28: <<<<
B30: =C8 -> W. Gregory Lester | F30: =C9 -> 108833 | G30: =C10 -> Neohio | H30: =C7 -> 44835 | I30: <<<<

Sheet Revision Log
A2: # | B2: Date | C2: Action | E2: # | F2: Date | G2: Issue Identified, or Action Needed/Requested | H2: Action Taken
A3: 1 | B3: 44440 | C3: Cleaned up print formatting of SCCA waiver template to better fit current paper forms. | E3: 1 | F3: 44802 | G3: Official Results: Repeated car number at bottom of list of finishers in cas of one or more DNS's.
