Workbook

Sheet Cover Page
F1: Click on the name below to go to the linked points total
F2: Updated: | G2: 46244
F3: Through: | G3: Lincoln Air Park
F4: For questions regarding points, email the Solo Department, solo@scca.com
F5: Class Points | G5: Challenge Points
F6: SS | G6: JCJ Cup
F7: AS | G7: Fletcher Cup
F8: BS
F9: CS
F10: DS
F11: ES
F12: FS
F13: AST
F14: DST
F15: EST
F16: SSP
F17: SSC
F18: S1
F19: S3
... F28: L4

Sheet Class Points
A1: #VALUE! | E1: Qualifying Finish Points (Race Finish Points)
E2: Best 2 races are counted plus Finale towards points. * indicates the race was dropped.
E4: Pink points indicates qualification for tier 1 finale registration (34 or more points). Blue indicates tier 2 (at least 27 points or points in 3 or more events). Green indicates tier 3 (points in at least 2 events)
E5: Race Points are awarded for places 1-12 as follows: 20, 16, 13, 11, 9, 7, 6, 5, 4, 3, 2, 1 | J5: (positions greater than 12 earn 1 point)
E6: K1 & K2 Top Qualifiers: 1 point
E7: K3 Top Qualifier: 3 points
C9: TOTAL POINTS | D9: Less than 2 Events | E9: Beeville | F9: Las Vegas 1 | G9: Las Vegas 2 | H9: Atlanta | I9: Washington DC | J9: Lincoln | K9: Crows Landing | L9: Toledo | M9: Brunswick | N9: Bristol | O9: Packwood | P9: Lincoln | Q9: Finale | R9: Knockout Bonus | S9: Bonus point scored
C10: Best Two Events | E10: March 14-16 | F10: March 21-23 | G10: March 28-30 | H10: April 04-06 | I10: May 16-18 | J10: May 22-24 | K10: June 05-07 | L10: June 12-14 | M10: June 17-20 | N10: July 02-04 | O10: July 18-20 | P10: August 01-03 | Q10: August 29-31
A12: SS
A13: Pat | B13: Salerno | C13: =_xlfn.IFNA(VLOOKUP(E13,Points!$A$2:$B$36,2),0)+_xlfn.IFNA(VLOOKUP(F13,Points!$A$2:$B$36,2),0)+_xlfn.IFNA(VLOOKUP(G13,Points!$A$2:$B$36,2),0)+_xlfn.IFNA(VLOOKUP(H13,Points!$A$2:$B$36,2),0)+_xlfn.IFNA(VLOOKUP(I13,Points!$A$2:$B$36,2),0)+_xlfn.IFNA(VLOOKUP(J13,Points!$A$2:$B$36,2),0)+_xlfn.IFNA(VLOOKUP(K13,Points!$A$2:$B$36,2),0)+_xlfn.IFNA(VLOOKUP(L13,Points!$A$2:$B$36,2),0)+_xlfn.IFNA(VLOOKUP(M13,Points!$A$2:$B$36,2),0)+_xlfn.IFNA(VLOOKUP(N13,Points!$A$2:$B$36,2),0)+_xlfn.IFNA(VLOOKUP(O13,Points!$A$2:$B$36,2),0)+_xlfn.IFNA(VLOOKUP(P13,Points!$A$2:$B$36,2),0)+_xlfn.IFNA(VLOOKUP(Q13,Points!$D$2:$E$36,2),0)+R13 -> 42 | H13: 1 | L13: 1 | M13: x | R13: =1+1 -> 2 | S13: ATL:1; Toledo: 1
A14: Sam | B14: Mayorga | C14: =_xlfn.IFNA(VLOOKUP(E14,Points!$A$2:$B$36,2),0)+_xlfn.IFNA(VLOOKUP(F14,Points!$A$2:$B$36,2),0)+_xlfn.IFNA(VLOOKUP(G14,Points!$A$2:$B$36,2),0)+_xlfn.IFNA(VLOOKUP(H14,Points!$A$2:$B$36,2),0)+_xlfn.IFNA(VLOOKUP(I14,Points!$A$2:$B$36,2),0)+_xlfn.IFNA(VLOOKUP(J14,Points!$A$2:$B$36,2),0)+_xlfn.IFNA(VLOOKUP(K14,Points!$A$2:$B$36,2),0)+_xlfn.IFNA(VLOOKUP(L14,Points!$A$2:$B$36,2),0)+_xlfn.IFNA(VLOOKUP(M14,Points!$A$2:$B$36,2),0)+_xlfn.IFNA(VLOOKUP(N14,Points!$A$2:$B$36,2),0)+_xlfn.IFNA(VLOOKUP(O14,Points!$A$2:$B$36,2),0)+_xlfn.IFNA(VLOOKUP(P14,Points!$A$2:$B$36,2),0)+_xlfn.IFNA(VLOOKUP(Q14,Points!$D$2:$E$36,2),0)+R14 -> 40 | F14: 1 | G14: 1 | K14: 1*
A15: James | B15: Yom | C15: =_xlfn.IFNA(VLOOKUP(E15,Points!$A$2:$B$36,2),0)+_xlfn.IFNA(VLOOKUP(F15,Points!$A$2:$B$36,2),0)+_xlfn.IFNA(VLOOKUP(G15,Points!$A$2:$B$36,2),0)+_xlfn.IFNA(VLOOKUP(H15,Points!$A$2:$B$36,2),0)+_xlfn.IFNA(VLOOKUP(I15,Points!$A$2:$B$36,2),0)+_xlfn.IFNA(VLOOKUP(J15,Points!$A$2:$B$36,2),0)+_xlfn.IFNA(VLOOKUP(K15,Points!$A$2:$B$36,2),0)+_xlfn.IFNA(VLOOKUP(L15,Points!$A$2:$B$36,2),0)+_xlfn.IFNA(VLOOKUP(M15,Points!$A$2:$B$36,2),0)+_xlfn.IFNA(VLOOKUP(N15,Points!$A$2:$B$36,2),0)+_xlfn.IFNA(VLOOKUP(O15,Points!$A$2:$B$36,2),0)+_xlfn.IFNA(VLOOKUP(P15,Points!$A$2:$B$36,2),0)+_xlfn.IFNA(VLOOKUP(Q15,Points!$D$2:$E$36,2),0)+R15 -> 38 | F15: 2* | G15: 2 | J15: 1 | P15: 4* | R15: =1+1 -> 2 | S15: LV2:1; SNPS: 1; LAP: 1 (Drop)
A16: Jacob | B16: Morrison | C16: =_xlfn.IFNA(VLOOKUP(E16,Points!$A$2:$B$36,2),0)+_xlfn.IFNA(VLOOKUP(F16,Points!$A$2:$B$36,2),0)+_xlfn.IFNA(VLOOKUP(G16,Points!$A$2:$B$36,2),0)+_xlfn.IFNA(VLOOKUP(H16,Points!$A$2:$B$36,2),0)+_xlfn.IFNA(VLOOKUP(I16,Points!$A$2:$B$36,2),0)+_xlfn.IFNA(VLOOKUP(J16,Points!$A$2:$B$36,2),0)+_xlfn.IFNA(VLOOKUP(K16,Points!$A$2:$B$36,2),0)+_xlfn.IFNA(VLOOKUP(L16,Points!$A$2:$B$36,2),0)+_xlfn.IFNA(VLOOKUP(M16,Points!$A$2:$B$36,2),0)+_xlfn.IFNA(VLOOKUP(N16,Points!$A$2:$B$36,2),0)+_xlfn.IFNA(VLOOKUP(O16,Points!$A$2:$B$36,2),0)+_xlfn.IFNA(VLOOKUP(P16,Points!$A$2:$B$36,2),0)+_xlfn.IFNA(VLOOKUP(Q16,Points!$D$2:$E$36,2),0)+R16 -> 38 | F16: 4* | K16: 2 | O16: 1 | R16: =1+1 -> 2 | S16: Crows: 1; Packwood: 1
A17: Laurence | B17: Casey | C17: =_xlfn.IFNA(VLOOKUP(E17,Points!$A$2:$B$36,2),0)+_xlfn.IFNA(VLOOKUP(F17,Points!$A$2:$B$36,2),0)+_xlfn.IFNA(VLOOKUP(G17,Points!$A$2:$B$36,2),0)+_xlfn.IFNA(VLOOKUP(H17,Points!$A$2:$B$36,2),0)+_xlfn.IFNA(VLOOKUP(I17,Points!$A$2:$B$36,2),0)+_xlfn.IFNA(VLOOKUP(J17,Points!$A$2:$B$36,2),0)+_xlfn.IFNA(VLOOKUP(K17,Points!$A$2:$B$36,2),0)+_xlfn.IFNA(VLOOKUP(L17,Points!$A$2:$B$36,2),0)+_xlfn.IFNA(VLOOKUP(M17,Points!$A$2:$B$36,2),0)+_xlfn.IFNA(VLOOKUP(N17,Points!$A$2:$B$36,2),0)+_xlfn.IFNA(VLOOKUP(O17,Points!$A$2:$B$36,2),0)+_xlfn.IFNA(VLOOKUP(P17,Points!$A$2:$B$36,2),0)+_xlfn.IFNA(VLOOKUP(Q17,Points!$D$2:$E$36,2),0)+R17 -> 35 | I17: 3 | M17: x | N17: 1 | R17: =2 -> 2 | S17: Bristol: 2 (K2 Top)
A18: Jason | B18: Bucki | C18: =_xlfn.IFNA(VLOOKUP(E18,Points!$A$2:$B$36,2),0)+_xlfn.IFNA(VLOOKUP(F18,Points!$A$2:$B$36,2),0)+_xlfn.IFNA(VLOOKUP(G18,Points!$A$2:$B$36,2),0)+_xlfn.IFNA(VLOOKUP(H18,Points!$A$2:$B$36,2),0)+_xlfn.IFNA(VLOOKUP(I18,Points!$A$2:$B$36,2),0)+_xlfn.IFNA(VLOOKUP(J18,Points!$A$2:$B$36,2),0)+_xlfn.IFNA(VLOOKUP(K18,Points!$A$2:$B$36,2),0)+_xlfn.IFNA(VLOOKUP(L18,Points!$A$2:$B$36,2),0)+_xlfn.IFNA(VLOOKUP(M18,Points!$A$2:$B$36,2),0)+_xlfn.IFNA(VLOOKUP(N18,Points!$A$2:$B$36,2),0)+_xlfn.IFNA(VLOOKUP(O18,Points!$A$2:$B$36,2),0)+_xlfn.IFNA(VLOOKUP(P18,Points!$A$2:$B$36,2),0)+_xlfn.IFNA(VLOOKUP(Q18,Points!$D$2:$E$36,2),0)+R18 -> 35 | F18: 3 | G18: 4* | J18: 7* | K18: 4* | P18: 1 | R18: =1+1 -> 2 | S18: Crows: 1; LAP: 1
A19: Doug | B19: Rowse | C19: =_xlfn.IFNA(VLOOKUP(E19,Points!$A$2:$B$36,2),0)+_xlfn.IFNA(VLOOKUP(F19,Points!$A$2:$B$36,2),0)+_xlfn.IFNA(VLOOKUP(G19,Points!$A$2:$B$36,2),0)+_xlfn.IFNA(VLOOKUP(H19,Points!$A$2:$B$36,2),0)+_xlfn.IFNA(VLOOKUP(I19,Points!$A$2:$B$36,2),0)+_xlfn.IFNA(VLOOKUP(J19,Points!$A$2:$B$36,2),0)+_xlfn.IFNA(VLOOKUP(K19,Points!$A$2:$B$36,2),0)+_xlfn.IFNA(VLOOKUP(L19,Points!$A$2:$B$36,2),0)+_xlfn.IFNA(VLOOKUP(M19,Points!$A$2:$B$36,2),0)+_xlfn.IFNA(VLOOKUP(N19,Points!$A$2:$B$36,2),0)+_xlfn.IFNA(VLOOKUP(O19,Points!$A$2:$B$36,2),0)+_xlfn.IFNA(VLOOKUP(P19,Points!$A$2:$B$36,2),0)+_xlfn.IFNA(VLOOKUP(Q19,Points!$D$2:$E$36,2),0)+R19 -> 34 | I19: 2 | L19: 2 | R19: =1+1 -> 2 | S19: WDC: 1; Toledo: 1
A20: Brandon | B20: Olvey | C20: =_xlfn.IFNA(VLOOKUP(E20,Points!$A$2:$B$36,2),0)+_xlfn.IFNA(VLOOKUP(F20,Points!$A$2:$B$36,2),0)+_xlfn.IFNA(VLOOKUP(G20,Points!$A$2:$B$36,2),0)+_xlfn.IFNA(VLOOKUP(H20,Points!$A$2:$B$36,2),0)+_xlfn.IFNA(VLOOKUP(I20,Points!$A$2:$B$36,2),0)+_xlfn.IFNA(VLOOKUP(J20,Points!$A$2:$B$36,2),0)+_xlfn.IFNA(VLOOKUP(K20,Points!$A$2:$B$36,2),0)+_xlfn.IFNA(VLOOKUP(L20,Points!$A$2:$B$36,2),0)+_xlfn.IFNA(VLOOKUP(M20,Points!$A$2:$B$36,2),0)+_xlfn.IFNA(VLOOKUP(N20,Points!$A$2:$B$36,2),0)+_xlfn.IFNA(VLOOKUP(O20,Points!$A$2:$B$36,2),0)+_xlfn.IFNA(VLOOKUP(P20,Points!$A$2:$B$36,2),0)+_xlfn.IFNA(VLOOKUP(Q20,Points!$D$2:$E$36,2),0)+R20 -> 34 | E20: 1 | F20: 7* | G20: 8* | J20: 5* | P20: 3 | R20: =1 -> 1 | S20: Beeville: 1
A21: Ron | B21: Bauer | C21: =_xlfn.IFNA(VLOOKUP(E21,Points!$A$2:$B$36,2),0)+_xlfn.IFNA(VLOOKUP(F21,Points!$A$2:$B$36,2),0)+_xlfn.IFNA(VLOOKUP(G21,Points!$A$2:$B$36,2),0)+_xlfn.IFNA(VLOOKUP(H21,Points!$A$2:$B$36,2),0)+_xlfn.IFNA(VLOOKUP(I21,Points!$A$2:$B$36,2),0)+_xlfn.IFNA(VLOOKUP(J21,Points!$A$2:$B$36,2),0)+_xlfn.IFNA(VLOOKUP(K21,Points!$A$2:$B$36,2),0)+_xlfn.IFNA(VLOOKUP(L21,Points!$A$2:$B$36,2),0)+_xlfn.IFNA(VLOOKUP(M21,Points!$A$2:$B$36,2),0)+_xlfn.IFNA(VLOOKUP(N21,Points!$A$2:$B$36,2),0)+_xlfn.IFNA(VLOOKUP(O21,Points!$A$2:$B$36,2),0)+_xlfn.IFNA(VLOOKUP(P21,Points!$A$2:$B$36,2),0)+_xlfn.IFNA(VLOOKUP(Q21,Points!$D$2:$E$36,2),0)+R21 -> 30 | F21: 6* | G21: 3 | K21: 5* | O21: 2 | R21: =1 -> 1 | S21: Packwood: 1
A22: Dan | B22: Simms | C22: =_xlfn.IFNA(VLOOKUP(E22,Points!$A$2:$B$36,2),0)+_xlfn.IFNA(VLOOKUP(F22,Points!$A$2:$B$36,2),0)+_xlfn.IFNA(VLOOKUP(G22,Points!$A$2:$B$36,2),0)+_xlfn.IFNA(VLOOKUP(H22,Points!$A$2:$B$36,2),0)+_xlfn.IFNA(VLOOKUP(I22,Points!$A$2:$B$36,2),0)+_xlfn.IFNA(VLOOKUP(J22,Points!$A$2:$B$36,2),0)+_xlfn.IFNA(VLOOKUP(K22,Points!$A$2:$B$36,2),0)+_xlfn.IFNA(VLOOKUP(L22,Points!$A$2:$B$36,2),0)+_xlfn.IFNA(VLOOKUP(M22,Points!$A$2:$B$36,2),0)+_xlfn.IFNA(VLOOKUP(N22,Points!$A$2:$B$36,2),0)+_xlfn.IFNA(VLOOKUP(O22,Points!$A$2:$B$36,2),0)+_xlfn.IFNA(VLOOKUP(P22,Points!$A$2:$B$36,2),0)+_xlfn.IFNA(VLOOKUP(Q22,Points!$D$2:$E$36,2),0)+R22 -> 29 | H22: 2 | J22: 3
A23: Brian | B23: Franke | C23: =_xlfn.IFNA(VLOOKUP(E23,Points!$A$2:$B$36,2),0)+_xlfn.IFNA(VLOOKUP(F23,Points!$A$2:$B$36,2),0)+_xlfn.IFNA(VLOOKUP(G23,Points!$A$2:$B$36,2),0)+_xlfn.IFNA(VLOOKUP(H23,Points!$A$2:$B$36,2),0)+_xlfn.IFNA(VLOOKUP(I23,Points!$A$2:$B$36,2),0)+_xlfn.IFNA(VLOOKUP(J23,Points!$A$2:$B$36,2),0)+_xlfn.IFNA(VLOOKUP(K23,Points!$A$2:$B$36,2),0)+_xlfn.IFNA(VLOOKUP(L23,Points!$A$2:$B$36,2),0)+_xlfn.IFNA(VLOOKUP(M23,Points!$A$2:$B$36,2),0)+_xlfn.IFNA(VLOOKUP(N23,Points!$A$2:$B$36,2),0)+_xlfn.IFNA(VLOOKUP(O23,Points!$A$2:$B$36,2),0)+_xlfn.IFNA(VLOOKUP(P23,Points!$A$2:$B$36,2),0)+_xlfn.IFNA(VLOOKUP(Q23,Points!$D$2:$E$36,2),0)+R23 -> 28 | J23: 4 | P23: 2 | R23: =1 -> 1 | S23: LAP: 1
A24: Jay | B24: Balducci | C24: =_xlfn.IFNA(VLOOKUP(E24,Points!$A$2:$B$36,2),0)+_xlfn.IFNA(VLOOKUP(F24,Points!$A$2:$B$36,2),0)+_xlfn.IFNA(VLOOKUP(G24,Points!$A$2:$B$36,2),0)+_xlfn.IFNA(VLOOKUP(H24,Points!$A$2:$B$36,2),0)+_xlfn.IFNA(VLOOKUP(I24,Points!$A$2:$B$36,2),0)+_xlfn.IFNA(VLOOKUP(J24,Points!$A$2:$B$36,2),0)+_xlfn.IFNA(VLOOKUP(K24,Points!$A$2:$B$36,2),0)+_xlfn.IFNA(VLOOKUP(L24,Points!$A$2:$B$36,2),0)+_xlfn.IFNA(VLOOKUP(M24,Points!$A$2:$B$36,2),0)+_xlfn.IFNA(VLOOKUP(N24,Points!$A$2:$B$36,2),0)+_xlfn.IFNA(VLOOKUP(O24,Points!$A$2:$B$36,2),0)+_xlfn.IFNA(VLOOKUP(P24,Points!$A$2:$B$36,2),0)+_xlfn.IFNA(VLOOKUP(Q24,Points!$D$2:$E$36,2),0)+R24 -> 26 | F24: 5 | G24: 5* | J24: 2 | P24: 6* | R24: =1 -> 1 | S24: SNPS: 1
A25: Brian | B25: Conners | C25: =_xlfn.IFNA(VLOOKUP(E25,Points!$A$2:$B$36,2),0)+_xlfn.IFNA(VLOOKUP(F25,Points!$A$2:$B$36,2),0)+_xlfn.IFNA(VLOOKUP(G25,Points!$A$2:$B$36,2),0)+_xlfn.IFNA(VLOOKUP(H25,Points!$A$2:$B$36,2),0)+_xlfn.IFNA(VLOOKUP(I25,Points!$A$2:$B$36,2),0)+_xlfn.IFNA(VLOOKUP(J25,Points!$A$2:$B$36,2),0)+_xlfn.IFNA(VLOOKUP(K25,Points!$A$2:$B$36,2),0)+_xlfn.IFNA(VLOOKUP(L25,Points!$A$2:$B$36,2),0)+_xlfn.IFNA(VLOOKUP(M25,Points!$A$2:$B$36,2),0)+_xlfn.IFNA(VLOOKUP(N25,Points!$A$2:$B$36,2),0)+_xlfn.IFNA(VLOOKUP(O25,Points!$A$2:$B$36,2),0)+_xlfn.IFNA(VLOOKUP(P25,Points!$A$2:$B$36,2),0)+_xlfn.IFNA(VLOOKUP(Q25,Points!$D$2:$E$36,2),0)+R25 -> 26 | H25: 5* | I25: 4 | L25: 3 | R25: =1+1 -> 2 | S25: ATL: 1; Toledo: 1
A26: Brendan | B26: Cronin | C26: =_xlfn.IFNA(VLOOKUP(E26,Points!$A$2:$B$36,2),0)+_xlfn.IFNA(VLOOKUP(F26,Points!$A$2:$B$36,2),0)+_xlfn.IFNA(VLOOKUP(G26,Points!$A$2:$B$36,2),0)+_xlfn.IFNA(VLOOKUP(H26,Points!$A$2:$B$36,2),0)+_xlfn.IFNA(VLOOKUP(I26,Points!$A$2:$B$36,2),0)+_xlfn.IFNA(VLOOKUP(J26,Points!$A$2:$B$36,2),0)+_xlfn.IFNA(VLOOKUP(K26,Points!$A$2:$B$36,2),0)+_xlfn.IFNA(VLOOKUP(L26,Points!$A$2:$B$36,2),0)+_xlfn.IFNA(VLOOKUP(M26,Points!$A$2:$B$36,2),0)+_xlfn.IFNA(VLOOKUP(N26,Points!$A$2:$B$36,2),0)+_xlfn.IFNA(VLOOKUP(O26,Points!$A$2:$B$36,2),0)+_xlfn.IFNA(VLOOKUP(P26,Points!$A$2:$B$36,2),0)+_xlfn.IFNA(VLOOKUP(Q26,Points!$D$2:$E$36,2),0)+R26 -> 26 | E26: 2 | P26: 5 | R26: =1 -> 1 | S26: LAP: 1
A27: Ryan | B27: Johnson | C27: =_xlfn.IFNA(VLOOKUP(E27,Points!$A$2:$B$36,2),0)+_xlfn.IFNA(VLOOKUP(F27,Points!$A$2:$B$36,2),0)+_xlfn.IFNA(VLOOKUP(G27,Points!$A$2:$B$36,2),0)+_xlfn.IFNA(VLOOKUP(H27,Points!$A$2:$B$36,2),0)+_xlfn.IFNA(VLOOKUP(I27,Points!$A$2:$B$36,2),0)+_xlfn.IFNA(VLOOKUP(J27,Points!$A$2:$B$36,2),0)+_xlfn.IFNA(VLOOKUP(K27,Points!$A$2:$B$36,2),0)+_xlfn.IFNA(VLOOKUP(L27,Points!$A$2:$B$36,2),0)+_xlfn.IFNA(VLOOKUP(M27,Points!$A$2:$B$36,2),0)+_xlfn.IFNA(VLOOKUP(N27,Points!$A$2:$B$36,2),0)+_xlfn.IFNA(VLOOKUP(O27,Points!$A$2:$B$36,2),0)+_xlfn.IFNA(VLOOKUP(P27,Points!$A$2:$B$36,2),0)+_xlfn.IFNA(VLOOKUP(Q27,Points!$D$2:$E$36,2),0)+R27 -> 22 | F27: 10* | G27: 6* | H27: 3 | J27: 6* | O27: 5
A28: David | B28: Nolan | C28: =_xlfn.IFNA(VLOOKUP(E28,Points!$A$2:$B$36,2),0)+_xlfn.IFNA(VLOOKUP(F28,Points!$A$2:$B$36,2),0)+_xlfn.IFNA(VLOOKUP(G28,Points!$A$2:$B$36,2),0)+_xlfn.IFNA(VLOOKUP(H28,Points!$A$2:$B$36,2),0)+_xlfn.IFNA(VLOOKUP(I28,Points!$A$2:$B$36,2),0)+_xlfn.IFNA(VLOOKUP(J28,Points!$A$2:$B$36,2),0)+_xlfn.IFNA(VLOOKUP(K28,Points!$A$2:$B$36,2),0)+_xlfn.IFNA(VLOOKUP(L28,Points!$A$2:$B$36,2),0)+_xlfn.IFNA(VLOOKUP(M28,Points!$A$2:$B$36,2),0)+_xlfn.IFNA(VLOOKUP(N28,Points!$A$2:$B$36,2),0)+_xlfn.IFNA(VLOOKUP(O28,Points!$A$2:$B$36,2),0)+_xlfn.IFNA(VLOOKUP(P28,Points!$A$2:$B$36,2),0)+_xlfn.IFNA(VLOOKUP(Q28,Points!$D$2:$E$36,2),0)+R28 -> 21 | H28: 9 | N28: 2 | R28: =1 -> 1 | S28: Bristol: 1
A29: Stephen | B29: Holzer | C29: =_xlfn.IFNA(VLOOKUP(E29,Points!$A$2:$B$36,2),0)+_xlfn.IFNA(VLOOKUP(F29,Points!$A$2:$B$36,2),0)+_xlfn.IFNA(VLOOKUP(G29,Points!$A$2:$B$36,2),0)+_xlfn.IFNA(VLOOKUP(H29,Points!$A$2:$B$36,2),0)+_xlfn.IFNA(VLOOKUP(I29,Points!$A$2:$B$36,2),0)+_xlfn.IFNA(VLOOKUP(J29,Points!$A$2:$B$36,2),0)+_xlfn.IFNA(VLOOKUP(K29,Points!$A$2:$B$36,2),0)+_xlfn.IFNA(VLOOKUP(L29,Points!$A$2:$B$36,2),0)+_xlfn.IFNA(VLOOKUP(M29,Points!$A$2:$B$36,2),0)+_xlfn.IFNA(VLOOKUP(N29,Points!$A$2:$B$36,2),0)+_xlfn.IFNA(VLOOKUP(O29,Points!$A$2:$B$36,2),0)+_xlfn.IFNA(VLOOKUP(P29,Points!$A$2:$B$36,2),0)+_xlfn.IFNA(VLOOKUP(Q29,Points!$D$2:$E$36,2),0)+R29 -> 20 | I29: 1
A30: Bernie | B30: McHugh | C30: =_xlfn.IFNA(VLOOKUP(E30,Points!$A$2:$B$36,2),0)+_xlfn.IFNA(VLOOKUP(F30,Points!$A$2:$B$36,2),0)+_xlfn.IFNA(VLOOKUP(G30,Points!$A$2:$B$36,2),0)+_xlfn.IFNA(VLOOKUP(H30,Points!$A$2:$B$36,2),0)+_xlfn.IFNA(VLOOKUP(I30,Points!$A$2:$B$36,2),0)+_xlfn.IFNA(VLOOKUP(J30,Points!$A$2:$B$36,2),0)+_xlfn.IFNA(VLOOKUP(K30,Points!$A$2:$B$36,2),0)+_xlfn.IFNA(VLOOKUP(L30,Points!$A$2:$B$36,2),0)+_xlfn.IFNA(VLOOKUP(M30,Points!$A$2:$B$36,2),0)+_xlfn.IFNA(VLOOKUP(N30,Points!$A$2:$B$36,2),0)+_xlfn.IFNA(VLOOKUP(O30,Points!$A$2:$B$36,2),0)+_xlfn.IFNA(VLOOKUP(P30,Points!$A$2:$B$36,2),0)+_xlfn.IFNA(VLOOKUP(Q30,Points!$D$2:$E$36,2),0)+R30 -> 19 | E30: 3 | F30: 15* | J30: 10* | P30: 7
A31: Rick | B31: Newman | C31: =_xlfn.IFNA(VLOOKUP(E31,Points!$A$2:$B$36,2),0)+_xlfn.IFNA(VLOOKUP(F31,Points!$A$2:$B$36,2),0)+_xlfn.IFNA(VLOOKUP(G31,Points!$A$2:$B$36,2),0)+_xlfn.IFNA(VLOOKUP(H31,Points!$A$2:$B$36,2),0)+_xlfn.IFNA(VLOOKUP(I31,Points!$A$2:$B$36,2),0)+_xlfn.IFNA(VLOOKUP(J31,Points!$A$2:$B$36,2),0)+_xlfn.IFNA(VLOOKUP(K31,Points!$A$2:$B$36,2),0)+_xlfn.IFNA(VLOOKUP(L31,Points!$A$2:$B$36,2),0)+_xlfn.IFNA(VLOOKUP(M31,Points!$A$2:$B$36,2),0)+_xlfn.IFNA(VLOOKUP(N31,Points!$A$2:$B$36,2),0)+_xlfn.IFNA(VLOOKUP(O31,Points!$A$2:$B$36,2),0)+_xlfn.IFNA(VLOOKUP(P31,Points!$A$2:$B$36,2),0)+_xlfn.IFNA(VLOOKUP(Q31,Points!$D$2:$E$36,2),0)+R31 -> 18 | H31: 7* | I31: 6 | L31: 4
A32: Jeff D | B32: Woodbury | C32: =_xlfn.IFNA(VLOOKUP(E32,Points!$A$2:$B$36,2),0)+_xlfn.IFNA(VLOOKUP(F32,Points!$A$2:$B$36,2),0)+_xlfn.IFNA(VLOOKUP(G32,Points!$A$2:$B$36,2),0)+_xlfn.IFNA(VLOOKUP(H32,Points!$A$2:$B$36,2),0)+_xlfn.IFNA(VLOOKUP(I32,Points!$A$2:$B$36,2),0)+_xlfn.IFNA(VLOOKUP(J32,Points!$A$2:$B$36,2),0)+_xlfn.IFNA(VLOOKUP(K32,Points!$A$2:$B$36,2),0)+_xlfn.IFNA(VLOOKUP(L32,Points!$A$2:$B$36,2),0)+_xlfn.IFNA(VLOOKUP(M32,Points!$A$2:$B$36,2),0)+_xlfn.IFNA(VLOOKUP(N32,Points!$A$2:$B$36,2),0)+_xlfn.IFNA(VLOOKUP(O32,Points!$A$2:$B$36,2),0)+_xlfn.IFNA(VLOOKUP(P32,Points!$A$2:$B$36,2),0)+_xlfn.IFNA(VLOOKUP(Q32,Points!$D$2:$E$36,2),0)+R32 -> 18 | F32: 8 | J32: 8* | O32: 3
A33: Monty | B33: Pack | C33: =_xlfn.IFNA(VLOOKUP(E33,Points!$A$2:$B$36,2),0)+_xlfn.IFNA(VLOOKUP(F33,Points!$A$2:$B$36,2),0)+_xlfn.IFNA(VLOOKUP(G33,Points!$A$2:$B$36,2),0)+_xlfn.IFNA(VLOOKUP(H33,Points!$A$2:$B$36,2),0)+_xlfn.IFNA(VLOOKUP(I33,Points!$A$2:$B$36,2),0)+_xlfn.IFNA(VLOOKUP(J33,Points!$A$2:$B$36,2),0)+_xlfn.IFNA(VLOOKUP(K33,Points!$A$2:$B$36,2),0)+_xlfn.IFNA(VLOOKUP(L33,Points!$A$2:$B$36,2),0)+_xlfn.IFNA(VLOOKUP(M33,Points!$A$2:$B$36,2),0)+_xlfn.IFNA(VLOOKUP(N33,Points!$A$2:$B$36,2),0)+_xlfn.IFNA(VLOOKUP(O33,Points!$A$2:$B$36,2),0)+_xlfn.IFNA(VLOOKUP(P33,Points!$A$2:$B$36,2),0)+_xlfn.IFNA(VLOOKUP(Q33,Points!$D$2:$E$36,2),0)+R33 -> 17 | F33: 9* | G33: 7 | K33: 8* | O33: 4
A34: Christopher | B34: Dressler | C34: =_xlfn.IFNA(VLOOKUP(E34,Points!$A$2:$B$36,2),0)+_xlfn.IFNA(VLOOKUP(F34,Points!$A$2:$B$36,2),0)+_xlfn.IFNA(VLOOKUP(G34,Points!$A$2:$B$36,2),0)+_xlfn.IFNA(VLOOKUP(H34,Points!$A$2:$B$36,2),0)+_xlfn.IFNA(VLOOKUP(I34,Points!$A$2:$B$36,2),0)+_xlfn.IFNA(VLOOKUP(J34,Points!$A$2:$B$36,2),0)+_xlfn.IFNA(VLOOKUP(K34,Points!$A$2:$B$36,2),0)+_xlfn.IFNA(VLOOKUP(L34,Points!$A$2:$B$36,2),0)+_xlfn.IFNA(VLOOKUP(M34,Points!$A$2:$B$36,2),0)+_xlfn.IFNA(VLOOKUP(N34,Points!$A$2:$B$36,2),0)+_xlfn.IFNA(VLOOKUP(O34,Points!$A$2:$B$36,2),0)+_xlfn.IFNA(VLOOKUP(P34,Points!$A$2:$B$36,2),0)+_xlfn.IFNA(VLOOKUP(Q34,Points!$D$2:$E$36,2),0)+R34 -> 16 | I34: 5 | L34: 6 | M34: x | S34: Brunswick Cancellation
A35: Aditya | B35: Madhavan | C35: =_xlfn.IFNA(VLOOKUP(E35,Points!$A$2:$B$36,2),0)+_xlfn.IFNA(VLOOKUP(F35,Points!$A$2:$B$36,2),0)+_xlfn.IFNA(VLOOKUP(G35,Points!$A$2:$B$36,2),0)+_xlfn.IFNA(VLOOKUP(H35,Points!$A$2:$B$36,2),0)+_xlfn.IFNA(VLOOKUP(I35,Points!$A$2:$B$36,2),0)+_xlfn.IFNA(VLOOKUP(J35,Points!$A$2:$B$36,2),0)+_xlfn.IFNA(VLOOKUP(K35,Points!$A$2:$B$36,2),0)+_xlfn.IFNA(VLOOKUP(L35,Points!$A$2:$B$36,2),0)+_xlfn.IFNA(VLOOKUP(M35,Points!$A$2:$B$36,2),0)+_xlfn.IFNA(VLOOKUP(N35,Points!$A$2:$B$36,2),0)+_xlfn.IFNA(VLOOKUP(O35,Points!$A$2:$B$36,2),0)+_xlfn.IFNA(VLOOKUP(P35,Points!$A$2:$B$36,2),0)+_xlfn.IFNA(VLOOKUP(Q35,Points!$D$2:$E$36,2),0)+R35 -> 16 | H35: 10 | N35: 3
A36: Brian | B36: Peters | C36: =_xlfn.IFNA(VLOOKUP(E36,Points!$A$2:$B$36,2),0)+_xlfn.IFNA(VLOOKUP(F36,Points!$A$2:$B$36,2),0)+_xlfn.IFNA(VLOOKUP(G36,Points!$A$2:$B$36,2),0)+_xlfn.IFNA(VLOOKUP(H36,Points!$A$2:$B$36,2),0)+_xlfn.IFNA(VLOOKUP(I36,Points!$A$2:$B$36,2),0)+_xlfn.IFNA(VLOOKUP(J36,Points!$A$2:$B$36,2),0)+_xlfn.IFNA(VLOOKUP(K36,Points!$A$2:$B$36,2),0)+_xlfn.IFNA(VLOOKUP(L36,Points!$A$2:$B$36,2),0)+_xlfn.IFNA(VLOOKUP(M36,Points!$A$2:$B$36,2),0)+_xlfn.IFNA(VLOOKUP(N36,Points!$A$2:$B$36,2),0)+_xlfn.IFNA(VLOOKUP(O36,Points!$A$2:$B$36,2),0)+_xlfn.IFNA(VLOOKUP(P36,Points!$A$2:$B$36,2),0)+_xlfn.IFNA(VLOOKUP(Q36,Points!$D$2:$E$36,2),0)+R36 -> 13 | K36: 3
A37: Craig | B37: Tomeo | C37: =_xlfn.IFNA(VLOOKUP(E37,Points!$A$2:$B$36,2),0)+_xlfn.IFNA(VLOOKUP(F37,Points!$A$2:$B$36,2),0)+_xlfn.IFNA(VLOOKUP(G37,Points!$A$2:$B$36,2),0)+_xlfn.IFNA(VLOOKUP(H37,Points!$A$2:$B$36,2),0)+_xlfn.IFNA(VLOOKUP(I37,Points!$A$2:$B$36,2),0)+_xlfn.IFNA(VLOOKUP(J37,Points!$A$2:$B$36,2),0)+_xlfn.IFNA(VLOOKUP(K37,Points!$A$2:$B$36,2),0)+_xlfn.IFNA(VLOOKUP(L37,Points!$A$2:$B$36,2),0)+_xlfn.IFNA(VLOOKUP(M37,Points!$A$2:$B$36,2),0)+_xlfn.IFNA(VLOOKUP(N37,Points!$A$2:$B$36,2),0)+_xlfn.IFNA(VLOOKUP(O37,Points!$A$2:$B$36,2),0)+_xlfn.IFNA(VLOOKUP(P37,Points!$A$2:$B$36,2),0)+_xlfn.IFNA(VLOOKUP(Q37,Points!$D$2:$E$36,2),0)+R37 -> 12 | H37: 4 | R37: =1 -> 1 | S37: ATL: 1
A38: Denny | B38: Kort | C38: =_xlfn.IFNA(VLOOKUP(E38,Points!$A$2:$B$36,2),0)+_xlfn.IFNA(VLOOKUP(F38,Points!$A$2:$B$36,2),0)+_xlfn.IFNA(VLOOKUP(G38,Points!$A$2:$B$36,2),0)+_xlfn.IFNA(VLOOKUP(H38,Points!$A$2:$B$36,2),0)+_xlfn.IFNA(VLOOKUP(I38,Points!$A$2:$B$36,2),0)+_xlfn.IFNA(VLOOKUP(J38,Points!$A$2:$B$36,2),0)+_xlfn.IFNA(VLOOKUP(K38,Points!$A$2:$B$36,2),0)+_xlfn.IFNA(VLOOKUP(L38,Points!$A$2:$B$36,2),0)+_xlfn.IFNA(VLOOKUP(M38,Points!$A$2:$B$36,2),0)+_xlfn.IFNA(VLOOKUP(N38,Points!$A$2:$B$36,2),0)+_xlfn.IFNA(VLOOKUP(O38,Points!$A$2:$B$36,2),0)+_xlfn.IFNA(VLOOKUP(P38,Points!$A$2:$B$36,2),0)+_xlfn.IFNA(VLOOKUP(Q38,Points!$D$2:$E$36,2),0)+R38 -> 11 | E38: 4
A39: Shawn | B39: Folkes | C39: =_xlfn.IFNA(VLOOKUP(E39,Points!$A$2:$B$36,2),0)+_xlfn.IFNA(VLOOKUP(F39,Points!$A$2:$B$36,2),0)+_xlfn.IFNA(VLOOKUP(G39,Points!$A$2:$B$36,2),0)+_xlfn.IFNA(VLOOKUP(H39,Points!$A$2:$B$36,2),0)+_xlfn.IFNA(VLOOKUP(I39,Points!$A$2:$B$36,2),0)+_xlfn.IFNA(VLOOKUP(J39,Points!$A$2:$B$36,2),0)+_xlfn.IFNA(VLOOKUP(K39,Points!$A$2:$B$36,2),0)+_xlfn.IFNA(VLOOKUP(L39,Points!$A$2:$B$36,2),0)+_xlfn.IFNA(VLOOKUP(M39,Points!$A$2:$B$36,2),0)+_xlfn.IFNA(VLOOKUP(N39,Points!$A$2:$B$36,2),0)+_xlfn.IFNA(VLOOKUP(O39,Points!$A$2:$B$36,2),0)+_xlfn.IFNA(VLOOKUP(P39,Points!$A$2:$B$36,2),0)+_xlfn.IFNA(VLOOKUP(Q39,Points!$D$2:$E$36,2),0)+R39 -> 11 | H39: 13* | J39: 11 | L39: 5
A40: Craig | B40: Ellis | C40: =_xlfn.IFNA(VLOOKUP(E40,Points!$A$2:$B$36,2),0)+_xlfn.IFNA(VLOOKUP(F40,Points!$A$2:$B$36,2),0)+_xlfn.IFNA(VLOOKUP(G40,Points!$A$2:$B$36,2),0)+_xlfn.IFNA(VLOOKUP(H40,Points!$A$2:$B$36,2),0)+_xlfn.IFNA(VLOOKUP(I40,Points!$A$2:$B$36,2),0)+_xlfn.IFNA(VLOOKUP(J40,Points!$A$2:$B$36,2),0)+_xlfn.IFNA(VLOOKUP(K40,Points!$A$2:$B$36,2),0)+_xlfn.IFNA(VLOOKUP(L40,Points!$A$2:$B$36,2),0)+_xlfn.IFNA(VLOOKUP(M40,Points!$A$2:$B$36,2),0)+_xlfn.IFNA(VLOOKUP(N40,Points!$A$2:$B$36,2),0)+_xlfn.IFNA(VLOOKUP(O40,Points!$A$2:$B$36,2),0)+_xlfn.IFNA(VLOOKUP(P40,Points!$A$2:$B$36,2),0)+_xlfn.IFNA(VLOOKUP(Q40,Points!$D$2:$E$36,2),0)+R40 -> 11 | N40: 4
A41: Tom | B41: Bruck | C41: =_xlfn.IFNA(VLOOKUP(E41,Points!$A$2:$B$36,2),0)+_xlfn.IFNA(VLOOKUP(F41,Points!$A$2:$B$36,2),0)+_xlfn.IFNA(VLOOKUP(G41,Points!$A$2:$B$36,2),0)+_xlfn.IFNA(VLOOKUP(H41,Points!$A$2:$B$36,2),0)+_xlfn.IFNA(VLOOKUP(I41,Points!$A$2:$B$36,2),0)+_xlfn.IFNA(VLOOKUP(J41,Points!$A$2:$B$36,2),0)+_xlfn.IFNA(VLOOKUP(K41,Points!$A$2:$B$36,2),0)+_xlfn.IFNA(VLOOKUP(L41,Points!$A$2:$B$36,2),0)+_xlfn.IFNA(VLOOKUP(M41,Points!$A$2:$B$36,2),0)+_xlfn.IFNA(VLOOKUP(N41,Points!$A$2:$B$36,2),0)+_xlfn.IFNA(VLOOKUP(O41,Points!$A$2:$B$36,2),0)+_xlfn.IFNA(VLOOKUP(P41,Points!$A$2:$B$36,2),0)+_xlfn.IFNA(VLOOKUP(Q41,Points!$D$2:$E$36,2),0)+R41 -> 11 | F41: 11* | G41: 9 | O41: 6
A42: Patrick | B42: Callum | C42: =_xlfn.IFNA(VLOOKUP(E42,Points!$A$2:$B$36,2),0)+_xlfn.IFNA(VLOOKUP(F42,Points!$A$2:$B$36,2),0)+_xlfn.IFNA(VLOOKUP(G42,Points!$A$2:$B$36,2),0)+_xlfn.IFNA(VLOOKUP(H42,Points!$A$2:$B$36,2),0)+_xlfn.IFNA(VLOOKUP(I42,Points!$A$2:$B$36,2),0)+_xlfn.IFNA(VLOOKUP(J42,Points!$A$2:$B$36,2),0)+_xlfn.IFNA(VLOOKUP(K42,Points!$A$2:$B$36,2),0)+_xlfn.IFNA(VLOOKUP(L42,Points!$A$2:$B$36,2),0)+_xlfn.IFNA(VLOOKUP(M42,Points!$A$2:$B$36,2),0)+_xlfn.IFNA(VLOOKUP(N42,Points!$A$2:$B$36,2),0)+_xlfn.IFNA(VLOOKUP(O42,Points!$A$2:$B$36,2),0)+_xlfn.IFNA(VLOOKUP(P42,Points!$A$2:$B$36,2),0)+_xlfn.IFNA(VLOOKUP(Q42,Points!$D$2:$E$36,2),0)+R42 -> 9 | E42: 5
A43: Dave | B43: Becker | C43: =_xlfn.IFNA(VLOOKUP(E43,Points!$A$2:$B$36,2),0)+_xlfn.IFNA(VLOOKUP(F43,Points!$A$2:$B$36,2),0)+_xlfn.IFNA(VLOOKUP(G43,Points!$A$2:$B$36,2),0)+_xlfn.IFNA(VLOOKUP(H43,Points!$A$2:$B$36,2),0)+_xlfn.IFNA(VLOOKUP(I43,Points!$A$2:$B$36,2),0)+_xlfn.IFNA(VLOOKUP(J43,Points!$A$2:$B$36,2),0)+_xlfn.IFNA(VLOOKUP(K43,Points!$A$2:$B$36,2),0)+_xlfn.IFNA(VLOOKUP(L43,Points!$A$2:$B$36,2),0)+_xlfn.IFNA(VLOOKUP(M43,Points!$A$2:$B$36,2),0)+_xlfn.IFNA(VLOOKUP(N43,Points!$A$2:$B$36,2),0)+_xlfn.IFNA(VLOOKUP(O43,Points!$A$2:$B$36,2),0)+_xlfn.IFNA(VLOOKUP(P43,Points!$A$2:$B$36,2),0)+_xlfn.IFNA(VLOOKUP(Q43,Points!$D$2:$E$36,2),0)+R43 -> 9 | H43: 8 | J43: 9
A44: Ryan | B44: Bracci | C44: =_xlfn.IFNA(VLOOKUP(E44,Points!$A$2:$B$36,2),0)+_xlfn.IFNA(VLOOKUP(F44,Points!$A$2:$B$36,2),0)+_xlfn.IFNA(VLOOKUP(G44,Points!$A$2:$B$36,2),0)+_xlfn.IFNA(VLOOKUP(H44,Points!$A$2:$B$36,2),0)+_xlfn.IFNA(VLOOKUP(I44,Points!$A$2:$B$36,2),0)+_xlfn.IFNA(VLOOKUP(J44,Points!$A$2:$B$36,2),0)+_xlfn.IFNA(VLOOKUP(K44,Points!$A$2:$B$36,2),0)+_xlfn.IFNA(VLOOKUP(L44,Points!$A$2:$B$36,2),0)+_xlfn.IFNA(VLOOKUP(M44,Points!$A$2:$B$36,2),0)+_xlfn.IFNA(VLOOKUP(N44,Points!$A$2:$B$36,2),0)+_xlfn.IFNA(VLOOKUP(O44,Points!$A$2:$B$36,2),0)+_xlfn.IFNA(VLOOKUP(P44,Points!$A$2:$B$36,2),0)+_xlfn.IFNA(VLOOKUP(Q44,Points!$D$2:$E$36,2),0)+R44 -> 9 | F44: 12* | G44: 10 | K44: 7
A45: Eric | B45: Jones | C45: =_xlfn.IFNA(VLOOKUP(E45,Points!$A$2:$B$36,2),0)+_xlfn.IFNA(VLOOKUP(F45,Points!$A$2:$B$36,2),0)+_xlfn.IFNA(VLOOKUP(G45,Points!$A$2:$B$36,2),0)+_xlfn.IFNA(VLOOKUP(H45,Points!$A$2:$B$36,2),0)+_xlfn.IFNA(VLOOKUP(I45,Points!$A$2:$B$36,2),0)+_xlfn.IFNA(VLOOKUP(J45,Points!$A$2:$B$36,2),0)+_xlfn.IFNA(VLOOKUP(K45,Points!$A$2:$B$36,2),0)+_xlfn.IFNA(VLOOKUP(L45,Points!$A$2:$B$36,2),0)+_xlfn.IFNA(VLOOKUP(M45,Points!$A$2:$B$36,2),0)+_xlfn.IFNA(VLOOKUP(N45,Points!$A$2:$B$36,2),0)+_xlfn.IFNA(VLOOKUP(O45,Points!$A$2:$B$36,2),0)+_xlfn.IFNA(VLOOKUP(P45,Points!$A$2:$B$36,2),0)+_xlfn.IFNA(VLOOKUP(Q45,Points!$D$2:$E$36,2),0)+R45 -> 9 | F45: 13* | G45: 11 | K45: 6
A46: Andy | B46: Halliburton | C46: =_xlfn.IFNA(VLOOKUP(E46,Points!$A$2:$B$36,2),0)+_xlfn.IFNA(VLOOKUP(F46,Points!$A$2:$B$36,2),0)+_xlfn.IFNA(VLOOKUP(G46,Points!$A$2:$B$36,2),0)+_xlfn.IFNA(VLOOKUP(H46,Points!$A$2:$B$36,2),0)+_xlfn.IFNA(VLOOKUP(I46,Points!$A$2:$B$36,2),0)+_xlfn.IFNA(VLOOKUP(J46,Points!$A$2:$B$36,2),0)+_xlfn.IFNA(VLOOKUP(K46,Points!$A$2:$B$36,2),0)+_xlfn.IFNA(VLOOKUP(L46,Points!$A$2:$B$36,2),0)+_xlfn.IFNA(VLOOKUP(M46,Points!$A$2:$B$36,2),0)+_xlfn.IFNA(VLOOKUP(N46,Points!$A$2:$B$36,2),0)+_xlfn.IFNA(VLOOKUP(O46,Points!$A$2:$B$36,2),0)+_xlfn.IFNA(VLOOKUP(P46,Points!$A$2:$B$36,2),0)+_xlfn.IFNA(VLOOKUP(Q46,Points!$D$2:$E$36,2),0)+R46 -> 8 | E46: 6 | H46: 16* | J46: 12
A47: Lou | B47: Hudyman | C47: =_xlfn.IFNA(VLOOKUP(E47,Points!$A$2:$B$36,2),0)+_xlfn.IFNA(VLOOKUP(F47,Points!$A$2:$B$36,2),0)+_xlfn.IFNA(VLOOKUP(G47,Points!$A$2:$B$36,2),0)+_xlfn.IFNA(VLOOKUP(H47,Points!$A$2:$B$36,2),0)+_xlfn.IFNA(VLOOKUP(I47,Points!$A$2:$B$36,2),0)+_xlfn.IFNA(VLOOKUP(J47,Points!$A$2:$B$36,2),0)+_xlfn.IFNA(VLOOKUP(K47,Points!$A$2:$B$36,2),0)+_xlfn.IFNA(VLOOKUP(L47,Points!$A$2:$B$36,2),0)+_xlfn.IFNA(VLOOKUP(M47,Points!$A$2:$B$36,2),0)+_xlfn.IFNA(VLOOKUP(N47,Points!$A$2:$B$36,2),0)+_xlfn.IFNA(VLOOKUP(O47,Points!$A$2:$B$36,2),0)+_xlfn.IFNA(VLOOKUP(P47,Points!$A$2:$B$36,2),0)+_xlfn.IFNA(VLOOKUP(Q47,Points!$D$2:$E$36,2),0)+R47 -> 7 | H47: 6
A48: Marc | B48: Segal | C48: =_xlfn.IFNA(VLOOKUP(E48,Points!$A$2:$B$36,2),0)+_xlfn.IFNA(VLOOKUP(F48,Points!$A$2:$B$36,2),0)+_xlfn.IFNA(VLOOKUP(G48,Points!$A$2:$B$36,2),0)+_xlfn.IFNA(VLOOKUP(H48,Points!$A$2:$B$36,2),0)+_xlfn.IFNA(VLOOKUP(I48,Points!$A$2:$B$36,2),0)+_xlfn.IFNA(VLOOKUP(J48,Points!$A$2:$B$36,2),0)+_xlfn.IFNA(VLOOKUP(K48,Points!$A$2:$B$36,2),0)+_xlfn.IFNA(VLOOKUP(L48,Points!$A$2:$B$36,2),0)+_xlfn.IFNA(VLOOKUP(M48,Points!$A$2:$B$36,2),0)+_xlfn.IFNA(VLOOKUP(N48,Points!$A$2:$B$36,2),0)+_xlfn.IFNA(VLOOKUP(O48,Points!$A$2:$B$36,2),0)+_xlfn.IFNA(VLOOKUP(P48,Points!$A$2:$B$36,2),0)+_xlfn.IFNA(VLOOKUP(Q48,Points!$D$2:$E$36,2),0)+R48 -> 7 | F48: 17* | G48: 13 | O48: 7
A49: Abe | B49: Rosengrant | C49: =_xlfn.IFNA(VLOOKUP(E49,Points!$A$2:$B$36,2),0)+_xlfn.IFNA(VLOOKUP(F49,Points!$A$2:$B$36,2),0)+_xlfn.IFNA(VLOOKUP(G49,Points!$A$2:$B$36,2),0)+_xlfn.IFNA(VLOOKUP(H49,Points!$A$2:$B$36,2),0)+_xlfn.IFNA(VLOOKUP(I49,Points!$A$2:$B$36,2),0)+_xlfn.IFNA(VLOOKUP(J49,Points!$A$2:$B$36,2),0)+_xlfn.IFNA(VLOOKUP(K49,Points!$A$2:$B$36,2),0)+_xlfn.IFNA(VLOOKUP(L49,Points!$A$2:$B$36,2),0)+_xlfn.IFNA(VLOOKUP(M49,Points!$A$2:$B$36,2),0)+_xlfn.IFNA(VLOOKUP(N49,Points!$A$2:$B$36,2),0)+_xlfn.IFNA(VLOOKUP(O49,Points!$A$2:$B$36,2),0)+_xlfn.IFNA(VLOOKUP(P49,Points!$A$2:$B$36,2),0)+_xlfn.IFNA(VLOOKUP(Q49,Points!$D$2:$E$36,2),0)+R49 -> 6 | I49: 7
A50: Patrick | B50: Gaffney | C50: =_xlfn.IFNA(VLOOKUP(E50,Points!$A$2:$B$36,2),0)+_xlfn.IFNA(VLOOKUP(F50,Points!$A$2:$B$36,2),0)+_xlfn.IFNA(VLOOKUP(G50,Points!$A$2:$B$36,2),0)+_xlfn.IFNA(VLOOKUP(H50,Points!$A$2:$B$36,2),0)+_xlfn.IFNA(VLOOKUP(I50,Points!$A$2:$B$36,2),0)+_xlfn.IFNA(VLOOKUP(J50,Points!$A$2:$B$36,2),0)+_xlfn.IFNA(VLOOKUP(K50,Points!$A$2:$B$36,2),0)+_xlfn.IFNA(VLOOKUP(L50,Points!$A$2:$B$36,2),0)+_xlfn.IFNA(VLOOKUP(M50,Points!$A$2:$B$36,2),0)+_xlfn.IFNA(VLOOKUP(N50,Points!$A$2:$B$36,2),0)+_xlfn.IFNA(VLOOKUP(O50,Points!$A$2:$B$36,2),0)+_xlfn.IFNA(VLOOKUP(P50,Points!$A$2:$B$36,2),0)+_xlfn.IFNA(VLOOKUP(Q50,Points!$D$2:$E$36,2),0)+R50 -> 6 | I50: 8 | M50: x | R50: 1 | S50: Brunswick Cancellation
A51: Will | B51: Ratto | C51: =_xlfn.IFNA(VLOOKUP(E51,Points!$A$2:$B$36,2),0)+_xlfn.IFNA(VLOOKUP(F51,Points!$A$2:$B$36,2),0)+_xlfn.IFNA(VLOOKUP(G51,Points!$A$2:$B$36,2),0)+_xlfn.IFNA(VLOOKUP(H51,Points!$A$2:$B$36,2),0)+_xlfn.IFNA(VLOOKUP(I51,Points!$A$2:$B$36,2),0)+_xlfn.IFNA(VLOOKUP(J51,Points!$A$2:$B$36,2),0)+_xlfn.IFNA(VLOOKUP(K51,Points!$A$2:$B$36,2),0)+_xlfn.IFNA(VLOOKUP(L51,Points!$A$2:$B$36,2),0)+_xlfn.IFNA(VLOOKUP(M51,Points!$A$2:$B$36,2),0)+_xlfn.IFNA(VLOOKUP(N51,Points!$A$2:$B$36,2),0)+_xlfn.IFNA(VLOOKUP(O51,Points!$A$2:$B$36,2),0)+_xlfn.IFNA(VLOOKUP(P51,Points!$A$2:$B$36,2),0)+_xlfn.IFNA(VLOOKUP(Q51,Points!$D$2:$E$36,2),0)+R51 -> 6 | L51: 7
A52: Vernon | B52: Jolley | C52: =_xlfn.IFNA(VLOOKUP(E52,Points!$A$2:$B$36,2),0)+_xlfn.IFNA(VLOOKUP(F52,Points!$A$2:$B$36,2),0)+_xlfn.IFNA(VLOOKUP(G52,Points!$A$2:$B$36,2),0)+_xlfn.IFNA(VLOOKUP(H52,Points!$A$2:$B$36,2),0)+_xlfn.IFNA(VLOOKUP(I52,Points!$A$2:$B$36,2),0)+_xlfn.IFNA(VLOOKUP(J52,Points!$A$2:$B$36,2),0)+_xlfn.IFNA(VLOOKUP(K52,Points!$A$2:$B$36,2),0)+_xlfn.IFNA(VLOOKUP(L52,Points!$A$2:$B$36,2),0)+_xlfn.IFNA(VLOOKUP(M52,Points!$A$2:$B$36,2),0)+_xlfn.IFNA(VLOOKUP(N52,Points!$A$2:$B$36,2),0)+_xlfn.IFNA(VLOOKUP(O52,Points!$A$2:$B$36,2),0)+_xlfn.IFNA(VLOOKUP(P52,Points!$A$2:$B$36,2),0)+_xlfn.IFNA(VLOOKUP(Q52,Points!$D$2:$E$36,2),0)+R52 -> 6 | F52: 22* | G52: 18 | O52: 8
A53: Joel | B53: Schotz | C53: =_xlfn.IFNA(VLOOKUP(E53,Points!$A$2:$B$36,2),0)+_xlfn.IFNA(VLOOKUP(F53,Points!$A$2:$B$36,2),0)+_xlfn.IFNA(VLOOKUP(G53,Points!$A$2:$B$36,2),0)+_xlfn.IFNA(VLOOKUP(H53,Points!$A$2:$B$36,2),0)+_xlfn.IFNA(VLOOKUP(I53,Points!$A$2:$B$36,2),0)+_xlfn.IFNA(VLOOKUP(J53,Points!$A$2:$B$36,2),0)+_xlfn.IFNA(VLOOKUP(K53,Points!$A$2:$B$36,2),0)+_xlfn.IFNA(VLOOKUP(L53,Points!$A$2:$B$36,2),0)+_xlfn.IFNA(VLOOKUP(M53,Points!$A$2:$B$36,2),0)+_xlfn.IFNA(VLOOKUP(N53,Points!$A$2:$B$36,2),0)+_xlfn.IFNA(VLOOKUP(O53,Points!$A$2:$B$36,2),0)+_xlfn.IFNA(VLOOKUP(P53,Points!$A$2:$B$36,2),0)+_xlfn.IFNA(VLOOKUP(Q53,Points!$D$2:$E$36,2),0)+R53 -> 6 | F53: 21* | G53: 17 | P53: 8
A54: Spencer | B54: Hansen | C54: =_xlfn.IFNA(VLOOKUP(E54,Points!$A$2:$B$36,2),0)+_xlfn.IFNA(VLOOKUP(F54,Points!$A$2:$B$36,2),0)+_xlfn.IFNA(VLOOKUP(G54,Points!$A$2:$B$36,2),0)+_xlfn.IFNA(VLOOKUP(H54,Points!$A$2:$B$36,2),0)+_xlfn.IFNA(VLOOKUP(I54,Points!$A$2:$B$36,2),0)+_xlfn.IFNA(VLOOKUP(J54,Points!$A$2:$B$36,2),0)+_xlfn.IFNA(VLOOKUP(K54,Points!$A$2:$B$36,2),0)+_xlfn.IFNA(VLOOKUP(L54,Points!$A$2:$B$36,2),0)+_xlfn.IFNA(VLOOKUP(M54,Points!$A$2:$B$36,2),0)+_xlfn.IFNA(VLOOKUP(N54,Points!$A$2:$B$36,2),0)+_xlfn.IFNA(VLOOKUP(O54,Points!$A$2:$B$36,2),0)+_xlfn.IFNA(VLOOKUP(P54,Points!$A$2:$B$36,2),0)+_xlfn.IFNA(VLOOKUP(Q54,Points!$D$2:$E$36,2),0)+R54 -> 5 | L54: 8
A55: Chris | B55: Drabouski | C55: =_xlfn.IFNA(VLOOKUP(E55,Points!$A$2:$B$36,2),0)+_xlfn.IFNA(VLOOKUP(F55,Points!$A$2:$B$36,2),0)+_xlfn.IFNA(VLOOKUP(G55,Points!$A$2:$B$36,2),0)+_xlfn.IFNA(VLOOKUP(H55,Points!$A$2:$B$36,2),0)+_xlfn.IFNA(VLOOKUP(I55,Points!$A$2:$B$36,2),0)+_xlfn.IFNA(VLOOKUP(J55,Points!$A$2:$B$36,2),0)+_xlfn.IFNA(VLOOKUP(K55,Points!$A$2:$B$36,2),0)+_xlfn.IFNA(VLOOKUP(L55,Points!$A$2:$B$36,2),0)+_xlfn.IFNA(VLOOKUP(M55,Points!$A$2:$B$36,2),0)+_xlfn.IFNA(VLOOKUP(N55,Points!$A$2:$B$36,2),0)+_xlfn.IFNA(VLOOKUP(O55,Points!$A$2:$B$36,2),0)+_xlfn.IFNA(VLOOKUP(P55,Points!$A$2:$B$36,2),0)+_xlfn.IFNA(VLOOKUP(Q55,Points!$D$2:$E$36,2),0)+R55 -> 4 | I55: 9
A56: Annie | B56: Judasz | C56: =_xlfn.IFNA(VLOOKUP(E56,Points!$A$2:$B$36,2),0)+_xlfn.IFNA(VLOOKUP(F56,Points!$A$2:$B$36,2),0)+_xlfn.IFNA(VLOOKUP(G56,Points!$A$2:$B$36,2),0)+_xlfn.IFNA(VLOOKUP(H56,Points!$A$2:$B$36,2),0)+_xlfn.IFNA(VLOOKUP(I56,Points!$A$2:$B$36,2),0)+_xlfn.IFNA(VLOOKUP(J56,Points!$A$2:$B$36,2),0)+_xlfn.IFNA(VLOOKUP(K56,Points!$A$2:$B$36,2),0)+_xlfn.IFNA(VLOOKUP(L56,Points!$A$2:$B$36,2),0)+_xlfn.IFNA(VLOOKUP(M56,Points!$A$2:$B$36,2),0)+_xlfn.IFNA(VLOOKUP(N56,Points!$A$2:$B$36,2),0)+_xlfn.IFNA(VLOOKUP(O56,Points!$A$2:$B$36,2),0)+_xlfn.IFNA(VLOOKUP(P56,Points!$A$2:$B$36,2),0)+_xlfn.IFNA(VLOOKUP(Q56,Points!$D$2:$E$36,2),0)+R56 -> 4 | L56: 9
A57: Scott | B57: Engler | C57: =_xlfn.IFNA(VLOOKUP(E57,Points!$A$2:$B$36,2),0)+_xlfn.IFNA(VLOOKUP(F57,Points!$A$2:$B$36,2),0)+_xlfn.IFNA(VLOOKUP(G57,Points!$A$2:$B$36,2),0)+_xlfn.IFNA(VLOOKUP(H57,Points!$A$2:$B$36,2),0)+_xlfn.IFNA(VLOOKUP(I57,Points!$A$2:$B$36,2),0)+_xlfn.IFNA(VLOOKUP(J57,Points!$A$2:$B$36,2),0)+_xlfn.IFNA(VLOOKUP(K57,Points!$A$2:$B$36,2),0)+_xlfn.IFNA(VLOOKUP(L57,Points!$A$2:$B$36,2),0)+_xlfn.IFNA(VLOOKUP(M57,Points!$A$2:$B$36,2),0)+_xlfn.IFNA(VLOOKUP(N57,Points!$A$2:$B$36,2),0)+_xlfn.IFNA(VLOOKUP(O57,Points!$A$2:$B$36,2),0)+_xlfn.IFNA(VLOOKUP(P57,Points!$A$2:$B$36,2),0)+_xlfn.IFNA(VLOOKUP(Q57,Points!$D$2:$E$36,2),0)+R57 -> 4 | O57: 9
A58: Jackson | B58: Larkin | C58: =_xlfn.IFNA(VLOOKUP(E58,Points!$A$2:$B$36,2),0)+_xlfn.IFNA(VLOOKUP(F58,Points!$A$2:$B$36,2),0)+_xlfn.IFNA(VLOOKUP(G58,Points!$A$2:$B$36,2),0)+_xlfn.IFNA(VLOOKUP(H58,Points!$A$2:$B$36,2),0)+_xlfn.IFNA(VLOOKUP(I58,Points!$A$2:$B$36,2),0)+_xlfn.IFNA(VLOOKUP(J58,Points!$A$2:$B$36,2),0)+_xlfn.IFNA(VLOOKUP(K58,Points!$A$2:$B$36,2),0)+_xlfn.IFNA(VLOOKUP(L58,Points!$A$2:$B$36,2),0)+_xlfn.IFNA(VLOOKUP(M58,Points!$A$2:$B$36,2),0)+_xlfn.IFNA(VLOOKUP(N58,Points!$A$2:$B$36,2),0)+_xlfn.IFNA(VLOOKUP(O58,Points!$A$2:$B$36,2),0)+_xlfn.IFNA(VLOOKUP(P58,Points!$A$2:$B$36,2),0)+_xlfn.IFNA(VLOOKUP(Q58,Points!$D$2:$E$36,2),0)+R58 -> 3 | L58: 10
A59: Joe | B59: Goeke | C59: =_xlfn.IFNA(VLOOKUP(E59,Points!$A$2:$B$36,2),0)+_xlfn.IFNA(VLOOKUP(F59,Points!$A$2:$B$36,2),0)+_xlfn.IFNA(VLOOKUP(G59,Points!$A$2:$B$36,2),0)+_xlfn.IFNA(VLOOKUP(H59,Points!$A$2:$B$36,2),0)+_xlfn.IFNA(VLOOKUP(I59,Points!$A$2:$B$36,2),0)+_xlfn.IFNA(VLOOKUP(J59,Points!$A$2:$B$36,2),0)+_xlfn.IFNA(VLOOKUP(K59,Points!$A$2:$B$36,2),0)+_xlfn.IFNA(VLOOKUP(L59,Points!$A$2:$B$36,2),0)+_xlfn.IFNA(VLOOKUP(M59,Points!$A$2:$B$36,2),0)+_xlfn.IFNA(VLOOKUP(N59,Points!$A$2:$B$36,2),0)+_xlfn.IFNA(VLOOKUP(O59,Points!$A$2:$B$36,2),0)+_xlfn.IFNA(VLOOKUP(P59,Points!$A$2:$B$36,2),0)+_xlfn.IFNA(VLOOKUP(Q59,Points!$D$2:$E$36,2),0)+R59 -> 2 | F59: 14 | G59: 12
A60: Dante | B60: Zannoni | C60: =_xlfn.IFNA(VLOOKUP(E60,Points!$A$2:$B$36,2),0)+_xlfn.IFNA(VLOOKUP(F60,Points!$A$2:$B$36,2),0)+_xlfn.IFNA(VLOOKUP(G60,Points!$A$2:$B$36,2),0)+_xlfn.IFNA(VLOOKUP(H60,Points!$A$2:$B$36,2),0)+_xlfn.IFNA(VLOOKUP(I60,Points!$A$2:$B$36,2),0)+_xlfn.IFNA(VLOOKUP(J60,Points!$A$2:$B$36,2),0)+_xlfn.IFNA(VLOOKUP(K60,Points!$A$2:$B$36,2),0)+_xlfn.IFNA(VLOOKUP(L60,Points!$A$2:$B$36,2),0)+_xlfn.IFNA(VLOOKUP(M60,Points!$A$2:$B$36,2),0)+_xlfn.IFNA(VLOOKUP(N60,Points!$A$2:$B$36,2),0)+_xlfn.IFNA(VLOOKUP(O60,Points!$A$2:$B$36,2),0)+_xlfn.IFNA(VLOOKUP(P60,Points!$A$2:$B$36,2),0)+_xlfn.IFNA(VLOOKUP(Q60,Points!$D$2:$E$36,2),0)+R60 -> 2 | F60: 18 | G60: 16
A61: Gerry | B61: Bonet | C61: =_xlfn.IFNA(VLOOKUP(E61,Points!$A$2:$B$36,2),0)+_xlfn.IFNA(VLOOKUP(F61,Points!$A$2:$B$36,2),0)+_xlfn.IFNA(VLOOKUP(G61,Points!$A$2:$B$36,2),0)+_xlfn.IFNA(VLOOKUP(H61,Points!$A$2:$B$36,2),0)+_xlfn.IFNA(VLOOKUP(I61,Points!$A$2:$B$36,2),0)+_xlfn.IFNA(VLOOKUP(J61,Points!$A$2:$B$36,2),0)+_xlfn.IFNA(VLOOKUP(K61,Points!$A$2:$B$36,2),0)+_xlfn.IFNA(VLOOKUP(L61,Points!$A$2:$B$36,2),0)+_xlfn.IFNA(VLOOKUP(M61,Points!$A$2:$B$36,2),0)+_xlfn.IFNA(VLOOKUP(N61,Points!$A$2:$B$36,2),0)+_xlfn.IFNA(VLOOKUP(O61,Points!$A$2:$B$36,2),0)+_xlfn.IFNA(VLOOKUP(P61,Points!$A$2:$B$36,2),0)+_xlfn.IFNA(VLOOKUP(Q61,Points!$D$2:$E$36,2),0)+R61 -> 2 | H61: 11
A62: Ivan | B62: Mendoza | C62: =_xlfn.IFNA(VLOOKUP(E62,Points!$A$2:$B$36,2),0)+_xlfn.IFNA(VLOOKUP(F62,Points!$A$2:$B$36,2),0)+_xlfn.IFNA(VLOOKUP(G62,Points!$A$2:$B$36,2),0)+_xlfn.IFNA(VLOOKUP(H62,Points!$A$2:$B$36,2),0)+_xlfn.IFNA(VLOOKUP(I62,Points!$A$2:$B$36,2),0)+_xlfn.IFNA(VLOOKUP(J62,Points!$A$2:$B$36,2),0)+_xlfn.IFNA(VLOOKUP(K62,Points!$A$2:$B$36,2),0)+_xlfn.IFNA(VLOOKUP(L62,Points!$A$2:$B$36,2),0)+_xlfn.IFNA(VLOOKUP(M62,Points!$A$2:$B$36,2),0)+_xlfn.IFNA(VLOOKUP(N62,Points!$A$2:$B$36,2),0)+_xlfn.IFNA(VLOOKUP(O62,Points!$A$2:$B$36,2),0)+_xlfn.IFNA(VLOOKUP(P62,Points!$A$2:$B$36,2),0)+_xlfn.IFNA(VLOOKUP(Q62,Points!$D$2:$E$36,2),0)+R62 -> 2 | K62: 11
A63: Ryan | B63: Miles | C63: =_xlfn.IFNA(VLOOKUP(E63,Points!$A$2:$B$36,2),0)+_xlfn.IFNA(VLOOKUP(F63,Points!$A$2:$B$36,2),0)+_xlfn.IFNA(VLOOKUP(G63,Points!$A$2:$B$36,2),0)+_xlfn.IFNA(VLOOKUP(H63,Points!$A$2:$B$36,2),0)+_xlfn.IFNA(VLOOKUP(I63,Points!$A$2:$B$36,2),0)+_xlfn.IFNA(VLOOKUP(J63,Points!$A$2:$B$36,2),0)+_xlfn.IFNA(VLOOKUP(K63,Points!$A$2:$B$36,2),0)+_xlfn.IFNA(VLOOKUP(L63,Points!$A$2:$B$36,2),0)+_xlfn.IFNA(VLOOKUP(M63,Points!$A$2:$B$36,2),0)+_xlfn.IFNA(VLOOKUP(N63,Points!$A$2:$B$36,2),0)+_xlfn.IFNA(VLOOKUP(O63,Points!$A$2:$B$36,2),0)+_xlfn.IFNA(VLOOKUP(P63,Points!$A$2:$B$36,2),0)+_xlfn.IFNA(VLOOKUP(Q63,Points!$D$2:$E$36,2),0)+R63 -> 2 | L63: 11
A64: Danny | B64: Weller | C64: =_xlfn.IFNA(VLOOKUP(E64,Points!$A$2:$B$36,2),0)+_xlfn.IFNA(VLOOKUP(F64,Points!$A$2:$B$36,2),0)+_xlfn.IFNA(VLOOKUP(G64,Points!$A$2:$B$36,2),0)+_xlfn.IFNA(VLOOKUP(H64,Points!$A$2:$B$36,2),0)+_xlfn.IFNA(VLOOKUP(I64,Points!$A$2:$B$36,2),0)+_xlfn.IFNA(VLOOKUP(J64,Points!$A$2:$B$36,2),0)+_xlfn.IFNA(VLOOKUP(K64,Points!$A$2:$B$36,2),0)+_xlfn.IFNA(VLOOKUP(L64,Points!$A$2:$B$36,2),0)+_xlfn.IFNA(VLOOKUP(M64,Points!$A$2:$B$36,2),0)+_xlfn.IFNA(VLOOKUP(N64,Points!$A$2:$B$36,2),0)+_xlfn.IFNA(VLOOKUP(O64,Points!$A$2:$B$36,2),0)+_xlfn.IFNA(VLOOKUP(P64,Points!$A$2:$B$36,2),0)+_xlfn.IFNA(VLOOKUP(Q64,Points!$D$2:$E$36,2),0)+R64 -> 1 | F64: 16
A65: Clayton | B65: Yates | C65: =_xlfn.IFNA(VLOOKUP(E65,Points!$A$2:$B$36,2),0)+_xlfn.IFNA(VLOOKUP(F65,Points!$A$2:$B$36,2),0)+_xlfn.IFNA(VLOOKUP(G65,Points!$A$2:$B$36,2),0)+_xlfn.IFNA(VLOOKUP(H65,Points!$A$2:$B$36,2),0)+_xlfn.IFNA(VLOOKUP(I65,Points!$A$2:$B$36,2),0)+_xlfn.IFNA(VLOOKUP(J65,Points!$A$2:$B$36,2),0)+_xlfn.IFNA(VLOOKUP(K65,Points!$A$2:$B$36,2),0)+_xlfn.IFNA(VLOOKUP(L65,Points!$A$2:$B$36,2),0)+_xlfn.IFNA(VLOOKUP(M65,Points!$A$2:$B$36,2),0)+_xlfn.IFNA(VLOOKUP(N65,Points!$A$2:$B$36,2),0)+_xlfn.IFNA(VLOOKUP(O65,Points!$A$2:$B$36,2),0)+_xlfn.IFNA(VLOOKUP(P65,Points!$A$2:$B$36,2),0)+_xlfn.IFNA(VLOOKUP(Q65,Points!$D$2:$E$36,2),0)+R65 -> 1 | F65: 19
A66: John | B66: Jobin | C66: =_xlfn.IFNA(VLOOKUP(E66,Points!$A$2:$B$36,2),0)+_xlfn.IFNA(VLOOKUP(F66,Points!$A$2:$B$36,2),0)+_xlfn.IFNA(VLOOKUP(G66,Points!$A$2:$B$36,2),0)+_xlfn.IFNA(VLOOKUP(H66,Points!$A$2:$B$36,2),0)+_xlfn.IFNA(VLOOKUP(I66,Points!$A$2:$B$36,2),0)+_xlfn.IFNA(VLOOKUP(J66,Points!$A$2:$B$36,2),0)+_xlfn.IFNA(VLOOKUP(K66,Points!$A$2:$B$36,2),0)+_xlfn.IFNA(VLOOKUP(L66,Points!$A$2:$B$36,2),0)+_xlfn.IFNA(VLOOKUP(M66,Points!$A$2:$B$36,2),0)+_xlfn.IFNA(VLOOKUP(N66,Points!$A$2:$B$36,2),0)+_xlfn.IFNA(VLOOKUP(O66,Points!$A$2:$B$36,2),0)+_xlfn.IFNA(VLOOKUP(P66,Points!$A$2:$B$36,2),0)+_xlfn.IFNA(VLOOKUP(Q66,Points!$D$2:$E$36,2),0)+R66 -> 1 | F66: 20
A67: Jason | B67: Siebels | C67: =_xlfn.IFNA(VLOOKUP(E67,Points!$A$2:$B$36,2),0)+_xlfn.IFNA(VLOOKUP(F67,Points!$A$2:$B$36,2),0)+_xlfn.IFNA(VLOOKUP(G67,Points!$A$2:$B$36,2),0)+_xlfn.IFNA(VLOOKUP(H67,Points!$A$2:$B$36,2),0)+_xlfn.IFNA(VLOOKUP(I67,Points!$A$2:$B$36,2),0)+_xlfn.IFNA(VLOOKUP(J67,Points!$A$2:$B$36,2),0)+_xlfn.IFNA(VLOOKUP(K67,Points!$A$2:$B$36,2),0)+_xlfn.IFNA(VLOOKUP(L67,Points!$A$2:$B$36,2),0)+_xlfn.IFNA(VLOOKUP(M67,Points!$A$2:$B$36,2),0)+_xlfn.IFNA(VLOOKUP(N67,Points!$A$2:$B$36,2),0)+_xlfn.IFNA(VLOOKUP(O67,Points!$A$2:$B$36,2),0)+_xlfn.IFNA(VLOOKUP(P67,Points!$A$2:$B$36,2),0)+_xlfn.IFNA(VLOOKUP(Q67,Points!$D$2:$E$36,2),0)+R67 -> 1 | F67: 23
A68: Connor | B68: Hoybjerg | C68: =_xlfn.IFNA(VLOOKUP(E68,Points!$A$2:$B$36,2),0)+_xlfn.IFNA(VLOOKUP(F68,Points!$A$2:$B$36,2),0)+_xlfn.IFNA(VLOOKUP(G68,Points!$A$2:$B$36,2),0)+_xlfn.IFNA(VLOOKUP(H68,Points!$A$2:$B$36,2),0)+_xlfn.IFNA(VLOOKUP(I68,Points!$A$2:$B$36,2),0)+_xlfn.IFNA(VLOOKUP(J68,Points!$A$2:$B$36,2),0)+_xlfn.IFNA(VLOOKUP(K68,Points!$A$2:$B$36,2),0)+_xlfn.IFNA(VLOOKUP(L68,Points!$A$2:$B$36,2),0)+_xlfn.IFNA(VLOOKUP(M68,Points!$A$2:$B$36,2),0)+_xlfn.IFNA(VLOOKUP(N68,Points!$A$2:$B$36,2),0)+_xlfn.IFNA(VLOOKUP(O68,Points!$A$2:$B$36,2),0)+_xlfn.IFNA(VLOOKUP(P68,Points!$A$2:$B$36,2),0)+_xlfn.IFNA(VLOOKUP(Q68,Points!$D$2:$E$36,2),0)+R68 -> 1 | G68: 15
A69: Waylon | B69: Goebel | C69: =_xlfn.IFNA(VLOOKUP(E69,Points!$A$2:$B$36,2),0)+_xlfn.IFNA(VLOOKUP(F69,Points!$A$2:$B$36,2),0)+_xlfn.IFNA(VLOOKUP(G69,Points!$A$2:$B$36,2),0)+_xlfn.IFNA(VLOOKUP(H69,Points!$A$2:$B$36,2),0)+_xlfn.IFNA(VLOOKUP(I69,Points!$A$2:$B$36,2),0)+_xlfn.IFNA(VLOOKUP(J69,Points!$A$2:$B$36,2),0)+_xlfn.IFNA(VLOOKUP(K69,Points!$A$2:$B$36,2),0)+_xlfn.IFNA(VLOOKUP(L69,Points!$A$2:$B$36,2),0)+_xlfn.IFNA(VLOOKUP(M69,Points!$A$2:$B$36,2),0)+_xlfn.IFNA(VLOOKUP(N69,Points!$A$2:$B$36,2),0)+_xlfn.IFNA(VLOOKUP(O69,Points!$A$2:$B$36,2),0)+_xlfn.IFNA(VLOOKUP(P69,Points!$A$2:$B$36,2),0)+_xlfn.IFNA(VLOOKUP(Q69,Points!$D$2:$E$36,2),0)+R69 -> 1 | G69: 14
A70: Edward | B70: Young | C70: =_xlfn.IFNA(VLOOKUP(E70,Points!$A$2:$B$36,2),0)+_xlfn.IFNA(VLOOKUP(F70,Points!$A$2:$B$36,2),0)+_xlfn.IFNA(VLOOKUP(G70,Points!$A$2:$B$36,2),0)+_xlfn.IFNA(VLOOKUP(H70,Points!$A$2:$B$36,2),0)+_xlfn.IFNA(VLOOKUP(I70,Points!$A$2:$B$36,2),0)+_xlfn.IFNA(VLOOKUP(J70,Points!$A$2:$B$36,2),0)+_xlfn.IFNA(VLOOKUP(K70,Points!$A$2:$B$36,2),0)+_xlfn.IFNA(VLOOKUP(L70,Points!$A$2:$B$36,2),0)+_xlfn.IFNA(VLOOKUP(M70,Points!$A$2:$B$36,2),0)+_xlfn.IFNA(VLOOKUP(N70,Points!$A$2:$B$36,2),0)+_xlfn.IFNA(VLOOKUP(O70,Points!$A$2:$B$36,2),0)+_xlfn.IFNA(VLOOKUP(P70,Points!$A$2:$B$36,2),0)+_xlfn.IFNA(VLOOKUP(Q70,Points!$D$2:$E$36,2),0)+R70 -> 1 | H70: 12
A71: Jose | B71: Martinez | C71: =_xlfn.IFNA(VLOOKUP(E71,Points!$A$2:$B$36,2),0)+_xlfn.IFNA(VLOOKUP(F71,Points!$A$2:$B$36,2),0)+_xlfn.IFNA(VLOOKUP(G71,Points!$A$2:$B$36,2),0)+_xlfn.IFNA(VLOOKUP(H71,Points!$A$2:$B$36,2),0)+_xlfn.IFNA(VLOOKUP(I71,Points!$A$2:$B$36,2),0)+_xlfn.IFNA(VLOOKUP(J71,Points!$A$2:$B$36,2),0)+_xlfn.IFNA(VLOOKUP(K71,Points!$A$2:$B$36,2),0)+_xlfn.IFNA(VLOOKUP(L71,Points!$A$2:$B$36,2),0)+_xlfn.IFNA(VLOOKUP(M71,Points!$A$2:$B$36,2),0)+_xlfn.IFNA(VLOOKUP(N71,Points!$A$2:$B$36,2),0)+_xlfn.IFNA(VLOOKUP(O71,Points!$A$2:$B$36,2),0)+_xlfn.IFNA(VLOOKUP(P71,Points!$A$2:$B$36,2),0)+_xlfn.IFNA(VLOOKUP(Q71,Points!$D$2:$E$36,2),0)+R71 -> 1 | H71: 14
A72: Adrian | B72: Louisson | C72: =_xlfn.IFNA(VLOOKUP(E72,Points!$A$2:$B$36,2),0)+_xlfn.IFNA(VLOOKUP(F72,Points!$A$2:$B$36,2),0)+_xlfn.IFNA(VLOOKUP(G72,Points!$A$2:$B$36,2),0)+_xlfn.IFNA(VLOOKUP(H72,Points!$A$2:$B$36,2),0)+_xlfn.IFNA(VLOOKUP(I72,Points!$A$2:$B$36,2),0)+_xlfn.IFNA(VLOOKUP(J72,Points!$A$2:$B$36,2),0)+_xlfn.IFNA(VLOOKUP(K72,Points!$A$2:$B$36,2),0)+_xlfn.IFNA(VLOOKUP(L72,Points!$A$2:$B$36,2),0)+_xlfn.IFNA(VLOOKUP(M72,Points!$A$2:$B$36,2),0)+_xlfn.IFNA(VLOOKUP(N72,Points!$A$2:$B$36,2),0)+_xlfn.IFNA(VLOOKUP(O72,Points!$A$2:$B$36,2),0)+_xlfn.IFNA(VLOOKUP(P72,Points!$A$2:$B$36,2),0)+_xlfn.IFNA(VLOOKUP(Q72,Points!$D$2:$E$36,2),0)+R72 -> 1 | H72: 15
A73: Alexandra | B73: Zust | C73: =_xlfn.IFNA(VLOOKUP(E73,Points!$A$2:$B$36,2),0)+_xlfn.IFNA(VLOOKUP(F73,Points!$A$2:$B$36,2),0)+_xlfn.IFNA(VLOOKUP(G73,Points!$A$2:$B$36,2),0)+_xlfn.IFNA(VLOOKUP(H73,Points!$A$2:$B$36,2),0)+_xlfn.IFNA(VLOOKUP(I73,Points!$A$2:$B$36,2),0)+_xlfn.IFNA(VLOOKUP(J73,Points!$A$2:$B$36,2),0)+_xlfn.IFNA(VLOOKUP(K73,Points!$A$2:$B$36,2),0)+_xlfn.IFNA(VLOOKUP(L73,Points!$A$2:$B$36,2),0)+_xlfn.IFNA(VLOOKUP(M73,Points!$A$2:$B$36,2),0)+_xlfn.IFNA(VLOOKUP(N73,Points!$A$2:$B$36,2),0)+_xlfn.IFNA(VLOOKUP(O73,Points!$A$2:$B$36,2),0)+_xlfn.IFNA(VLOOKUP(P73,Points!$A$2:$B$36,2),0)+_xlfn.IFNA(VLOOKUP(Q73,Points!$D$2:$E$36,2),0)+R73 -> 1 | L73: 12
A74: Sarah | B74: Miles | C74: =_xlfn.IFNA(VLOOKUP(E74,Points!$A$2:$B$36,2),0)+_xlfn.IFNA(VLOOKUP(F74,Points!$A$2:$B$36,2),0)+_xlfn.IFNA(VLOOKUP(G74,Points!$A$2:$B$36,2),0)+_xlfn.IFNA(VLOOKUP(H74,Points!$A$2:$B$36,2),0)+_xlfn.IFNA(VLOOKUP(I74,Points!$A$2:$B$36,2),0)+_xlfn.IFNA(VLOOKUP(J74,Points!$A$2:$B$36,2),0)+_xlfn.IFNA(VLOOKUP(K74,Points!$A$2:$B$36,2),0)+_xlfn.IFNA(VLOOKUP(L74,Points!$A$2:$B$36,2),0)+_xlfn.IFNA(VLOOKUP(M74,Points!$A$2:$B$36,2),0)+_xlfn.IFNA(VLOOKUP(N74,Points!$A$2:$B$36,2),0)+_xlfn.IFNA(VLOOKUP(O74,Points!$A$2:$B$36,2),0)+_xlfn.IFNA(VLOOKUP(P74,Points!$A$2:$B$36,2),0)+_xlfn.IFNA(VLOOKUP(Q74,Points!$D$2:$E$36,2),0)+R74 -> 1 | L74: 13
C75: =_xlfn.IFNA(VLOOKUP(E75,Points!$A$2:$B$36,2),0)+_xlfn.IFNA(VLOOKUP(F75,Points!$A$2:$B$36,2),0)+_xlfn.IFNA(VLOOKUP(G75,Points!$A$2:$B$36,2),0)+_xlfn.IFNA(VLOOKUP(H75,Points!$A$2:$B$36,2),0)+_xlfn.IFNA(VLOOKUP(I75,Points!$A$2:$B$36,2),0)+_xlfn.IFNA(VLOOKUP(J75,Points!$A$2:$B$36,2),0)+_xlfn.IFNA(VLOOKUP(K75,Points!$A$2:$B$36,2),0)+_xlfn.IFNA(VLOOKUP(L75,Points!$A$2:$B$36,2),0)+_xlfn.IFNA(VLOOKUP(M75,Points!$A$2:$B$36,2),0)+_xlfn.IFNA(VLOOKUP(N75,Points!$A$2:$B$36,2),0)+_xlfn.IFNA(VLOOKUP(O75,Points!$A$2:$B$36,2),0)+_xlfn.IFNA(VLOOKUP(P75,Points!$A$2:$B$36,2),0)+_xlfn.IFNA(VLOOKUP(Q75,Points!$D$2:$E$36,2),0)+R75 -> 0
C76: =_xlfn.IFNA(VLOOKUP(E76,Points!$A$2:$B$36,2),0)+_xlfn.IFNA(VLOOKUP(F76,Points!$A$2:$B$36,2),0)+_xlfn.IFNA(VLOOKUP(G76,Points!$A$2:$B$36,2),0)+_xlfn.IFNA(VLOOKUP(H76,Points!$A$2:$B$36,2),0)+_xlfn.IFNA(VLOOKUP(I76,Points!$A$2:$B$36,2),0)+_xlfn.IFNA(VLOOKUP(J76,Points!$A$2:$B$36,2),0)+_xlfn.IFNA(VLOOKUP(K76,Points!$A$2:$B$36,2),0)+_xlfn.IFNA(VLOOKUP(L76,Points!$A$2:$B$36,2),0)+_xlfn.IFNA(VLOOKUP(M76,Points!$A$2:$B$36,2),0)+_xlfn.IFNA(VLOOKUP(N76,Points!$A$2:$B$36,2),0)+_xlfn.IFNA(VLOOKUP(O76,Points!$A$2:$B$36,2),0)+_xlfn.IFNA(VLOOKUP(P76,Points!$A$2:$B$36,2),0)+_xlfn.IFNA(VLOOKUP(Q76,Points!$D$2:$E$36,2),0)+R76 -> 0
C77: =_xlfn.IFNA(VLOOKUP(E77,Points!$A$2:$B$36,2),0)+_xlfn.IFNA(VLOOKUP(F77,Points!$A$2:$B$36,2),0)+_xlfn.IFNA(VLOOKUP(G77,Points!$A$2:$B$36,2),0)+_xlfn.IFNA(VLOOKUP(H77,Points!$A$2:$B$36,2),0)+_xlfn.IFNA(VLOOKUP(I77,Points!$A$2:$B$36,2),0)+_xlfn.IFNA(VLOOKUP(J77,Points!$A$2:$B$36,2),0)+_xlfn.IFNA(VLOOKUP(K77,Points!$A$2:$B$36,2),0)+_xlfn.IFNA(VLOOKUP(L77,Points!$A$2:$B$36,2),0)+_xlfn.IFNA(VLOOKUP(M77,Points!$A$2:$B$36,2),0)+_xlfn.IFNA(VLOOKUP(N77,Points!$A$2:$B$36,2),0)+_xlfn.IFNA(VLOOKUP(O77,Points!$A$2:$B$36,2),0)+_xlfn.IFNA(VLOOKUP(P77,Points!$A$2:$B$36,2),0)+_xlfn.IFNA(VLOOKUP(Q77,Points!$D$2:$E$36,2),0)+R77 -> 0
C78: =_xlfn.IFNA(VLOOKUP(E78,Points!$A$2:$B$36,2),0)+_xlfn.IFNA(VLOOKUP(F78,Points!$A$2:$B$36,2),0)+_xlfn.IFNA(VLOOKUP(G78,Points!$A$2:$B$36,2),0)+_xlfn.IFNA(VLOOKUP(H78,Points!$A$2:$B$36,2),0)+_xlfn.IFNA(VLOOKUP(I78,Points!$A$2:$B$36,2),0)+_xlfn.IFNA(VLOOKUP(J78,Points!$A$2:$B$36,2),0)+_xlfn.IFNA(VLOOKUP(K78,Points!$A$2:$B$36,2),0)+_xlfn.IFNA(VLOOKUP(L78,Points!$A$2:$B$36,2),0)+_xlfn.IFNA(VLOOKUP(M78,Points!$A$2:$B$36,2),0)+_xlfn.IFNA(VLOOKUP(N78,Points!$A$2:$B$36,2),0)+_xlfn.IFNA(VLOOKUP(O78,Points!$A$2:$B$36,2),0)+_xlfn.IFNA(VLOOKUP(P78,Points!$A$2:$B$36,2),0)+_xlfn.IFNA(VLOOKUP(Q78,Points!$D$2:$E$36,2),0)+R78 -> 0
A79: AS
A80: Billy | B80: Davis | C80: =_xlfn.IFNA(VLOOKUP(E80,Points!$A$2:$B$36,2),0)+_xlfn.IFNA(VLOOKUP(F80,Points!$A$2:$B$36,2),0)+_xlfn.IFNA(VLOOKUP(G80,Points!$A$2:$B$36,2),0)+_xlfn.IFNA(VLOOKUP(H80,Points!$A$2:$B$36,2),0)+_xlfn.IFNA(VLOOKUP(I80,Points!$A$2:$B$36,2),0)+_xlfn.IFNA(VLOOKUP(J80,Points!$A$2:$B$36,2),0)+_xlfn.IFNA(VLOOKUP(K80,Points!$A$2:$B$36,2),0)+_xlfn.IFNA(VLOOKUP(L80,Points!$A$2:$B$36,2),0)+_xlfn.IFNA(VLOOKUP(M80,Points!$A$2:$B$36,2),0)+_xlfn.IFNA(VLOOKUP(N80,Points!$A$2:$B$36,2),0)+_xlfn.IFNA(VLOOKUP(O80,Points!$A$2:$B$36,2),0)+_xlfn.IFNA(VLOOKUP(P80,Points!$A$2:$B$36,2),0)+_xlfn.IFNA(VLOOKUP(Q80,Points!$D$2:$E$36,2),0)+R80 -> 42 | E80: 1 | J80: 1 | L80: 1* | P80: 1* | R80: =1+1 -> 2 | S80: Beeville: 1; SNPS:1; Toledo:1 (Drop); LAP: 1 (Drop)
A81: Austin | B81: Clark | C81: =_xlfn.IFNA(VLOOKUP(E81,Points!$A$2:$B$36,2),0)+_xlfn.IFNA(VLOOKUP(F81,Points!$A$2:$B$36,2),0)+_xlfn.IFNA(VLOOKUP(G81,Points!$A$2:$B$36,2),0)+_xlfn.IFNA(VLOOKUP(H81,Points!$A$2:$B$36,2),0)+_xlfn.IFNA(VLOOKUP(I81,Points!$A$2:$B$36,2),0)+_xlfn.IFNA(VLOOKUP(J81,Points!$A$2:$B$36,2),0)+_xlfn.IFNA(VLOOKUP(K81,Points!$A$2:$B$36,2),0)+_xlfn.IFNA(VLOOKUP(L81,Points!$A$2:$B$36,2),0)+_xlfn.IFNA(VLOOKUP(M81,Points!$A$2:$B$36,2),0)+_xlfn.IFNA(VLOOKUP(N81,Points!$A$2:$B$36,2),0)+_xlfn.IFNA(VLOOKUP(O81,Points!$A$2:$B$36,2),0)+_xlfn.IFNA(VLOOKUP(P81,Points!$A$2:$B$36,2),0)+_xlfn.IFNA(VLOOKUP(Q81,Points!$D$2:$E$36,2),0)+R81 -> 42 | F81: 1* | G81: 2* | K81: 1 | O81: 1 | R81: =1+1 -> 2 | S81: LV2:1 (Drop); Crows: 1; Packwood: 1
A82: Jason | B82: Harnish | C82: =_xlfn.IFNA(VLOOKUP(E82,Points!$A$2:$B$36,2),0)+_xlfn.IFNA(VLOOKUP(F82,Points!$A$2:$B$36,2),0)+_xlfn.IFNA(VLOOKUP(G82,Points!$A$2:$B$36,2),0)+_xlfn.IFNA(VLOOKUP(H82,Points!$A$2:$B$36,2),0)+_xlfn.IFNA(VLOOKUP(I82,Points!$A$2:$B$36,2),0)+_xlfn.IFNA(VLOOKUP(J82,Points!$A$2:$B$36,2),0)+_xlfn.IFNA(VLOOKUP(K82,Points!$A$2:$B$36,2),0)+_xlfn.IFNA(VLOOKUP(L82,Points!$A$2:$B$36,2),0)+_xlfn.IFNA(VLOOKUP(M82,Points!$A$2:$B$36,2),0)+_xlfn.IFNA(VLOOKUP(N82,Points!$A$2:$B$36,2),0)+_xlfn.IFNA(VLOOKUP(O82,Points!$A$2:$B$36,2),0)+_xlfn.IFNA(VLOOKUP(P82,Points!$A$2:$B$36,2),0)+_xlfn.IFNA(VLOOKUP(Q82,Points!$D$2:$E$36,2),0)+R82 -> 37 | H82: 2 | I82: 2* | M82: x | N82: 1 | R82: =1 -> 1 | S82: Bristol: 1
A83: Mark | B83: Shrivastava | C83: =_xlfn.IFNA(VLOOKUP(E83,Points!$A$2:$B$36,2),0)+_xlfn.IFNA(VLOOKUP(F83,Points!$A$2:$B$36,2),0)+_xlfn.IFNA(VLOOKUP(G83,Points!$A$2:$B$36,2),0)+_xlfn.IFNA(VLOOKUP(H83,Points!$A$2:$B$36,2),0)+_xlfn.IFNA(VLOOKUP(I83,Points!$A$2:$B$36,2),0)+_xlfn.IFNA(VLOOKUP(J83,Points!$A$2:$B$36,2),0)+_xlfn.IFNA(VLOOKUP(K83,Points!$A$2:$B$36,2),0)+_xlfn.IFNA(VLOOKUP(L83,Points!$A$2:$B$36,2),0)+_xlfn.IFNA(VLOOKUP(M83,Points!$A$2:$B$36,2),0)+_xlfn.IFNA(VLOOKUP(N83,Points!$A$2:$B$36,2),0)+_xlfn.IFNA(VLOOKUP(O83,Points!$A$2:$B$36,2),0)+_xlfn.IFNA(VLOOKUP(P83,Points!$A$2:$B$36,2),0)+_xlfn.IFNA(VLOOKUP(Q83,Points!$D$2:$E$36,2),0)+R83 -> 36 | F83: 2 | G83: 1
A84: Nick | B84: Lindsay | C84: =_xlfn.IFNA(VLOOKUP(E84,Points!$A$2:$B$36,2),0)+_xlfn.IFNA(VLOOKUP(F84,Points!$A$2:$B$36,2),0)+_xlfn.IFNA(VLOOKUP(G84,Points!$A$2:$B$36,2),0)+_xlfn.IFNA(VLOOKUP(H84,Points!$A$2:$B$36,2),0)+_xlfn.IFNA(VLOOKUP(I84,Points!$A$2:$B$36,2),0)+_xlfn.IFNA(VLOOKUP(J84,Points!$A$2:$B$36,2),0)+_xlfn.IFNA(VLOOKUP(K84,Points!$A$2:$B$36,2),0)+_xlfn.IFNA(VLOOKUP(L84,Points!$A$2:$B$36,2),0)+_xlfn.IFNA(VLOOKUP(M84,Points!$A$2:$B$36,2),0)+_xlfn.IFNA(VLOOKUP(N84,Points!$A$2:$B$36,2),0)+_xlfn.IFNA(VLOOKUP(O84,Points!$A$2:$B$36,2),0)+_xlfn.IFNA(VLOOKUP(P84,Points!$A$2:$B$36,2),0)+_xlfn.IFNA(VLOOKUP(Q84,Points!$D$2:$E$36,2),0)+R84 -> 34 | H84: 1 | J84: 3 | N84: 3* | R84: =1 -> 1 | S84: ATL: 1
A85: Bob | B85: Davis | C85: =_xlfn.IFNA(VLOOKUP(E85,Points!$A$2:$B$36,2),0)+_xlfn.IFNA(VLOOKUP(F85,Points!$A$2:$B$36,2),0)+_xlfn.IFNA(VLOOKUP(G85,Points!$A$2:$B$36,2),0)+_xlfn.IFNA(VLOOKUP(H85,Points!$A$2:$B$36,2),0)+_xlfn.IFNA(VLOOKUP(I85,Points!$A$2:$B$36,2),0)+_xlfn.IFNA(VLOOKUP(J85,Points!$A$2:$B$36,2),0)+_xlfn.IFNA(VLOOKUP(K85,Points!$A$2:$B$36,2),0)+_xlfn.IFNA(VLOOKUP(L85,Points!$A$2:$B$36,2),0)+_xlfn.IFNA(VLOOKUP(M85,Points!$A$2:$B$36,2),0)+_xlfn.IFNA(VLOOKUP(N85,Points!$A$2:$B$36,2),0)+_xlfn.IFNA(VLOOKUP(O85,Points!$A$2:$B$36,2),0)+_xlfn.IFNA(VLOOKUP(P85,Points!$A$2:$B$36,2),0)+_xlfn.IFNA(VLOOKUP(Q85,Points!$D$2:$E$36,2),0)+R85 -> 32 | E85: 4* | J85: 2 | L85: 2 | P85: 3*
A86: William | B86: Damhoff | C86: =_xlfn.IFNA(VLOOKUP(E86,Points!$A$2:$B$36,2),0)+_xlfn.IFNA(VLOOKUP(F86,Points!$A$2:$B$36,2),0)+_xlfn.IFNA(VLOOKUP(G86,Points!$A$2:$B$36,2),0)+_xlfn.IFNA(VLOOKUP(H86,Points!$A$2:$B$36,2),0)+_xlfn.IFNA(VLOOKUP(I86,Points!$A$2:$B$36,2),0)+_xlfn.IFNA(VLOOKUP(J86,Points!$A$2:$B$36,2),0)+_xlfn.IFNA(VLOOKUP(K86,Points!$A$2:$B$36,2),0)+_xlfn.IFNA(VLOOKUP(L86,Points!$A$2:$B$36,2),0)+_xlfn.IFNA(VLOOKUP(M86,Points!$A$2:$B$36,2),0)+_xlfn.IFNA(VLOOKUP(N86,Points!$A$2:$B$36,2),0)+_xlfn.IFNA(VLOOKUP(O86,Points!$A$2:$B$36,2),0)+_xlfn.IFNA(VLOOKUP(P86,Points!$A$2:$B$36,2),0)+_xlfn.IFNA(VLOOKUP(Q86,Points!$D$2:$E$36,2),0)+R86 -> 27 | H86: 5* | J86: 4 | N86: 4* | P86: 2
A87: Dave | B87: Bahl | C87: =_xlfn.IFNA(VLOOKUP(E87,Points!$A$2:$B$36,2),0)+_xlfn.IFNA(VLOOKUP(F87,Points!$A$2:$B$36,2),0)+_xlfn.IFNA(VLOOKUP(G87,Points!$A$2:$B$36,2),0)+_xlfn.IFNA(VLOOKUP(H87,Points!$A$2:$B$36,2),0)+_xlfn.IFNA(VLOOKUP(I87,Points!$A$2:$B$36,2),0)+_xlfn.IFNA(VLOOKUP(J87,Points!$A$2:$B$36,2),0)+_xlfn.IFNA(VLOOKUP(K87,Points!$A$2:$B$36,2),0)+_xlfn.IFNA(VLOOKUP(L87,Points!$A$2:$B$36,2),0)+_xlfn.IFNA(VLOOKUP(M87,Points!$A$2:$B$36,2),0)+_xlfn.IFNA(VLOOKUP(N87,Points!$A$2:$B$36,2),0)+_xlfn.IFNA(VLOOKUP(O87,Points!$A$2:$B$36,2),0)+_xlfn.IFNA(VLOOKUP(P87,Points!$A$2:$B$36,2),0)+_xlfn.IFNA(VLOOKUP(Q87,Points!$D$2:$E$36,2),0)+R87 -> 26 | F87: 4* | G87: 3 | K87: 3
A88: Robert | B88: Foster | C88: =_xlfn.IFNA(VLOOKUP(E88,Points!$A$2:$B$36,2),0)+_xlfn.IFNA(VLOOKUP(F88,Points!$A$2:$B$36,2),0)+_xlfn.IFNA(VLOOKUP(G88,Points!$A$2:$B$36,2),0)+_xlfn.IFNA(VLOOKUP(H88,Points!$A$2:$B$36,2),0)+_xlfn.IFNA(VLOOKUP(I88,Points!$A$2:$B$36,2),0)+_xlfn.IFNA(VLOOKUP(J88,Points!$A$2:$B$36,2),0)+_xlfn.IFNA(VLOOKUP(K88,Points!$A$2:$B$36,2),0)+_xlfn.IFNA(VLOOKUP(L88,Points!$A$2:$B$36,2),0)+_xlfn.IFNA(VLOOKUP(M88,Points!$A$2:$B$36,2),0)+_xlfn.IFNA(VLOOKUP(N88,Points!$A$2:$B$36,2),0)+_xlfn.IFNA(VLOOKUP(O88,Points!$A$2:$B$36,2),0)+_xlfn.IFNA(VLOOKUP(P88,Points!$A$2:$B$36,2),0)+_xlfn.IFNA(VLOOKUP(Q88,Points!$D$2:$E$36,2),0)+R88 -> 24 | F88: 3 | G88: 4
A89: Steve | B89: Waters | C89: =_xlfn.IFNA(VLOOKUP(E89,Points!$A$2:$B$36,2),0)+_xlfn.IFNA(VLOOKUP(F89,Points!$A$2:$B$36,2),0)+_xlfn.IFNA(VLOOKUP(G89,Points!$A$2:$B$36,2),0)+_xlfn.IFNA(VLOOKUP(H89,Points!$A$2:$B$36,2),0)+_xlfn.IFNA(VLOOKUP(I89,Points!$A$2:$B$36,2),0)+_xlfn.IFNA(VLOOKUP(J89,Points!$A$2:$B$36,2),0)+_xlfn.IFNA(VLOOKUP(K89,Points!$A$2:$B$36,2),0)+_xlfn.IFNA(VLOOKUP(L89,Points!$A$2:$B$36,2),0)+_xlfn.IFNA(VLOOKUP(M89,Points!$A$2:$B$36,2),0)+_xlfn.IFNA(VLOOKUP(N89,Points!$A$2:$B$36,2),0)+_xlfn.IFNA(VLOOKUP(O89,Points!$A$2:$B$36,2),0)+_xlfn.IFNA(VLOOKUP(P89,Points!$A$2:$B$36,2),0)+_xlfn.IFNA(VLOOKUP(Q89,Points!$D$2:$E$36,2),0)+R89 -> 21 | H89: 4 | J89: 5 | N89: 5* | R89: =1 -> 1 | S89: ATL:1
A90: Daniel | B90: McFarland | C90: =_xlfn.IFNA(VLOOKUP(E90,Points!$A$2:$B$36,2),0)+_xlfn.IFNA(VLOOKUP(F90,Points!$A$2:$B$36,2),0)+_xlfn.IFNA(VLOOKUP(G90,Points!$A$2:$B$36,2),0)+_xlfn.IFNA(VLOOKUP(H90,Points!$A$2:$B$36,2),0)+_xlfn.IFNA(VLOOKUP(I90,Points!$A$2:$B$36,2),0)+_xlfn.IFNA(VLOOKUP(J90,Points!$A$2:$B$36,2),0)+_xlfn.IFNA(VLOOKUP(K90,Points!$A$2:$B$36,2),0)+_xlfn.IFNA(VLOOKUP(L90,Points!$A$2:$B$36,2),0)+_xlfn.IFNA(VLOOKUP(M90,Points!$A$2:$B$36,2),0)+_xlfn.IFNA(VLOOKUP(N90,Points!$A$2:$B$36,2),0)+_xlfn.IFNA(VLOOKUP(O90,Points!$A$2:$B$36,2),0)+_xlfn.IFNA(VLOOKUP(P90,Points!$A$2:$B$36,2),0)+_xlfn.IFNA(VLOOKUP(Q90,Points!$D$2:$E$36,2),0)+R90 -> 21 | I90: 1 | R90: =1 -> 1 | S90: WDC: 1
A91: Ken | B91: Mollenauer | C91: =_xlfn.IFNA(VLOOKUP(E91,Points!$A$2:$B$36,2),0)+_xlfn.IFNA(VLOOKUP(F91,Points!$A$2:$B$36,2),0)+_xlfn.IFNA(VLOOKUP(G91,Points!$A$2:$B$36,2),0)+_xlfn.IFNA(VLOOKUP(H91,Points!$A$2:$B$36,2),0)+_xlfn.IFNA(VLOOKUP(I91,Points!$A$2:$B$36,2),0)+_xlfn.IFNA(VLOOKUP(J91,Points!$A$2:$B$36,2),0)+_xlfn.IFNA(VLOOKUP(K91,Points!$A$2:$B$36,2),0)+_xlfn.IFNA(VLOOKUP(L91,Points!$A$2:$B$36,2),0)+_xlfn.IFNA(VLOOKUP(M91,Points!$A$2:$B$36,2),0)+_xlfn.IFNA(VLOOKUP(N91,Points!$A$2:$B$36,2),0)+_xlfn.IFNA(VLOOKUP(O91,Points!$A$2:$B$36,2),0)+_xlfn.IFNA(VLOOKUP(P91,Points!$A$2:$B$36,2),0)+_xlfn.IFNA(VLOOKUP(Q91,Points!$D$2:$E$36,2),0)+R91 -> 20 | K91: 5 | P91: 4
A92: Phillip | B92: Irving | C92: =_xlfn.IFNA(VLOOKUP(E92,Points!$A$2:$B$36,2),0)+_xlfn.IFNA(VLOOKUP(F92,Points!$A$2:$B$36,2),0)+_xlfn.IFNA(VLOOKUP(G92,Points!$A$2:$B$36,2),0)+_xlfn.IFNA(VLOOKUP(H92,Points!$A$2:$B$36,2),0)+_xlfn.IFNA(VLOOKUP(I92,Points!$A$2:$B$36,2),0)+_xlfn.IFNA(VLOOKUP(J92,Points!$A$2:$B$36,2),0)+_xlfn.IFNA(VLOOKUP(K92,Points!$A$2:$B$36,2),0)+_xlfn.IFNA(VLOOKUP(L92,Points!$A$2:$B$36,2),0)+_xlfn.IFNA(VLOOKUP(M92,Points!$A$2:$B$36,2),0)+_xlfn.IFNA(VLOOKUP(N92,Points!$A$2:$B$36,2),0)+_xlfn.IFNA(VLOOKUP(O92,Points!$A$2:$B$36,2),0)+_xlfn.IFNA(VLOOKUP(P92,Points!$A$2:$B$36,2),0)+_xlfn.IFNA(VLOOKUP(Q92,Points!$D$2:$E$36,2),0)+R92 -> 17 | I92: 4 | N92: 7
A93: Tim | B93: Weidemann | C93: =_xlfn.IFNA(VLOOKUP(E93,Points!$A$2:$B$36,2),0)+_xlfn.IFNA(VLOOKUP(F93,Points!$A$2:$B$36,2),0)+_xlfn.IFNA(VLOOKUP(G93,Points!$A$2:$B$36,2),0)+_xlfn.IFNA(VLOOKUP(H93,Points!$A$2:$B$36,2),0)+_xlfn.IFNA(VLOOKUP(I93,Points!$A$2:$B$36,2),0)+_xlfn.IFNA(VLOOKUP(J93,Points!$A$2:$B$36,2),0)+_xlfn.IFNA(VLOOKUP(K93,Points!$A$2:$B$36,2),0)+_xlfn.IFNA(VLOOKUP(L93,Points!$A$2:$B$36,2),0)+_xlfn.IFNA(VLOOKUP(M93,Points!$A$2:$B$36,2),0)+_xlfn.IFNA(VLOOKUP(N93,Points!$A$2:$B$36,2),0)+_xlfn.IFNA(VLOOKUP(O93,Points!$A$2:$B$36,2),0)+_xlfn.IFNA(VLOOKUP(P93,Points!$A$2:$B$36,2),0)+_xlfn.IFNA(VLOOKUP(Q93,Points!$D$2:$E$36,2),0)+R93 -> 17 | O93: 2 | R93: =1 -> 1 | S93: Packwood: 1
A94: Jerry | B94: Centanni | C94: =_xlfn.IFNA(VLOOKUP(E94,Points!$A$2:$B$36,2),0)+_xlfn.IFNA(VLOOKUP(F94,Points!$A$2:$B$36,2),0)+_xlfn.IFNA(VLOOKUP(G94,Points!$A$2:$B$36,2),0)+_xlfn.IFNA(VLOOKUP(H94,Points!$A$2:$B$36,2),0)+_xlfn.IFNA(VLOOKUP(I94,Points!$A$2:$B$36,2),0)+_xlfn.IFNA(VLOOKUP(J94,Points!$A$2:$B$36,2),0)+_xlfn.IFNA(VLOOKUP(K94,Points!$A$2:$B$36,2),0)+_xlfn.IFNA(VLOOKUP(L94,Points!$A$2:$B$36,2),0)+_xlfn.IFNA(VLOOKUP(M94,Points!$A$2:$B$36,2),0)+_xlfn.IFNA(VLOOKUP(N94,Points!$A$2:$B$36,2),0)+_xlfn.IFNA(VLOOKUP(O94,Points!$A$2:$B$36,2),0)+_xlfn.IFNA(VLOOKUP(P94,Points!$A$2:$B$36,2),0)+_xlfn.IFNA(VLOOKUP(Q94,Points!$D$2:$E$36,2),0)+R94 -> 16 | E94: 2
A95: Matthew | B95: Villescas | C95: =_xlfn.IFNA(VLOOKUP(E95,Points!$A$2:$B$36,2),0)+_xlfn.IFNA(VLOOKUP(F95,Points!$A$2:$B$36,2),0)+_xlfn.IFNA(VLOOKUP(G95,Points!$A$2:$B$36,2),0)+_xlfn.IFNA(VLOOKUP(H95,Points!$A$2:$B$36,2),0)+_xlfn.IFNA(VLOOKUP(I95,Points!$A$2:$B$36,2),0)+_xlfn.IFNA(VLOOKUP(J95,Points!$A$2:$B$36,2),0)+_xlfn.IFNA(VLOOKUP(K95,Points!$A$2:$B$36,2),0)+_xlfn.IFNA(VLOOKUP(L95,Points!$A$2:$B$36,2),0)+_xlfn.IFNA(VLOOKUP(M95,Points!$A$2:$B$36,2),0)+_xlfn.IFNA(VLOOKUP(N95,Points!$A$2:$B$36,2),0)+_xlfn.IFNA(VLOOKUP(O95,Points!$A$2:$B$36,2),0)+_xlfn.IFNA(VLOOKUP(P95,Points!$A$2:$B$36,2),0)+_xlfn.IFNA(VLOOKUP(Q95,Points!$D$2:$E$36,2),0)+R95 -> 16 | F95: 5 | G95: 6
A96: Christopher | B96: Bartley | C96: =_xlfn.IFNA(VLOOKUP(E96,Points!$A$2:$B$36,2),0)+_xlfn.IFNA(VLOOKUP(F96,Points!$A$2:$B$36,2),0)+_xlfn.IFNA(VLOOKUP(G96,Points!$A$2:$B$36,2),0)+_xlfn.IFNA(VLOOKUP(H96,Points!$A$2:$B$36,2),0)+_xlfn.IFNA(VLOOKUP(I96,Points!$A$2:$B$36,2),0)+_xlfn.IFNA(VLOOKUP(J96,Points!$A$2:$B$36,2),0)+_xlfn.IFNA(VLOOKUP(K96,Points!$A$2:$B$36,2),0)+_xlfn.IFNA(VLOOKUP(L96,Points!$A$2:$B$36,2),0)+_xlfn.IFNA(VLOOKUP(M96,Points!$A$2:$B$36,2),0)+_xlfn.IFNA(VLOOKUP(N96,Points!$A$2:$B$36,2),0)+_xlfn.IFNA(VLOOKUP(O96,Points!$A$2:$B$36,2),0)+_xlfn.IFNA(VLOOKUP(P96,Points!$A$2:$B$36,2),0)+_xlfn.IFNA(VLOOKUP(Q96,Points!$D$2:$E$36,2),0)+R96 -> 16 | K96: 2
A97: Dan | B97: Simms | C97: =_xlfn.IFNA(VLOOKUP(E97,Points!$A$2:$B$36,2),0)+_xlfn.IFNA(VLOOKUP(F97,Points!$A$2:$B$36,2),0)+_xlfn.IFNA(VLOOKUP(G97,Points!$A$2:$B$36,2),0)+_xlfn.IFNA(VLOOKUP(H97,Points!$A$2:$B$36,2),0)+_xlfn.IFNA(VLOOKUP(I97,Points!$A$2:$B$36,2),0)+_xlfn.IFNA(VLOOKUP(J97,Points!$A$2:$B$36,2),0)+_xlfn.IFNA(VLOOKUP(K97,Points!$A$2:$B$36,2),0)+_xlfn.IFNA(VLOOKUP(L97,Points!$A$2:$B$36,2),0)+_xlfn.IFNA(VLOOKUP(M97,Points!$A$2:$B$36,2),0)+_xlfn.IFNA(VLOOKUP(N97,Points!$A$2:$B$36,2),0)+_xlfn.IFNA(VLOOKUP(O97,Points!$A$2:$B$36,2),0)+_xlfn.IFNA(VLOOKUP(P97,Points!$A$2:$B$36,2),0)+_xlfn.IFNA(VLOOKUP(Q97,Points!$D$2:$E$36,2),0)+R97 -> 16 | N97: 2
A98: John | B98: Fink | C98: =_xlfn.IFNA(VLOOKUP(E98,Points!$A$2:$B$36,2),0)+_xlfn.IFNA(VLOOKUP(F98,Points!$A$2:$B$36,2),0)+_xlfn.IFNA(VLOOKUP(G98,Points!$A$2:$B$36,2),0)+_xlfn.IFNA(VLOOKUP(H98,Points!$A$2:$B$36,2),0)+_xlfn.IFNA(VLOOKUP(I98,Points!$A$2:$B$36,2),0)+_xlfn.IFNA(VLOOKUP(J98,Points!$A$2:$B$36,2),0)+_xlfn.IFNA(VLOOKUP(K98,Points!$A$2:$B$36,2),0)+_xlfn.IFNA(VLOOKUP(L98,Points!$A$2:$B$36,2),0)+_xlfn.IFNA(VLOOKUP(M98,Points!$A$2:$B$36,2),0)+_xlfn.IFNA(VLOOKUP(N98,Points!$A$2:$B$36,2),0)+_xlfn.IFNA(VLOOKUP(O98,Points!$A$2:$B$36,2),0)+_xlfn.IFNA(VLOOKUP(P98,Points!$A$2:$B$36,2),0)+_xlfn.IFNA(VLOOKUP(Q98,Points!$D$2:$E$36,2),0)+R98 -> 14 | H98: 6 | J98: 7* | N98: 6
A99: Steven | B99: Tellman | C99: =_xlfn.IFNA(VLOOKUP(E99,Points!$A$2:$B$36,2),0)+_xlfn.IFNA(VLOOKUP(F99,Points!$A$2:$B$36,2),0)+_xlfn.IFNA(VLOOKUP(G99,Points!$A$2:$B$36,2),0)+_xlfn.IFNA(VLOOKUP(H99,Points!$A$2:$B$36,2),0)+_xlfn.IFNA(VLOOKUP(I99,Points!$A$2:$B$36,2),0)+_xlfn.IFNA(VLOOKUP(J99,Points!$A$2:$B$36,2),0)+_xlfn.IFNA(VLOOKUP(K99,Points!$A$2:$B$36,2),0)+_xlfn.IFNA(VLOOKUP(L99,Points!$A$2:$B$36,2),0)+_xlfn.IFNA(VLOOKUP(M99,Points!$A$2:$B$36,2),0)+_xlfn.IFNA(VLOOKUP(N99,Points!$A$2:$B$36,2),0)+_xlfn.IFNA(VLOOKUP(O99,Points!$A$2:$B$36,2),0)+_xlfn.IFNA(VLOOKUP(P99,Points!$A$2:$B$36,2),0)+_xlfn.IFNA(VLOOKUP(Q99,Points!$D$2:$E$36,2),0)+R99 -> 13 | E99: 3
A100: Carlos | B100: Morales | C100: =_xlfn.IFNA(VLOOKUP(E100,Points!$A$2:$B$36,2),0)+_xlfn.IFNA(VLOOKUP(F100,Points!$A$2:$B$36,2),0)+_xlfn.IFNA(VLOOKUP(G100,Points!$A$2:$B$36,2),0)+_xlfn.IFNA(VLOOKUP(H100,Points!$A$2:$B$36,2),0)+_xlfn.IFNA(VLOOKUP(I100,Points!$A$2:$B$36,2),0)+_xlfn.IFNA(VLOOKUP(J100,Points!$A$2:$B$36,2),0)+_xlfn.IFNA(VLOOKUP(K100,Points!$A$2:$B$36,2),0)+_xlfn.IFNA(VLOOKUP(L100,Points!$A$2:$B$36,2),0)+_xlfn.IFNA(VLOOKUP(M100,Points!$A$2:$B$36,2),0)+_xlfn.IFNA(VLOOKUP(N100,Points!$A$2:$B$36,2),0)+_xlfn.IFNA(VLOOKUP(O100,Points!$A$2:$B$36,2),0)+_xlfn.IFNA(VLOOKUP(P100,Points!$A$2:$B$36,2),0)+_xlfn.IFNA(VLOOKUP(Q100,Points!$D$2:$E$36,2),0)+R100 -> 13 | H100: 3
A101: David | B101: Rusk | C101: =_xlfn.IFNA(VLOOKUP(E101,Points!$A$2:$B$36,2),0)+_xlfn.IFNA(VLOOKUP(F101,Points!$A$2:$B$36,2),0)+_xlfn.IFNA(VLOOKUP(G101,Points!$A$2:$B$36,2),0)+_xlfn.IFNA(VLOOKUP(H101,Points!$A$2:$B$36,2),0)+_xlfn.IFNA(VLOOKUP(I101,Points!$A$2:$B$36,2),0)+_xlfn.IFNA(VLOOKUP(J101,Points!$A$2:$B$36,2),0)+_xlfn.IFNA(VLOOKUP(K101,Points!$A$2:$B$36,2),0)+_xlfn.IFNA(VLOOKUP(L101,Points!$A$2:$B$36,2),0)+_xlfn.IFNA(VLOOKUP(M101,Points!$A$2:$B$36,2),0)+_xlfn.IFNA(VLOOKUP(N101,Points!$A$2:$B$36,2),0)+_xlfn.IFNA(VLOOKUP(O101,Points!$A$2:$B$36,2),0)+_xlfn.IFNA(VLOOKUP(P101,Points!$A$2:$B$36,2),0)+_xlfn.IFNA(VLOOKUP(Q101,Points!$D$2:$E$36,2),0)+R101 -> 13 | I101: 3
A102: Tom | B102: Corron | C102: =_xlfn.IFNA(VLOOKUP(E102,Points!$A$2:$B$36,2),0)+_xlfn.IFNA(VLOOKUP(F102,Points!$A$2:$B$36,2),0)+_xlfn.IFNA(VLOOKUP(G102,Points!$A$2:$B$36,2),0)+_xlfn.IFNA(VLOOKUP(H102,Points!$A$2:$B$36,2),0)+_xlfn.IFNA(VLOOKUP(I102,Points!$A$2:$B$36,2),0)+_xlfn.IFNA(VLOOKUP(J102,Points!$A$2:$B$36,2),0)+_xlfn.IFNA(VLOOKUP(K102,Points!$A$2:$B$36,2),0)+_xlfn.IFNA(VLOOKUP(L102,Points!$A$2:$B$36,2),0)+_xlfn.IFNA(VLOOKUP(M102,Points!$A$2:$B$36,2),0)+_xlfn.IFNA(VLOOKUP(N102,Points!$A$2:$B$36,2),0)+_xlfn.IFNA(VLOOKUP(O102,Points!$A$2:$B$36,2),0)+_xlfn.IFNA(VLOOKUP(P102,Points!$A$2:$B$36,2),0)+_xlfn.IFNA(VLOOKUP(Q102,Points!$D$2:$E$36,2),0)+R102 -> 13 | L102: 3
A103: Theron | B103: Langel | C103: =_xlfn.IFNA(VLOOKUP(E103,Points!$A$2:$B$36,2),0)+_xlfn.IFNA(VLOOKUP(F103,Points!$A$2:$B$36,2),0)+_xlfn.IFNA(VLOOKUP(G103,Points!$A$2:$B$36,2),0)+_xlfn.IFNA(VLOOKUP(H103,Points!$A$2:$B$36,2),0)+_xlfn.IFNA(VLOOKUP(I103,Points!$A$2:$B$36,2),0)+_xlfn.IFNA(VLOOKUP(J103,Points!$A$2:$B$36,2),0)+_xlfn.IFNA(VLOOKUP(K103,Points!$A$2:$B$36,2),0)+_xlfn.IFNA(VLOOKUP(L103,Points!$A$2:$B$36,2),0)+_xlfn.IFNA(VLOOKUP(M103,Points!$A$2:$B$36,2),0)+_xlfn.IFNA(VLOOKUP(N103,Points!$A$2:$B$36,2),0)+_xlfn.IFNA(VLOOKUP(O103,Points!$A$2:$B$36,2),0)+_xlfn.IFNA(VLOOKUP(P103,Points!$A$2:$B$36,2),0)+_xlfn.IFNA(VLOOKUP(Q103,Points!$D$2:$E$36,2),0)+R103 -> 13 | O103: 3
...

Sheet Master Open
A1: #VALUE! | E1: Qualifying Finish Points (Race Finish Points)
E2: Best 2 races are counted plus Finale towards points. Red * indicates the race was dropped
E3: Weekend members are not eligible to receive points.
E4: Qualifying Points are awarded for places 1-12 as follows: 12, 10, 9, 8, 7, 6, 5, 4, 3, 2, 1, 1
E5: Race Points are awarded for places 1-32 as follows: 45, 35, 30, 25, 15, 15, 15, 15, 10, 10, 10, 10, 10, 10, 10, 10, 5, 5, 5, 5, 5, 5, 5, 5, 5, 5, 5, 5, 5, 5, 5, 5
E6: For questions regarding points, email the Solo Department, solo@scca.com
C8: TOTAL POINTS | D8: Less than 2 Events | E8: Beeville | F8: Las Vegas 1 | G8: Las Vegas 2 | H8: Atlanta | I8: Washington DC | J8: Lincoln | K8: Crows Landing | L8: Toledo | M8: Brunswick | N8: Bristol | O8: Packwood | P8: Lincoln Air Park | Q8: Finale
C9: Best Two Events | E9: March 14-16 | F9: March 21-23 | G9: March 28-30 | H9: April 04-06 | I9: May 16-18 | J9: May 22-24 | K9: June 05-07 | L9: June 12-14 | M9: June 17-19 | N9: July 01-03 | O9: July 18-20 | P9: August 01-03 | Q9: September 04-06
A11: JCJ Cup
A12: Manfred | B12: Reysser | C12: =SUM(E12:Q12) -> 108 | F12: 53 | G12: 55 | J12: 45* | P12: 10*
A13: Billy | B13: Davis | C13: =SUM(E13:Q13) -> 104 | E13: 33* | J13: 47 | K13: 45* | L13: 57 | P13: 27*
A14: Daniel | B14: McCelvey | C14: =SUM(E14:Q14) -> 102 | E14: 57 | F14: 31* | G14: 5* | J14: 10* | K14: 15* | O14: 45
A15: Cameron | B15: Goode | C15: =SUM(E15:Q15) -> 84 | E15: 45 | F15: 22* | G15: 39 | P15: 24*
A16: Randy | B16: Adkins | C16: =SUM(E16:Q16) -> 81 | H16: 36 | N16: 45
A17: Dan | B17: Cochran | C17: =SUM(E17:Q17) -> 63 | H17: 45 | I17: 18 | N17: 5*
A18: Kevin | B18: Schultz | C18: =SUM(E18:Q18) -> 61 | F18: 26 | G18: 35
A19: Bartek | B19: Borowski | C19: =SUM(E19:Q19) -> 61 | J19: 28 | L19: =8+25 -> 33 | P19: 5*
A20: Dennis | B20: Hubbard | C20: =SUM(E20:Q20) -> 59 | F20: 37 | G20: 22 | K20: 19*
A21: DJ | B21: Alessandrini | C21: =SUM(E21:Q21) -> 55 | F21: 15* | G21: 5* | I21: 35 | J21: 5* | L21: 10* | P21: 20
A22: Darrin | B22: DiSimo | C22: =SUM(E22:Q22) -> 54 | E22: 39 | H22: 15
A23: Mason | B23: Herrick | C23: =SUM(E23:Q23) -> 51 | P23: 51
A24: Dustin | B24: Neuville | C24: =SUM(E24:Q24) -> 49 | L24: 39 | P24: 10
A25: Jeff | B25: Wong | C25: =SUM(E25:Q25) -> 47 | E25: 5 | G25: 5* | K25: 42
A26: Dave | B26: Montgomery | C26: =SUM(E26:Q26) -> 45 | I26: 45
A27: Chase | B27: Gintner | C27: =SUM(E27:Q27) -> 45 | L27: 45
A28: Alex | B28: Paraskevas | C28: =SUM(E28:Q28) -> 45 | O28: 45
A29: David | B29: Marcus | C29: =SUM(E29:Q29) -> 42 | E29: 5* | H29: 22 | L29: 20 | N29: 5*
A30: Will | B30: Teller | C30: =SUM(E30:Q30) -> 42 | H30: 27 | I30: 15 | J30: 10* | L30: 11*
A31: Austin | B31: Clark | C31: =SUM(E31:Q31) -> 41 | G31: 10* | K31: 27 | O31: 14
A32: John | B32: Vitamvas | C32: =SUM(E32:Q32) -> 40 | I32: 10 | J32: 30
A33: Andrew | B33: Pallotta | C33: =SUM(E33:Q33) -> 40 | H33: 30 | N33: 10
A34: Rich | B34: DiMarco | C34: =SUM(E34:Q34) -> 40 | I34: 19 | L34: 21
A35: Riley | B35: Heaton | C35: =SUM(E35:Q35) -> 40 | J35: 5 | P35: 35
A36: Andrew | B36: Redding | C36: =SUM(E36:Q36) -> 39 | K36: 34 | O36: 5
A37: Jacob | B37: Glover | C37: =SUM(E37:Q37) -> 38 | N37: 38
A38: Jason | B38: Hobbs | C38: =SUM(E38:Q38) -> 38 | P38: 38
A39: Mason | B39: Herrick | C39: =SUM(E39:Q39) -> 37 | E39: 22 | J39: 15
A40: Mark | B40: Daddio | C40: =SUM(E40:Q40) -> 37 | I40: 37
A41: Andy | B41: McKee | C41: =SUM(E41:Q41) -> 37 | G41: 22 | K41: 15 | O41: 10*
A42: Matt | B42: Morhardt | C42: =SUM(E42:Q42) -> 36 | E42: 21 | J42: 15
A43: Eric | B43: Stoltz | C43: =SUM(E43:Q43) -> 36 | F43: 21 | G43: 15 | O43: 10*
A44: Jason | B44: Harnish | C44: =SUM(E44:Q44) -> 36 | N44: 36
A45: Lane | B45: Farka | C45: =SUM(E45:Q45) -> 35 | F45: 10 | G45: 25
A46: Sean | B46: Velandia | C46: =SUM(E46:Q46) -> 35 | F46: 10 | G46: 9* | K46: 25
A47: Tony | B47: Savini | C47: =SUM(E47:Q47) -> 35 | I47: 25 | L47: 10 | N47: 10*
A48: Jonathan | B48: Lugod | C48: =SUM(E48:Q48) -> 35 | G48: 10 | K48: 5* | O48: 25
A49: Cody | B49: Hunt | C49: =SUM(E49:Q49) -> 32 | E49: 10 | N49: 22
A50: Bruce | B50: Lukens | C50: =SUM(E50:Q50) -> 32 | J50: 16 | P50: 16
A51: Jack | B51: Crissey | C51: =SUM(E51:Q51) -> 30 | I51: 5 | N51: 25
A52: Oliver | B52: Taylor | C52: =SUM(E52:Q52) -> 30 | O52: 30
A53: Eric | B53: Peterson | C53: =SUM(E53:Q53) -> 30 | I53: 25 | P53: 5
A54: Silvio | B54: Zucchet | C54: =SUM(E54:Q54) -> 27 | E54: 12 | J54: 15
A55: Todd | B55: Kaley | C55: =SUM(E55:Q55) -> 27 | L55: 12 | N55: 15
A56: Rick | B56: Cone | C56: =SUM(E56:Q56) -> 26 | J56: 11 | K56: 15
A57: David | B57: Hedderick | C57: =SUM(E57:Q57) -> 25 | E57: 20 | J57: 5
A58: Brian | B58: Kelly | C58: =SUM(E58:Q58) -> 25 | F58: 20 | G58: 5 | K58: 5*
A59: Brian | B59: Franke | C59: =SUM(E59:Q59) -> 25 | P59: 25
A60: Trevor | B60: Renson | C60: =SUM(E60:Q60) -> 24 | H60: 10 | N60: 14
A61: Sam | B61: Strano | C61: =SUM(E61:Q61) -> 23 | I61: 10 | L61: 10* | N61: 13
A62: Glen | B62: Hernandez | C62: =SUM(E62:Q62) -> 23 | O62: 23
A63: Paul | B63: Brown | C63: =SUM(E63:Q63) -> 23 | H63: 10 | J63: 10* | P63: 13
A64: Mark | B64: Canekeratne | C64: =SUM(E64:Q64) -> 22 | E64: 5 | I64: 17
A65: Kevin | B65: Romenesko | C65: =SUM(E65:Q65) -> 22 | L65: 22
A66: Cameron | B66: DeGroff | C66: =SUM(E66:Q66) -> 22 | F66: 5* | K66: 11 | O66: 11
A67: Jacob | B67: Morrison | C67: =SUM(E67:Q67) -> 22 | K67: 5 | O67: 17
A68: Josh | B68: Peek | C68: =SUM(E68:Q68) -> 21 | H68: 21
A69: Stephen | B69: Hughes | C69: =SUM(E69:Q69) -> 20 | E69: 5 | H69: 15
A70: Zbigniew | B70: Szymanski | C70: =SUM(E70:Q70) -> 20 | E70: 5 | F70: 5* | J70: 15 | N70: 5*
A71: Stephen | B71: Curtis | C71: =SUM(E71:Q71) -> 20 | F71: 5 | G71: 15
A72: James | B72: Darden | C72: =SUM(E72:Q72) -> 20 | F72: 10 | G72: 10
A73: Garrett | B73: Cogburn | C73: =SUM(E73:Q73) -> 20 | F73: 5* | G73: 5* | J73: 10 | K73: 10
A74: Brian | B74: Garfield | C74: =SUM(E74:Q74) -> 20 | I74: 15 | L74: 5
A75: Austin | B75: Hampton | C75: =SUM(E75:Q75) -> 20 | H75: 5 | N75: 15
A76: Jason | B76: Bucki | C76: =SUM(E76:Q76) -> 20 | K76: 5 | P76: 15
A77: Brian | B77: Fedors | C77: =SUM(E77:Q77) -> 19 | E77: 19
A78: Jason | B78: Hobbs | C78: =SUM(E78:Q78) -> 19 | J78: 19
A79: Patrick | B79: Washburn | C79: =SUM(E79:Q79) -> 19 | L79: 19
A80: Zach | B80: Ramos | C80: =SUM(E80:Q80) -> 18 | H80: 18
A81: Reed | B81: Gibson | C81: =SUM(E81:Q81) -> 18 | K81: 18
A82: Michael | B82: Feeney | C82: =SUM(E82:Q82) -> 17 | H82: 17
A83: Tyler | B83: Kvetko | C83: =SUM(E83:Q83) -> 17 | G83: 10 | J83: 7
A84: James | B84: Paulson | C84: =SUM(E84:Q84) -> 17 | O84: 17
A85: Erik | B85: Strelnieks | C85: =SUM(E85:Q85) -> 16 | G85: 16
A86: Dhiraj | B86: Jadhav | C86: =SUM(E86:Q86) -> 16 | K86: 16
A87: Tim | B87: Mason | C87: =SUM(E87:Q87) -> 15 | E87: 10 | F87: 5 | G87: 5* | P87: 5*
A88: Brian | B88: Coulson | C88: =SUM(E88:Q88) -> 15 | F88: 15
A89: Dan | B89: Costello | C89: =SUM(E89:Q89) -> 15 | G89: 15
A90: Nick | B90: Lindsay | C90: =SUM(E90:Q90) -> 15 | H90: 15
A91: Sang | B91: Yi | C91: =SUM(E91:Q91) -> 15 | I91: 15
A92: Ron | B92: Bistrais | C92: =SUM(E92:Q92) -> 15 | G92: 5 | K92: 10 | O92: 10*
A93: Danny | B93: Gross | C93: =SUM(E93:Q93) -> 15 | K93: 15
A94: Jon | B94: Caserta | C94: =SUM(E94:Q94) -> 15 | I94: 10 | L94: 5
A95: Donour | B95: Sizemore | C95: =SUM(E95:Q95) -> 15 | J95: 10 | L95: 5
A96: Ivan | B96: Reid | C96: =SUM(E96:Q96) -> 15 | I96: 5 | N96: 10
A97: Jeremy | B97: Hebbel | C97: =SUM(E97:Q97) -> 15 | N97: 15
A98: David | B98: Nolan | C98: =SUM(E98:Q98) -> 15 | N98: 15
A99: Cody | B99: Hunt | C99: =SUM(E99:Q99) -> 15 | N99: 15
A100: Blake | B100: DeWit | C100: =SUM(E100:Q100) -> 15 | O100: 15
A101: Garrett | B101: Cogburn | C101: =SUM(E101:Q101) -> 15 | O101: 15
A102: Kinch | B102: Reindl | C102: =SUM(E102:Q102) -> 15 | F102: 10 | P102: 5
...

Sheet Master Ladies
A1: #VALUE! | E1: Qualifying Finish Points (Race Finish Points)
E2: Best 2 races are counted plus Finale towards points. Red * indicates the race was dropped.
E3: Weekend members are not eligible to receive points.
E4: Qualifying Points are awarded for places 1-12 as follows: 12, 10, 9, 8, 7, 6, 5, 4, 3, 2, 1, 1
E5: Race Points are awarded for places 1-32 as follows: 45, 35, 30, 25, 15, 15, 15, 15, 10, 10, 10, 10, 10, 10, 10, 10, 5, 5, 5, 5, 5, 5, 5, 5, 5, 5, 5, 5, 5, 5, 5, 5
E6: For questions regarding points, email the Solo Department, solo@scca.com
C8: TOTAL POINTS | D8: Less than 2 Events | E8: Beeville | F8: Las Vegas 1 | G8: Las Vegas 2 | H8: Atlanta | I8: Washington DC | J8: Lincoln | K8: Crows Landing | L8: Toledo | M8: Brunswick | N8: Bristol | O8: Packwood | P8: Lincoln Air Park | Q8: Finale
C9: Best Two Events | E9: March 14-16 | F9: March 21-23 | G9: March 28-30 | H9: April 04-06 | I9: May 16-18 | J9: May 22-24 | K9: June 05-07 | L9: June 12-14 | M9: June 17-19 | N9: July 01-03 | O9: July 18-20 | P9: August 01-03 | Q9: September 04-06
A11: Fletcher Cup
A12: Kate | B12: Fisher | C12: =SUM(E12:Q12) -> 109 | F12: 47* | G12: 54 | J12: 55
A13: Stephanie | B13: Wells | C13: =SUM(E13:Q13) -> 104 | H13: 23* | I13: 47 | N13: 57 | P13: 20*
A14: Meredith | B14: Brown | C14: =SUM(E14:Q14) -> 97 | H14: 32* | J14: 18* | L14: 42 | P14: 55
A15: Shelby | B15: Redding | C15: =SUM(E15:Q15) -> 96 | G15: 38* | K15: 42 | O15: 54
A16: Tamra | B16: Krystinik | C16: =SUM(E16:Q16) -> 89 | I16: 55 | L16: 34 | P16: 34*
A17: Kim | B17: Whitener | C17: =SUM(E17:Q17) -> 87 | E17: 45 | J17: 19* | P17: 42
A18: Holly | B18: Frost | C18: =SUM(E18:Q18) -> 85 | J18: 42 | L18: 22* | P18: 43
A19: Nicole | B19: Wong | C19: =SUM(E19:Q19) -> 80 | E19: 33 | F19: 22* | G19: 47 | J19: 10* | K19: 29*
A20: Cynthia | B20: Clark | C20: =SUM(E20:Q20) -> 78 | G20: 31 | K20: 24* | O20: 47
A21: Ashley | B21: Weaver | C21: =SUM(E21:Q21) -> 78 | H21: 47 | N21: 31
A22: Laura | B22: Marcus | C22: =SUM(E22:Q22) -> 77 | E22: 57 | H22: 20 | L22: 18* | N22: 16*
A23: Jen | B23: Fox | C23: =SUM(E23:Q23) -> 75 | I23: 30 | L23: 45 | N23: 10*
A24: Chris | B24: Peterson | C24: =SUM(E24:Q24) -> 75 | H24: 55 | J24: 11* | N24: 20
A25: Andrea | B25: Albin | C25: =SUM(E25:Q25) -> 75 | J25: 25 | L25: 50 | P25: 22*
A26: Cindy | B26: Duncan | C26: =SUM(E26:Q26) -> 64 | F26: 54 | J26: 10
A27: Carmen | B27: Rowlands | C27: =SUM(E27:Q27) -> 63 | E27: 21 | J27: 42
A28: Kelsey | B28: Karanges | C28: =SUM(E28:Q28) -> 59 | F28: 38 | J28: 21
A29: Geraghty | B29: Anne Ellis | C29: =SUM(E29:Q29) -> 59 | E29: 20 | H29: 39
A30: Langlee | B30: King | C30: =SUM(E30:Q30) -> 57 | J30: 12 | N30: 45
A31: Shelly | B31: Monfort | C31: =SUM(E31:Q31) -> 55 | K31: 55
A32: Laurie | B32: McCelvey | C32: =SUM(E32:Q32) -> 54 | E32: 22 | G32: 16* | K32: 32
A33: Christine | B33: Grice | C33: =SUM(E33:Q33) -> 53 | F33: 35 | G33: 18 | K33: 16*
A34: Jordan | B34: Towns | C34: =SUM(E34:Q34) -> 52 | J34: 19 | N34: 33
A35: Crissy | B35: Hedderick | C35: =SUM(E35:Q35) -> 52 | E35: 39 | J35: 13
A36: Chelsea | B36: McConnell | C36: =SUM(E36:Q36) -> 44 | F36: 19 | G36: 16* | O36: 25
A37: Kendra | B37: Mabie | C37: =SUM(E37:Q37) -> 42 | F37: 21 | K37: 21
A38: Jennifer | B38: Bedell | C38: =SUM(E38:Q38) -> 42 | J38: 20 | N38: 22 | P38: 19*
A39: Jessica | B39: Yeung | C39: =SUM(E39:Q39) -> 41 | O39: 23 | P39: 18
A40: Jessie | B40: Bistrais | C40: =SUM(E40:Q40) -> 39 | F40: 17 | G40: 22
A41: Amy | B41: Houseal | C41: =SUM(E41:Q41) -> 38 | I41: 38
A42: Maria | B42: Pallotta | C42: =SUM(E42:Q42) -> 36 | H42: 21 | N42: 15
A43: Olivia | B43: Hammac | C43: =SUM(E43:Q43) -> 35 | L43: 16 | N43: 19
A44: Dee | B44: Dietz | C44: =SUM(E44:Q44) -> 33 | O44: 33
A45: Gretchen | B45: Weidemann | C45: =SUM(E45:Q45) -> 31 | O45: 31
A46: Emily | B46: Brown | C46: =SUM(E46:Q46) -> 28 | L46: 17 | N46: 11
A47: Audra | B47: Paradise | C47: =SUM(E47:Q47) -> 22 | I47: 22
A48: Lacey | B48: Otis | C48: =SUM(E48:Q48) -> 19 | E48: 19
A49: Freya | B49: Horn | C49: =SUM(E49:Q49) -> 19 | H49: 19
A50: Ewelina | B50: Miasik | C50: =SUM(E50:Q50) -> 19 | O50: 19
A51: Emily | B51: Whitaker | C51: =SUM(E51:Q51) -> 19 | I51: 19
A52: Deana | B52: Kelley | C52: =SUM(E52:Q52) -> 19 | N52: 19
A53: Kristen | B53: Acharya | C53: =SUM(E53:Q53) -> 18 | K53: 18
A54: Jordyn | B54: Paul | C54: =SUM(E54:Q54) -> 18 | I54: 18
A55: Evanthe | B55: Salsbury | C55: =SUM(E55:Q55) -> 17 | I55: 17
A56: Danielle | B56: Paulson | C56: =SUM(E56:Q56) -> 17 | O56: 17
A57: Carla | B57: Russo | C57: =SUM(E57:Q57) -> 15 | J57: 15
A58: Jessi | B58: Williams | C58: =SUM(E58:Q58) -> 13 | N58: 13
A59: Jeannette | B59: Wicks | C59: =SUM(E59:Q59) -> 11 | J59: 11
A60: Lana | B60: Portanova | C60: =SUM(E60:Q60) -> 10 | N60: 10
A61: Elizabeth | B61: Sharpe | C61: =SUM(E61:Q61) -> 10 | N61: 10
C62: =SUM(E62:Q62) -> 0
C63: =SUM(E63:Q63) -> 0
C64: =SUM(E64:Q64) -> 0
C65: =SUM(E65:Q65) -> 0
C66: =SUM(E66:Q66) -> 0
C67: =SUM(E67:Q67) -> 0
C68: =SUM(E68:Q68) -> 0
C69: =SUM(E69:Q69) -> 0
C70: =SUM(E70:Q70) -> 0
C71: =SUM(E71:Q71) -> 0
C72: =SUM(E72:Q72) -> 0
C73: =SUM(E73:Q73) -> 0
... C128: =SUM(E128:Q128) -> 0

Sheet Points
A1: Regular points | D1: Finale Points | G1: Challenge Points | I1: Finale | K1: Challenge Qual points | O1: Challenge Points Calculator
A2: 1 | B2: 20 | D2: 1 | E2: =B2*1.5 -> 30 | G2: 1 | H2: 45 | I2: 67.5 | K2: 1 | L2: 12 | O2: Qualifying | P2: 4
A3: 2 | B3: 16 | D3: 2 | E3: =B3*1.5 -> 24 | G3: 2 | H3: 35 | I3: 52.5 | K3: 2 | L3: 10 | O3: Knockout | P3: 3
A4: 3 | B4: 13 | D4: 3 | E4: =B4*1.5 -> 19.5 | G4: 3 | H4: 30 | I4: 45 | K4: 3 | L4: 9 | O4: Points Total | P4: =_xlfn.IFNA(VLOOKUP(P2,$K$2:$L$14,2),0)+_xlfn.IFNA(VLOOKUP(P3,$G$2:$H$8,2),0) -> 38
A5: 4 | B5: 11 | D5: 4 | E5: =B5*1.5 -> 16.5 | G5: 4 | H5: 25 | I5: 37.5 | K5: 4 | L5: 8 | O5: Finale Total | P5: =_xlfn.IFNA(VLOOKUP(P2,$K$2:$L$14,2),0)+(_xlfn.IFNA(VLOOKUP(P3,$G$2:$H$8,2),0)*1.5) -> 53
A6: 5 | B6: 9 | D6: 5 | E6: =B6*1.5 -> 13.5 | G6: 5 - 8 | H6: 15 | I6: 22.5 | K6: 5 | L6: 7
A7: 6 | B7: 7 | D7: 6 | E7: =B7*1.5 -> 10.5 | G7: 9 - 16 | H7: 10 | I7: 15 | K7: 6 | L7: 6
A8: 7 | B8: 6 | D8: 7 | E8: =B8*1.5 -> 9 | G8: 17 - 32 | H8: 5 | I8: 7.5 | K8: 7 | L8: 5
A9: 8 | B9: 5 | D9: 8 | E9: =B9*1.5 -> 7.5 | K9: 8 | L9: 4
A10: 9 | B10: 4 | D10: 9 | E10: =B10*1.5 -> 6 | K10: 9 | L10: 3
A11: 10 | B11: 3 | D11: 10 | E11: =B11*1.5 -> 4.5 | K11: 10 | L11: 2
A12: 11 | B12: 2 | D12: 11 | E12: =B12*1.5 -> 3 | K12: 11 | L12: 1
A13: 12 | B13: 1 | D13: 12 | E13: =B13*1.5 -> 1.5 | K13: 12 | L13: 1
A14: 13 | B14: 1 | D14: 13 | E14: 0 | K14: 13 | L14: 0
A15: 14 | B15: 1 | D15: 14 | E15: 0
A16: 15 | B16: 1 | D16: 15 | E16: 0
A17: 16 | B17: 1 | D17: 16 | E17: 0
A18: 17 | B18: 1 | D18: 17 | E18: 0
A19: 18 | B19: 1 | D19: 18 | E19: 0
A20: 19 | B20: 1 | D20: 19 | E20: 0
A21: 20 | B21: 1 | D21: 20 | E21: 0
A22: 21 | B22: 1 | D22: 21 | E22: 0
A23: 22 | B23: 1 | D23: 22 | E23: 0
A24: 23 | B24: 1 | D24: 23 | E24: 0
A25: 24 | B25: 1 | D25: 24 | E25: 0
A26: 25 | B26: 1 | D26: 25 | E26: 0
... A36: 35 | B36: 1 | D36: 35 | E36: 0
