Workbook

Sheet Cover Page
F1: Click on the name below to go to the linked points total
F2: Updated: | G2: 46244
F3: Through: | G3: Lincoln Air Park
F4: For questions regarding points, email the Solo Department, solo@scca.com
F5: Class Points | G5: Challenge Points
F6: SS | G6: JCJ Cup
F7: AS | G7: Fletcher Cup
F8: BS
F9: CS
F10: DS
F11: ES
F12: FS
F13: AST
F14: DST
F15: EST
F16: SSP
F17: SSC
F18: S1
F19: S3
... F28: L4

Sheet Class Points
A1: #VALUE! | E1: Qualifying Finish Points (Race Finish Points)
E2: Best 2 races are counted plus Finale towards points. * indicates the race was dropped.
E4: Pink points indicates qualification for tier 1 finale registration (34 or more points). Blue indicates tier 2 (at least 27 points or points in 3 or more events). Green indicates tier 3 (points in at least 2 events)
E5: Race Points are awarded for places 1-12 as follows: 20, 16, 13, 11, 9, 7, 6, 5, 4, 3, 2, 1 | J5: (positions greater than 12 earn 1 point)
E6: K1 & K2 Top Qualifiers: 1 point
E7: K3 Top Qualifier: 3 points
C9: TOTAL POINTS | D9: Less than 2 Events | E9: Beeville | F9: Las Vegas 1 | G9: Las Vegas 2 | H9: Atlanta | I9: Washington DC | J9: Lincoln | K9: Crows Landing | L9: Toledo | M9: Brunswick | N9: Bristol | O9: Packwood | P9: Lincoln | Q9: Finale | R9: Knockout Bonus | S9: Bonus point scored
C10: Best Two Events | E10: March 14-16 | F10: March 21-23 | G10: March 28-30 | H10: April 04-06 | I10: May 16-18 | J10: May 22-24 | K10: June 05-07 | L10: June 12-14 | M10: June 17-20 | N10: July 02-04 | O10: July 18-20 | P10: August 01-03 | Q10: August 29-31
A12: SS
A13: Pat | B13: Salerno | C13: =_xlfn.IFNA(VLOOKUP(E13,Points!$A$2:$B$36,2),0)+_xlfn.IFNA(VLOOKUP(F13,Points!$A$2:$B$36,2),0)+_xlfn.IFNA(VLOOKUP(G13,Points!$A$2:$B$36,2),0)+_xlfn.IFNA(VLOOKUP(H13,Points!$A$2:$B$36,2),0)+_xlfn.IFNA(VLOOKUP(I13,Points!$A$2:$B$36,2),0)+_xlfn.IFNA(VLOOKUP(J13,Points!$A$2:$B$36,2),0)+_xlfn.IFNA(VLOOKUP(K13,Points!$A$2:$B$36,2),0)+_xlfn.IFNA(VLOOKUP(L13,Points!$A$2:$B$36,2),0)+_xlfn.IFNA(VLOOKUP(M13,Points!$A$2:$B$36,2),0)+_xlfn.IFNA(VLOOKUP(N13,Points!$A$2:$B$36,2),0)+_xlfn.IFNA(VLOOKUP(O13,Points!$A$2:$B$36,2),0)+_xlfn.IFNA(VLOOKUP(P13,Points!$A$2:$B$36,2),0)+_xlfn.IFNA(VLOOKUP(Q13,Points!$D$2:$E$36,2),0)+R13 -> 42 | H13: 1 | L13: 1 | M13: x | R13: =1+1 -> 2 | S13: ATL:1; Toledo: 1
A14: Sam | B14: Mayorga | C14: =_xlfn.IFNA(VLOOKUP(E14,Points!$A$2:$B$36,2),0)+_xlfn.IFNA(VLOOKUP(F14,Points!$A$2:$B$36,2),0)+_xlfn.IFNA(VLOOKUP(G14,Points!$A$2:$B$36,2),0)+_xlfn.IFNA(VLOOKUP(H14,Points!$A$2:$B$36,2),0)+_xlfn.IFNA(VLOOKUP(I14,Points!$A$2:$B$36,2),0)+_xlfn.IFNA(VLOOKUP(J14,Points!$A$2:$B$36,2),0)+_xlfn.IFNA(VLOOKUP(K14,Points!$A$2:$B$36,2),0)+_xlfn.IFNA(VLOOKUP(L14,Points!$A$2:$B$36,2),0)+_xlfn.IFNA(VLOOKUP(M14,Points!$A$2:$B$36,2),0)+_xlfn.IFNA(VLOOKUP(N14,Points!$A$2:$B$36,2),0)+_xlfn.IFNA(VLOOKUP(O14,Points!$A$2:$B$36,2),0)+_xlfn.IFNA(VLOOKUP(P14,Points!$A$2:$B$36,2),0)+_xlfn.IFNA(VLOOKUP(Q14,Points!$D$2:$E$36,2),0)+R14 -> 40 | F14: 1 | G14: 1 | K14: 1*
A15: James | B15: Yom | C15: =_xlfn.IFNA(VLOOKUP(E15,Points!$A$2:$B$36,2),0)+_xlfn.IFNA(VLOOKUP(F15,Points!$A$2:$B$36,2),0)+_xlfn.IFNA(VLOOKUP(G15,Points!$A$2:$B$36,2),0)+_xlfn.IFNA(VLOOKUP(H15,Points!$A$2:$B$36,2),0)+_xlfn.IFNA(VLOOKUP(I15,Points!$A$2:$B$36,2),0)+_xlfn.IFNA(VLOOKUP(J15,Points!$A$2:$B$36,2),0)+_xlfn.IFNA(VLOOKUP(K15,Points!$A$2:$B$36,2),0)+_xlfn.IFNA(VLOOKUP(L15,Points!$A$2:$B$36,2),0)+_xlfn.IFNA(VLOOKUP(M15,Points!$A$2:$B$36,2),0)+_xlfn.IFNA(VLOOKUP(N15,Points!$A$2:$B$36,2),0)+_xlfn.IFNA(VLOOKUP(O15,Points!$A$2:$B$36,2),0)+_xlfn.IFNA(VLOOKUP(P15,Points!$A$2:$B$36,2),0)+_xlfn.IFNA(VLOOKUP(Q15,Points!$D$2:$E$36,2),0)+R15 -> 38 | F15: 2* | G15: 2 | J15: 1 | P15: 4* | R15: =1+1 -> 2 | S15: LV2:1; SNPS: 1; LAP: 1 (Drop)
A16: Jacob | B16: Morrison | C16: =_xlfn.IFNA(VLOOKUP(E16,Points!$A$2:$B$36,2),0)+_xlfn.IFNA(VLOOKUP(F16,Points!$A$2:$B$36,2),0)+_xlfn.IFNA(VLOOKUP(G16,Points!$A$2:$B$36,2),0)+_xlfn.IFNA(VLOOKUP(H16,Points!$A$2:$B$36,2),0)+_xlfn.IFNA(VLOOKUP(I16,Points!$A$2:$B$36,2),0)+_xlfn.IFNA(VLOOKUP(J16,Points!$A$2:$B$36,2),0)+_xlfn.IFNA(VLOOKUP(K16,Points!$A$2:$B$36,2),0)+_xlfn.IFNA(VLOOKUP(L16,Points!$A$2:$B$36,2),0)+_xlfn.IFNA(VLOOKUP(M16,Points!$A$2:$B$36,2),0)+_xlfn.IFNA(VLOOKUP(N16,Points!$A$2:$B$36,2),0)+_xlfn.IFNA(VLOOKUP(O16,Points!$A$2:$B$36,2),0)+_xlfn.IFNA(VLOOKUP(P16,Points!$A$2:$B$36,2),0)+_xlfn.IFNA(VLOOKUP(Q16,Points!$D$2:$E$36,2),0)+R16 -> 38 | F16: 4* | K16: 2 | O16: 1 | R16: =1+1 -> 2 | S16: Crows: 1; Packwood: 1
A17: Laurence | B17: Casey | C17: =_xlfn.IFNA(VLOOKUP(E17,Points!$A$2:$B$36,2),0)+_xlfn.IFNA(VLOOKUP(F17,Points!$A$2:$B$36,2),0)+_xlfn.IFNA(VLOOKUP(G17,Points!$A$2:$B$36,2),0)+_xlfn.IFNA(VLOOKUP(H17,Points!$A$2:$B$36,2),0)+_xlfn.IFNA(VLOOKUP(I17,Points!$A$2:$B$36,2),0)+_xlfn.IFNA(VLOOKUP(J17,Points!$A$2:$B$36,2),0)+_xlfn.IFNA(VLOOKUP(K17,Points!$A$2:$B$36,2),0)+_xlfn.IFNA(VLOOKUP(L17,Points!$A$2:$B$36,2),0)+_xlfn.IFNA(VLOOKUP(M17,Points!$A$2:$B$36,2),0)+_xlfn.IFNA(VLOOKUP(N17,Points!$A$2:$B$36,2),0)+_xlfn.IFNA(VLOOKUP(O17,Points!$A$2:$B$36,2),0)+_xlfn.IFNA(VLOOKUP(P17,Points!$A$2:$B$36,2),0)+_xlfn.IFNA(VLOOKUP(Q17,Points!$D$2:$E$36,2),0)+R17 -> 35 | I17: 3 | M17: x | N17: 1 | R17: =2 -> 2 | S17: Bristol: 2 (K2 Top)
A18: Jason | B18: Bucki | C18: =_xlfn.IFNA(VLOOKUP(E18,Points!$A$2:$B$36,2),0)+_xlfn.IFNA(VLOOKUP(F18,Points!$A$2:$B$36,2),0)+_xlfn.IFNA(VLOOKUP(G18,Points!$A$2:$B$36,2),0)+_xlfn.IFNA(VLOOKUP(H18,Points!$A$2:$B$36,2),0)+_xlfn.IFNA(VLOOKUP(I18,Points!$A$2:$B$36,2),0)+_xlfn.IFNA(VLOOKUP(J18,Points!$A$2:$B$36,2),0)+_xlfn.IFNA(VLOOKUP(K18,Points!$A$2:$B$36,2),0)+_xlfn.IFNA(VLOOKUP(L18,Points!$A$2:$B$36,2),0)+_xlfn.IFNA(VLOOKUP(M18,Points!$A$2:$B$36,2),0)+_xlfn.IFNA(VLOOKUP(N18,Points!$A$2:$B$36,2),0)+_xlfn.IFNA(VLOOKUP(O18,Points!$A$2:$B$36,2),0)+_xlfn.IFNA(VLOOKUP(P18,Points!$A$2:$B$36,2),0)+_xlfn.IFNA(VLOOKUP(Q18,Points!$D$2:$E$36,2),0)+R18 -> 35 | F18: 3 | G18: 4* | J18: 7* | K18: 4* | P18: 1 | R18: =1+1 -> 2 | S18: Crows: 1; LAP: 1
A19: Doug | B19: Rowse | C19: =_xlfn.IFNA(VLOOKUP(E19,Points!$A$2:$B$36,2),0)+_xlfn.IFNA(VLOOKUP(F19,Points!$A$2:$B$36,2),0)+_xlfn.IFNA(VLOOKUP(G19,Points!$A$2:$B$36,2),0)+_xlfn.IFNA(VLOOKUP(H19,Points!$A$2:$B$36,2),0)+_xlfn.IFNA(VLOOKUP(I19,Points!$A$2:$B$36,2),0)+_xlfn.IFNA(VLOOKUP(J19,Points!$A$2:$B$36,2),0)+_xlfn.IFNA(VLOOKUP(K19,Points!$A$2:$B$36,2),0)+_xlfn.IFNA(VLOOKUP(L19,Points!$A$2:$B$36,2),0)+_xlfn.IFNA(VLOOKUP(M19,Points!$A$2:$B$36,2),0)+_xlfn.IFNA(VLOOKUP(N19,Points!$A$2:$B$36,2),0)+_xlfn.IFNA(VLOOKUP(O19,Points!$A$2:$B$36,2),0)+_xlfn.IFNA(VLOOKUP(P19,Points!$A$2:$B$36,2),0)+_xlfn.IFNA(VLOOKUP(Q19,Points!$D$2:$E$36,2),0)+R19 -> 34 | I19: 2 | L19: 2 | R19: =1+1 -> 2 | S19: WDC: 1; Toledo: 1
A20: Brandon | B20: Olvey | C20: =_xlfn.IFNA(VLOOKUP(E20,Points!$A$2:$B$36,2),0)+_xlfn.IFNA(VLOOKUP(F20,Points!$A$2:$B$36,2),0)+_xlfn.IFNA(VLOOKUP(G20,Points!$A$2:$B$36,2),0)+_xlfn.IFNA(VLOOKUP(H20,Points!$A$2:$B$36,2),0)+_xlfn.IFNA(VLOOKUP(I20,Points!$A$2:$B$36,2),0)+_xlfn.IFNA(VLOOKUP(J20,Points!$A$2:$B$36,2),0)+_xlfn.IFNA(VLOOKUP(K20,Points!$A$2:$B$36,2),0)+_xlfn.IFNA(VLOOKUP(L20,Points!$A$2:$B$36,2),0)+_xlfn.IFNA(VLOOKUP(M20,Points!$A$2:$B$36,2),0)+_xlfn.IFNA(VLOOKUP(N20,Points!$A$2:$B$36,2),0)+_xlfn.IFNA(VLOOKUP(O20,Points!$A$2:$B$36,2),0)+_xlfn.IFNA(VLOOKUP(P20,Points!$A$2:$B$36,2),0)+_xlfn.IFNA(VLOOKUP(Q20,Points!$D$2:$E$36,2),0)+R20 -> 34 | E20: 1 | F20: 7* | G20: 8* | J20: 5* | P20: 3 | R20: =1 -> 1 | S20: Beeville: 1
A21: Ron | B21: Bauer | C21: =_xlfn.IFNA(VLOOKUP(E21,Points!$A$2:$B$36,2),0)+_xlfn.IFNA(VLOOKUP(F21,Points!$A$2:$B$36,2),0)+_xlfn.IFNA(VLOOKUP(G21,Points!$A$2:$B$36,2),0)+_xlfn.IFNA(VLOOKUP(H21,Points!$A$2:$B$36,2),0)+_xlfn.IFNA(VLOOKUP(I21,Points!$A$2:$B$36,2),0)+_xlfn.IFNA(VLOOKUP(J21,Points!$A$2:$B$36,2),0)+_xlfn.IFNA(VLOOKUP(K21,Points!$A$2:$B$36,2),0)+_xlfn.IFNA(VLOOKUP(L21,Points!$A$2:$B$36,2),0)+_xlfn.IFNA(VLOOKUP(M21,Points!$A$2:$B$36,2),0)+_xlfn.IFNA(VLOOKUP(N21,Points!$A$2:$B$36,2),0)+_xlfn.IFNA(VLOOKUP(O21,Points!$A$2:$B$36,2),0)+_xlfn.IFNA(VLOOKUP(P21,Points!$A$2:$B$36,2),0)+_xlfn.IFNA(VLOOKUP(Q21,Points!$D$2:$E$36,2),0)+R21 -> 30 | F21: 6* | G21: 3 | K21: 5* | O21: 2 | R21: =1 -> 1 | S21: Packwood: 1
A22: Dan | B22: Simms | C22: =_xlfn.IFNA(VLOOKUP(E22,Points!$A$2:$B$36,2),0)+_xlfn.IFNA(VLOOKUP(F22,Points!$A$2:$B$36,2),0)+_xlfn.IFNA(VLOOKUP(G22,Points!$A$2:$B$36,2),0)+_xlfn.IFNA(VLOOKUP(H22,Points!$A$2:$B$36,2),0)+_xlfn.IFNA(VLOOKUP(I22,Points!$A$2:$B$36,2),0)+_xlfn.IFNA(VLOOKUP(J22,Points!$A$2:$B$36,2),0)+_xlfn.IFNA(VLOOKUP(K22,Points!$A$2:$B$36,2),0)+_xlfn.IFNA(VLOOKUP(L22,Points!$A$2:$B$36,2),0)+_xlfn.IFNA(VLOOKUP(M22,Points!$A$2:$B$36,2),0)+_xlfn.IFNA(VLOOKUP(N22,Points!$A$2:$B$36,2),0)+_xlfn.IFNA(VLOOKUP(O22,Points!$A$2:$B$36,2),0)+_xlfn.IFNA(VLOOKUP(P22,Points!$A$2:$B$36,2),0)+_xlfn.IFNA(VLOOKUP(Q22,Points!$D$2:$E$36,2),0)+R22 -> 29 | H22: 2 | J22: 3
A23: Brian | B23: Franke | C23: =_xlfn.IFNA(VLOOKUP(E23,Points!$A$2:$B$36,2),0)+_xlfn.IFNA(VLOOKUP(F23,Points!$A$2:$B$36,2),0)+_xlfn.IFNA(VLOOKUP(G23,Points!$A$2:$B$36,2),0)+_xlfn.IFNA(VLOOKUP(H23,Points!$A$2:$B$36,2),0)+_xlfn.IFNA(VLOOKUP(I23,Points!$A$2:$B$36,2),0)+_xlfn.IFNA(VLOOKUP(J23,Points!$A$2:$B$36,2),0)+_xlfn.IFNA(VLOOKUP(K23,Points!$A$2:$B$36,2),0)+_xlfn.IFNA(VLOOKUP(L23,Points!$A$2:$B$36,2),0)+_xlfn.IFNA(VLOOKUP(M23,Points!$A$2:$B$36,2),0)+_xlfn.IFNA(VLOOKUP(N23,Points!$A$2:$B$36,2),0)+_xlfn.IFNA(VLOOKUP(O23,Points!$A$2:$B$36,2),0)+_xlfn.IFNA(VLOOKUP(P23,Points!$A$2:$B$36,2),0)+_xlfn.IFNA(VLOOKUP(Q23,Points!$D$2:$E$36,2),0)+R23 -> 28 | J23: 4 | P23: 2 | R23: =1 -> 1 | S23: LAP: 1
A24: Jay | B24: Balducci | C24: =_xlfn.IFNA(VLOOKUP(E24,Points!$A$2:$B$36,2),0)+_xlfn.IFNA(VLOOKUP(F24,Points!$A$2:$B$36,2),0)+_xlfn.IFNA(VLOOKUP(G24,Points!$A$2:$B$36,2),0)+_xlfn.IFNA(VLOOKUP(H24,Points!$A$2:$B$36,2),0)+_xlfn.IFNA(VLOOKUP(I24,Points!$A$2:$B$36,2),0)+_xlfn.IFNA(VLOOKUP(J24,Points!$A$2:$B$36,2),0)+_xlfn.IFNA(VLOOKUP(K24,Points!$A$2:$B$36,2),0)+_xlfn.IFNA(VLOOKUP(L24,Points!$A$2:$B$36,2),0)+_xlfn.IFNA(VLOOKUP(M24,Points!$A$2:$B$36,2),0)+_xlfn.IFNA(VLOOKUP(N24,Points!$A$2:$B$36,2),0)+_xlfn.IFNA(VLOOKUP(O24,Points!$A$2:$B$36,2),0)+_xlfn.IFNA(VLOOKUP(P24,Points!$A$2:$B$36,2),0)+_xlfn.IFNA(VLOOKUP(Q24,Points!$D$2:$E$36,2),0)+R24 -> 26 | F24: 5 | G24: 5* | J24: 2 | P24: 6* | R24: =1 -> 1 | S24: SNPS: 1
A25: Brian | B25: Conners | C25: =_xlfn.IFNA(VLOOKUP(E25,Points!$A$2:$B$36,2),0)+_xlfn.IFNA(VLOOKUP(F25,Points!$A$2:$B$36,2),0)+_xlfn.IFNA(VLOOKUP(G25,Points!$A$2:$B$36,2),0)+_xlfn.IFNA(VLOOKUP(H25,Points!$A$2:$B$36,2),0)+_xlfn.IFNA(VLOOKUP(I25,Points!$A$2:$B$36,2),0)+_xlfn.IFNA(VLOOKUP(J25,Points!$A$2:$B$36,2),0)+_xlfn.IFNA(VLOOKUP(K25,Points!$A$2:$B$36,2),0)+_xlfn.IFNA(VLOOKUP(L25,Points!$A$2:$B$36,2),0)+_xlfn.IFNA(VLOOKUP(M25,Points!$A$2:$B$36,2),0)+_xlfn.IFNA(VLOOKUP(N25,Points!$A$2:$B$36,2),0)+_xlfn.IFNA(VLOOKUP(O25,Points!$A$2:$B$36,2),0)+_xlfn.IFNA(VLOOKUP(P25,Points!$A$2:$B$36,2),0)+_xlfn.IFNA(VLOOKUP(Q25,Points!$D$2:$E$36,2),0)+R25 -> 26 | H25: 5* | I25: 4 | L25: 3 | R25: =1+1 -> 2 | S25: ATL: 1; Toledo: 1
A26: Brendan | B26: Cronin | C26: =_xlfn.IFNA(VLOOKUP(E26,Points!$A$2:$B$36,2),0)+_xlfn.IFNA(VLOOKUP(F26,Points!$A$2:$B$36,2),0)+_xlfn.IFNA(VLOOKUP(G26,Points!$A$2:$B$36,2),0)+_xlfn.IFNA(VLOOKUP(H26,Points!$A$2:$B$36,2),0)+_xlfn.IFNA(VLOOKUP(I26,Points!$A$2:$B$36,2),0)+_xlfn.IFNA(VLOOKUP(J26,Points!$A$2:$B$36,2),0)+_xlfn.IFNA(VLOOKUP(K26,Points!$A$2:$B$36,2),0)+_xlfn.IFNA(VLOOKUP(L26,Points!$A$2:$B$36,2),0)+_xlfn.IFNA(VLOOKUP(M26,Points!$A$2:$B$36,2),0)+_xlfn.IFNA(VLOOKUP(N26,Points!$A$2:$B$36,2),0)+_xlfn.IFNA(VLOOKUP(O26,Points!$A$2:$B$36,2),0)+_xlfn.IFNA(VLOOKUP(P26,Points!$A$2:$B$36,2),0)+_xlfn.IFNA(VLOOKUP(Q26,Points!$D$2:$E$36,2),0)+R26 -> 26 | E26: 2 | P26: 5 | R26: =1 -> 1 | S26: LAP: 1
A27: Ryan | B27: Johnson | C27: =_xlfn.IFNA(VLOOKUP(E27,Points!$A$2:$B$36,2),0)+_xlfn.IFNA(VLOOKUP(F27,Points!$A$2:$B$36,2),0)+_xlfn.IFNA(VLOOKUP(G27,Points!$A$2:$B$36,2),0)+_xlfn.IFNA(VLOOKUP(H27,Points!$A$2:$B$36,2),0)+_xlfn.IFNA(VLOOKUP(I27,Points!$A$2:$B$36,2),0)+_xlfn.IFNA(VLOOKUP(J27,Points!$A$2:$B$36,2),0)+_xlfn.IFNA(VLOOKUP(K27,Points!$A$2:$B$36,2),0)+_xlfn.IFNA(VLOOKUP(L27,Points!$A$2:$B$36,2),0)+_xlfn.IFNA(VLOOKUP(M27,Points!$A$2:$B$36,2),0)+_xlfn.IFNA(VLOOKUP(N27,Points!$A$2:$B$36,2),0)+_xlfn.IFNA(VLOOKUP(O27,Points!$A$2:$B$36,2),0)+_xlfn.IFNA(VLOOKUP(P27,Points!$A$2:$B$36,2),0)+_xlfn.IFNA(VLOOKUP(Q27,Points!$D$2:$E$36,2),0)+R27 -> 22 | F27: 10* | G27: 6* | H27: 3 | J27: 6* | O27: 5
A28: David | B28: Nolan | C28: =_xlfn.IFNA(VLOOKUP(E28,Points!$A$2:$B$36,2),0)+_xlfn.IFNA(VLOOKUP(F28,Points!$A$2:$B$36,2),0)+_xlfn.IFNA(VLOOKUP(G28,Points!$A$2:$B$36,2),0)+_xlfn.IFNA(VLOOKUP(H28,Points!$A$2:$B$36,2),0)+_xlfn.IFNA(VLOOKUP(I28,Points!$A$2:$B$36,2),0)+_xlfn.IFNA(VLOOKUP(J28,Points!$A$2:$B$36,2),0)+_xlfn.IFNA(VLOOKUP(K28,Points!$A$2:$B$36,2),0)+_xlfn.IFNA(VLOOKUP(L28,Points!$A$2:$B$36,2),0)+_xlfn.IFNA(VLOOKUP(M28,Points!$A$2:$B$36,2),0)+_xlfn.IFNA(VLOOKUP(N28,Points!$A$2:$B$36,2),0)+_xlfn.IFNA(VLOOKUP(O28,Points!$A$2:$B$36,2),0)+_xlfn.IFNA(VLOOKUP(P28,Points!$A$2:$B$36,2),0)+_xlfn.IFNA(VLOOKUP(Q28,Points!$D$2:$E$36,2),0)+R28 -> 21 | H28: 9 | N28: 2 | R28: =1 -> 1 | S28: Bristol: 1
A29: Stephen | B29: Holzer | C29: =_xlfn.IFNA(VLOOKUP(E29,Points!$A$2:$B$36,2),0)+_xlfn.IFNA(VLOOKUP(F29,Points!$A$2:$B$36,2),0)+_xlfn.IFNA(VLOOKUP(G29,Points!$A$2:$B$36,2),0)+_xlfn.IFNA(VLOOKUP(H29,Points!$A$2:$B$36,2),0)+_xlfn.IFNA(VLOOKUP(I29,Points!$A$2:$B$36,2),0)+_xlfn.IFNA(VLOOKUP(J29,Points!$A$2:$B$36,2),0)+_xlfn.IFNA(VLOOKUP(K29,Points!$A$2:$B$36,2),0)+_xlfn.IFNA(VLOOKUP(L29,Points!$A$2:$B$36,2),0)+_xlfn.IFNA(VLOOKUP(M29,Points!$A$2:$B$36,2),0)+_xlfn.IFNA(VLOOKUP(N29,Points!$A$2:$B$36,2),0)+_xlfn.IFNA(VLOOKUP(O29,Points!$A$2:$B$36,2),0)+_xlfn.IFNA(VLOOKUP(P29,Points!$A$2:$B$36,2),0)+_xlfn.IFNA(VLOOKUP(Q29,Points!$D$2:$E$36,2),0)+R29 -> 20 | I29: 1
A30: Bernie | B30: McHugh | C30: =_xlfn.IFNA(VLOOKUP(E30,Points!$A$2:$B$36,2),0)+_xlfn.IFNA(VLOOKUP(F30,Points!$A$2:$B$36,2),0)+_xlfn.IFNA(VLOOKUP(G30,Points!$A$2:$B$36,2),0)+_xlfn.IFNA(VLOOKUP(H30,Points!$A$2:$B$36,2),0)+_xlfn.IFNA(VLOOKUP(I30,Points!$A$2:$B$36,2),0)+_xlfn.IFNA(VLOOKUP(J30,Points!$A$2:$B$36,2),0)+_xlfn.IFNA(VLOOKUP(K30,Points!$A$2:$B$36,2),0)+_xlfn.IFNA(VLOOKUP(L30,Points!$A$2:$B$36,2),0)+_xlfn.IFNA(VLOOKUP(M30,Points!$A$2:$B$36,2),0)+_xlfn.IFNA(VLOOKUP(N30,Points!$A$2:$B$36,2),0)+_xlfn.IFNA(VLOOKUP(O30,Points!$A$2:$B$36,2),0)+_xlfn.IFNA(VLOOKUP(P30,Points!$A$2:$B$36,2),0)+_xlfn.IFNA(VLOOKUP(Q30,Points!$D$2:$E$36,2),0)+R30 -> 19 | E30: 3 | F30: 15* | J30: 10* | P30: 7
A31: Rick | B31: Newman | C31: =_xlfn.IFNA(VLOOKUP(E31,Points!$A$2:$B$36,2),0)+_xlfn.IFNA(VLOOKUP(F31,Points!$A$2:$B$36,2),0)+_xlfn.IFNA(VLOOKUP(G31,Points!$A$2:$B$36,2),0)+_xlfn.IFNA(VLOOKUP(H31,Points!$A$2:$B$36,2),0)+_xlfn.IFNA(VLOOKUP(I31,Points!$A$2:$B$36,2),0)+_xlfn.IFNA(VLOOKUP(J31,Points!$A$2:$B$36,2),0)+_xlfn.IFNA(VLOOKUP(K31,Points!$A$2:$B$36,2),0)+_xlfn.IFNA(VLOOKUP(L31,Points!$A$2:$B$36,2),0)+_xlfn.IFNA(VLOOKUP(M31,Points!$A$2:$B$36,2),0)+_xlfn.IFNA(VLOOKUP(N31,Points!$A$2:$B$36,2),0)+_xlfn.IFNA(VLOOKUP(O31,Points!$A$2:$B$36,2),0)+_xlfn.IFNA(VLOOKUP(P31,Points!$A$2:$B$36,2),0)+_xlfn.IFNA(VLOOKUP(Q31,Points!$D$2:$E$36,2),0)+R31 -> 18 | H31: 7* | I31: 6 | L31: 4
A32: Jeff D | B32: Woodbury | C32: =_xlfn.IFNA(VLOOKUP(E32,Points!$A$2:$B$36,2),0)+_xlfn.IFNA(VLOOKUP(F32,Points!$A$2:$B$36,2),0)+_xlfn.IFNA(VLOOKUP(G32,Points!$A$2:$B$36,2),0)+_xlfn.IFNA(VLOOKUP(H32,Points!$A$2:$B$36,2),0)+_xlfn.IFNA(VLOOKUP(I32,Points!$A$2:$B$36,2),0)+_xlfn.IFNA(VLOOKUP(J32,Points!$A$2:$B$36,2),0)+_xlfn.IFNA(VLOOKUP(K32,Points!$A$2:$B$36,2),0)+_xlfn.IFNA(VLOOKUP(L32,Points!$A$2:$B$36,2),0)+_xlfn.IFNA(VLOOKUP(M32,Points!$A$2:$B$36,2),0)+_xlfn.IFNA(VLOOKUP(N32,Points!$A$2:$B$36,2),0)+_xlfn.IFNA(VLOOKUP(O32,Points!$A$2:$B$36,2),0)+_xlfn.IFNA(VLOOKUP(P32,Points!$A$2:$B$36,2),0)+_xlfn.IFNA(VLOOKUP(Q32,Points!$D$2:$E$36,2),0)+R32 -> 18 | F32: 8 | J32: 8* | O32: 3
A33: Monty | B33: Pack | C33: =_xlfn.IFNA(VLOOKUP(E33,Points!$A$2:$B$36,2),0)+_xlfn.IFNA(VLOOKUP(F33,Points!$A$2:$B$36,2),0)+_xlfn.IFNA(VLOOKUP(G33,Points!$A$2:$B$36,2),0)+_xlfn.IFNA(VLOOKUP(H33,Points!$A$2:$B$36,2),0)+_xlfn.IFNA(VLOOKUP(I33,Points!$A$2:$B$36,2),0)+_xlfn.IFNA(VLOOKUP(J33,Points!$A$2:$B$36,2),0)+_xlfn.IFNA(VLOOKUP(K33,Points!$A$2:$B$36,2),0)+_xlfn.IFNA(VLOOKUP(L33,Points!$A$2:$B$36,2),0)+_xlfn.IFNA(VLOOKUP(M33,Points!$A$2:$B$36,2),0)+_xlfn.IFNA(VLOOKUP(N33,Points!$A$2:$B$36,2),0)+_xlfn.IFNA(VLOOKUP(O33,Points!$A$2:$B$36,2),0)+_xlfn.IFNA(VLOOKUP(P33,Points!$A$2:$B$36,2),0)+_xlfn.IFNA(VLOOKUP(Q33,Points!$D$2:$E$36,2),0)+R33 -> 17 | F33: 9* | G33: 7 | K33: 8* | O33: 4
A34: Christopher | B34: Dressler | C34: =_xlfn.IFNA(VLOOKUP(E34,Points!$A$2:$B$36,2),0)+_xlfn.IFNA(VLOOKUP(F34,Points!$A$2:$B$36,2),0)+_xlfn.IFNA(VLOOKUP(G34,Points!$A$2:$B$36,2),0)+_xlfn.IFNA(VLOOKUP(H34,Points!$A$2:$B$36,2),0)+_xlfn.IFNA(VLOOKUP(I34,Points!$A$2:$B$36,2),0)+_xlfn.IFNA(VLOOKUP(J34,Points!$A$2:$B$36,2),0)+_xlfn.IFNA(VLOOKUP(K34,Points!$A$2:$B$36,2),0)+_xlfn.IFNA(VLOOKUP(L34,Points!$A$2:$B$36,2),0)+_xlfn.IFNA(VLOOKUP(M34,Points!$A$2:$B$36,2),0)+_xlfn.IFNA(VLOOKUP(N34,Points!$A$2:$B$36,2),0)+_xlfn.IFNA(VLOOKUP(O34,Points!$A$2:$B$36,2),0)+_xlfn.IFNA(VLOOKUP(P34,Points!$A$2:$B$36,2),0)+_xlfn.IFNA(VLOOKUP(Q34,Points!$D$2:$E$36,2),0)+R34 -> 16 | I34: 5 | L34: 6 | M34: x | S34: Brunswick Cancellation
A35: Aditya | B35: Madhavan | C35: =_xlfn.IFNA(VLOOKUP(E35,Points!$A$2:$B$36,2),0)+_xlfn.IFNA(VLOOKUP(F35,Points!$A$2:$B$36,2),0)+_xlfn.IFNA(VLOOKUP(G35,Points!$A$2:$B$36,2),0)+_xlfn.IFNA(VLOOKUP(H35,Points!$A$2:$B$36,2),0)+_xlfn.IFNA(VLOOKUP(I35,Points!$A$2:$B$36,2),0)+_xlfn.IFNA(VLOOKUP(J35,Points!$A$2:$B$36,2),0)+_xlfn.IFNA(VLOOKUP(K35,Points!$A$2:$B$36,2),0)+_xlfn.IFNA(VLOOKUP(L35,Points!$A$2:$B$36,2),0)+_xlfn.IFNA(VLOOKUP(M35,Points!$A$2:$B$36,2),0)+_xlfn.IFNA(VLOOKUP(N35,Points!$A$2:$B$36,2),0)+_xlfn.IFNA(VLOOKUP(O35,Points!$A$2:$B$36,2),0)+_xlfn.IFNA(VLOOKUP(P35,Points!$A$2:$B$36,2),0)+_xlfn.IFNA(VLOOKUP(Q35,Points!$D$2:$E$36,2),0)+R35 -> 16 | H35: 10 | N35: 3
A36: Brian | B36: Peters | C36: =_xlfn.IFNA(VLOOKUP(E36,Points!$A$2:$B$36,2),0)+_xlfn.IFNA(VLOOKUP(F36,Points!$A$2:$B$36,2),0)+_xlfn.IFNA(VLOOKUP(G36,Points!$A$2:$B$36,2),0)+_xlfn.IFNA(VLOOKUP(H36,Points!$A$2:$B$36,2),0)+_xlfn.IFNA(VLOOKUP(I36,Points!$A$2:$B$36,2),0)+_xlfn.IFNA(VLOOKUP(J36,Points!$A$2:$B$36,2),0)+_xlfn.IFNA(VLOOKUP(K36,Points!$A$2:$B$36,2),0)+_xlfn.IFNA(VLOOKUP(L36,Points!$A$2:$B$36,2),0)+_xlfn.IFNA(VLOOKUP(M36,Points!$A$2:$B$36,2),0)+_xlfn.IFNA(VLOOKUP(N36,Points!$A$2:$B$36,2),0)+_xlfn.IFNA(VLOOKUP(O36,Points!$A$2:$B$36,2),0)+_xlfn.IFNA(VLOOKUP(P36,Points!$A$2:$B$36,2),0)+_xlfn.IFNA(VLOOKUP(Q36,Points!$D$2:$E$36,2),0)+R36 -> 13 | K36: 3
A37: Craig | B37: Tomeo | C37: =_xlfn.IFNA(VLOOKUP(E37,Points!$A$2:$B$36,2),0)+_xlfn.IFNA(VLOOKUP(F37,Points!$A$2:$B$36,2),0)+_xlfn.IFNA(VLOOKUP(G37,Points!$A$2:$B$36,2),0)+_xlfn.IFNA(VLOOKUP(H37,Points!$A$2:$B$36,2),0)+_xlfn.IFNA(VLOOKUP(I37,Points!$A$2:$B$36,2),0)+_xlfn.IFNA(VLOOKUP(J37,Points!$A$2:$B$36,2),0)+_xlfn.IFNA(VLOOKUP(K37,Points!$A$2:$B$36,2),0)+_xlfn.IFNA(VLOOKUP(L37,Points!$A$2:$B$36,2),0)+_xlfn.IFNA(VLOOKUP(M37,Points!$A$2:$B$36,2),0)+_xlfn.IFNA(VLOOKUP(N37,Points!$A$2:$B$36,2),0)+_xlfn.IFNA(VLOOKUP(O37,Points!$A$2:$B$36,2),0)+_xlfn.IFNA(VLOOKUP(P37,Points!$A$2:$B$36,2),0)+_xlfn.IFNA(VLOOKUP(Q37,Points!$D$2:$E$36,2),0)+R37 -> 12 | H37: 4 | R37: =1 -> 1 | S37: ATL: 1
A38: Denny | B38: Kort | C38: =_xlfn.IFNA(VLOOKUP(E38,Points!$A$2:$B$36,2),0)+_xlfn.IFNA(VLOOKUP(F38,Points!$A$2:$B$36,2),0)+_xlfn.IFNA(VLOOKUP(G38,Points!$A$2:$B$36,2),0)+_xlfn.IFNA(VLOOKUP(H38,Points!$A$2:$B$36,2),0)+_xlfn.IFNA(VLOOKUP(I38,Points!$A$2:$B$36,2),0)+_xlfn.IFNA(VLOOKUP(J38,Points!$A$2:$B$36,2),0)+_xlfn.IFNA(VLOOKUP(K38,Points!$A$2:$B$36,2),0)+_xlfn.IFNA(VLOOKUP(L38,Points!$A$2:$B$36,2),0)+_xlfn.IFNA(VLOOKUP(M38,Points!$A$2:$B$36,2),0)+_xlfn.IFNA(VLOOKUP(N38,Points!$A$2:$B$36,2),0)+_xlfn.IFNA(VLOOKUP(O38,Points!$A$2:$B$36,2),0)+_xlfn.IFNA(VLOOKUP(P38,Points!$A$2:$B$36,2),0)+_xlfn.IFNA(VLOOKUP(Q38,Points!$D$2:$E$36,2),0)+R38 -> 11 | E38: 4
A39: Shawn | B39: Folkes | C39: =_xlfn.IFNA(VLOOKUP(E39,Points!$A$2:$B$36,2),0)+_xlfn.IFNA(VLOOKUP(F39,Points!$A$2:$B$36,2),0)+_xlfn.IFNA(VLOOKUP(G39,Points!$A$2:$B$36,2),0)+_xlfn.IFNA(VLOOKUP(H39,Points!$A$2:$B$36,2),0)+_xlfn.IFNA(VLOOKUP(I39,Points!$A$2:$B$36,2),0)+_xlfn.IFNA(VLOOKUP(J39,Points!$A$2:$B$36,2),0)+_xlfn.IFNA(VLOOKUP(K39,Points!$A$2:$B$36,2),0)+_xlfn.IFNA(VLOOKUP(L39,Points!$A$2:$B$36,2),0)+_xlfn.IFNA(VLOOKUP(M39,Points!$A$2:$B$36,2),0)+_xlfn.IFNA(VLOOKUP(N39,Points!$A$2:$B$36,2),0)+_xlfn.IFNA(VLOOKUP(O39,Points!$A$2:$B$36,2),0)+_xlfn.IFNA(VLOOKUP(P39,Points!$A$2:$B$36,2),0)+_xlfn.IFNA(VLOOKUP(Q39,Points!$D$2:$E$36,2),0)+R39 -> 11 | H39: 13* | J39: 11 | L39: 5
A40: Craig | B40: Ellis | C40: =_xlfn.IFNA(VLOOKUP(E40,Points!$A$2:$B$36,2),0)+_xlfn.IFNA(VLOOKUP(F40,Points!$A$2:$B$36,2),0)+_xlfn.IFNA(VLOOKUP(G40,Points!$A$2:$B$36,2),0)+_xlfn.IFNA(VLOOKUP(H40,Points!$A$2:$B$36,2),0)+_xlfn.IFNA(VLOOKUP(I40,Points!$A$2:$B$36,2),0)+_xlfn.IFNA(VLOOKUP(J40,Points!$A$2:$B$36,2),0)+_xlfn.IFNA(VLOOKUP(K40,Points!$A$2:$B$36,2),0)+_xlfn.IFNA(VLOOKUP(L40,Points!$A$2:$B$36,2),0)+_xlfn.IFNA(VLOOKUP(M40,Points!$A$2:$B$36,2),0)+_xlfn.IFNA(VLOOKUP(N40,Points!$A$2:$B$36,2),0)+_xlfn.IFNA(VLOOKUP(O40,Points!$A$2:$B$36,2),0)+_xlfn.IFNA(VLOOKUP(P40,Points!$A$2:$B$36,2),0)+_xlfn.IFNA(VLOOKUP(Q40,Points!$D$2:$E$36,2),0)+R40 -> 11 | N40: 4
A41: Tom | B41: Bruck | C41: =_xlfn.IFNA(VLOOKUP(E41,Points!$A$2:$B$36,2),0)+_xlfn.IFNA(VLOOKUP(F41,Points!$A$2:$B$36,2),0)+_xlfn.IFNA(VLOOKUP(G41,Points!$A$2:$B$36,2),0)+_xlfn.IFNA(VLOOKUP(H41,Points!$A$2:$B$36,2),0)+_xlfn.IFNA(VLOOKUP(I41,Points!$A$2:$B$36,2),0)+_xlfn.IFNA(VLOOKUP(J41,Points!$A$2:$B$36,2),0)+_xlfn.IFNA(VLOOKUP(K41,Points!$A$2:$B$36,2),0)+_xlfn.IFNA(VLOOKUP(L41,Points!$A$2:$B$36,2),0)+_xlfn.IFNA(VLOOKUP(M41,Points!$A$2:$B$36,2),0)+_xlfn.IFNA(VLOOKUP(N41,Points!$A$2:$B$36,2),0)+_xlfn.IFNA(VLOOKUP(O41,Points!$A$2:$B$36,2),0)+_xlfn.IFNA(VLOOKUP(P41,Points!$A$2:$B$36,2),0)+_xlfn.IFNA(VLOOKUP(Q41,Points!$D$2:$E$36,2),0)+R41 -> 11 | F41: 11* | G41: 9 | O41: 6
A42: Patrick | B42: Callum | C42: =_xlfn.IFNA(VLOOKUP(E42,Points!$A$2:$B$36,2),0)+_xlfn.IFNA(VLOOKUP(F42,Points!$A$2:$B$36,2),0)+_xlfn.IFNA(VLOOKUP(G42,Points!$A$2:$B$36,2),0)+_xlfn.IFNA(VLOOKUP(H42,Points!$A$2:$B$36,2),0)+_xlfn.IFNA(VLOOKUP(I42,Points!$A$2:$B$36,2),0)+_xlfn.IFNA(VLOOKUP(J42,Points!$A$2:$B$36,2),0)+_xlfn.IFNA(VLOOKUP(K42,Points!$A$2:$B$36,2),0)+_xlfn.IFNA(VLOOKUP(L42,Points!$A$2:$B$36,2),0)+_xlfn.IFNA(VLOOKUP(M42,Points!$A$2:$B$36,2),0)+_xlfn.IFNA(VLOOKUP(N42,Points!$A$2:$B$36,2),0)+_xlfn.IFNA(VLOOKUP(O42,Points!$A$2:$B$36,2),0)+_xlfn.IFNA(VLOOKUP(P42,Points!$A$2:$B$36,2),0)+_xlfn.IFNA(VLOOKUP(Q42,Points!$D$2:$E$36,2),0)+R42 -> 9 | E42: 5
A43: Dave | B43: Becker | C43: =_xlfn.IFNA(VLOOKUP(E43,Points!$A$2:$B$36,2),0)+_xlfn.IFNA(VLOOKUP(F43,Points!$A$2:$B$36,2),0)+_xlfn.IFNA(VLOOKUP(G43,Points!$A$2:$B$36,2),0)+_xlfn.IFNA(VLOOKUP(H43,Points!$A$2:$B$36,2),0)+_xlfn.IFNA(VLOOKUP(I43,Points!$A$2:$B$36,2),0)+_xlfn.IFNA(VLOOKUP(J43,Points!$A$2:$B$36,2),0)+_xlfn.IFNA(VLOOKUP(K43,Points!$A$2:$B$36,2),0)+_xlfn.IFNA(VLOOKUP(L43,Points!$A$2:$B$36,2),0)+_xlfn.IFNA(VLOOKUP(M43,Points!$A$2:$B$36,2),0)+_xlfn.IFNA(VLOOKUP(N43,Points!$A$2:$B$36,2),0)+_xlfn.IFNA(VLOOKUP(O43,Points!$A$2:$B$36,2),0)+_xlfn.IFNA(VLOOKUP(P43,Points!$A$2:$B$36,2),0)+_xlfn.IFNA(VLOOKUP(Q43,Points!$D$2:$E$36,2),0)+R43 -> 9 | H43: 8 | J43: 9
...

Sheet Master Open
A1: #VALUE! | E1: Qualifying Finish Points (Race Finish Points)
E2: Best 2 races are counted plus Finale towards points. Red * indicates the race was dropped
E3: Weekend members are not eligible to receive points.
E4: Qualifying Points are awarded for places 1-12 as follows: 12, 10, 9, 8, 7, 6, 5, 4, 3, 2, 1, 1
E5: Race Points are awarded for places 1-32 as follows: 45, 35, 30, 25, 15, 15, 15, 15, 10, 10, 10, 10, 10, 10, 10, 10, 5, 5, 5, 5, 5, 5, 5, 5, 5, 5, 5, 5, 5, 5, 5, 5
E6: For questions regarding points, email the Solo Department, solo@scca.com
C8: TOTAL POINTS | D8: Less than 2 Events | E8: Beeville | F8: Las Vegas 1 | G8: Las Vegas 2 | H8: Atlanta | I8: Washington DC | J8: Lincoln | K8: Crows Landing | L8: Toledo | M8: Brunswick | N8: Bristol | O8: Packwood | P8: Lincoln Air Park | Q8: Finale
C9: Best Two Events | E9: March 14-16 | F9: March 21-23 | G9: March 28-30 | H9: April 04-06 | I9: May 16-18 | J9: May 22-24 | K9: June 05-07 | L9: June 12-14 | M9: June 17-19 | N9: July 01-03 | O9: July 18-20 | P9: August 01-03 | Q9: September 04-06
A11: JCJ Cup
A12: Manfred | B12: Reysser | C12: =SUM(E12:Q12) -> 108 | F12: 53 | G12: 55 | J12: 45* | P12: 10*
A13: Billy | B13: Davis | C13: =SUM(E13:Q13) -> 104 | E13: 33* | J13: 47 | K13: 45* | L13: 57 | P13: 27*
A14: Daniel | B14: McCelvey | C14: =SUM(E14:Q14) -> 102 | E14: 57 | F14: 31* | G14: 5* | J14: 10* | K14: 15* | O14: 45
A15: Cameron | B15: Goode | C15: =SUM(E15:Q15) -> 84 | E15: 45 | F15: 22* | G15: 39 | P15: 24*
A16: Randy | B16: Adkins | C16: =SUM(E16:Q16) -> 81 | H16: 36 | N16: 45
A17: Dan | B17: Cochran | C17: =SUM(E17:Q17) -> 63 | H17: 45 | I17: 18 | N17: 5*
A18: Kevin | B18: Schultz | C18: =SUM(E18:Q18) -> 61 | F18: 26 | G18: 35
A19: Bartek | B19: Borowski | C19: =SUM(E19:Q19) -> 61 | J19: 28 | L19: =8+25 -> 33 | P19: 5*
A20: Dennis | B20: Hubbard | C20: =SUM(E20:Q20) -> 59 | F20: 37 | G20: 22 | K20: 19*
A21: DJ | B21: Alessandrini | C21: =SUM(E21:Q21) -> 55 | F21: 15* | G21: 5* | I21: 35 | J21: 5* | L21: 10* | P21: 20
A22: Darrin | B22: DiSimo | C22: =SUM(E22:Q22) -> 54 | E22: 39 | H22: 15
A23: Mason | B23: Herrick | C23: =SUM(E23:Q23) -> 51 | P23: 51
A24: Dustin | B24: Neuville | C24: =SUM(E24:Q24) -> 49 | L24: 39 | P24: 10
A25: Jeff | B25: Wong | C25: =SUM(E25:Q25) -> 47 | E25: 5 | G25: 5* | K25: 42
A26: Dave | B26: Montgomery | C26: =SUM(E26:Q26) -> 45 | I26: 45
A27: Chase | B27: Gintner | C27: =SUM(E27:Q27) -> 45 | L27: 45
A28: Alex | B28: Paraskevas | C28: =SUM(E28:Q28) -> 45 | O28: 45
A29: David | B29: Marcus | C29: =SUM(E29:Q29) -> 42 | E29: 5* | H29: 22 | L29: 20 | N29: 5*
A30: Will | B30: Teller | C30: =SUM(E30:Q30) -> 42 | H30: 27 | I30: 15 | J30: 10* | L30: 11*
A31: Austin | B31: Clark | C31: =SUM(E31:Q31) -> 41 | G31: 10* | K31: 27 | O31: 14
A32: John | B32: Vitamvas | C32: =SUM(E32:Q32) -> 40 | I32: 10 | J32: 30
A33: Andrew | B33: Pallotta | C33: =SUM(E33:Q33) -> 40 | H33: 30 | N33: 10
A34: Rich | B34: DiMarco | C34: =SUM(E34:Q34) -> 40 | I34: 19 | L34: 21
A35: Riley | B35: Heaton | C35: =SUM(E35:Q35) -> 40 | J35: 5 | P35: 35
A36: Andrew | B36: Redding | C36: =SUM(E36:Q36) -> 39 | K36: 34 | O36: 5
A37: Jacob | B37: Glover | C37: =SUM(E37:Q37) -> 38 | N37: 38
A38: Jason | B38: Hobbs | C38: =SUM(E38:Q38) -> 38 | P38: 38
A39: Mason | B39: Herrick | C39: =SUM(E39:Q39) -> 37 | E39: 22 | J39: 15
A40: Mark | B40: Daddio | C40: =SUM(E40:Q40) -> 37 | I40: 37
A41: Andy | B41: McKee | C41: =SUM(E41:Q41) -> 37 | G41: 22 | K41: 15 | O41: 10*
A42: Matt | B42: Morhardt | C42: =SUM(E42:Q42) -> 36 | E42: 21 | J42: 15
...

Sheet Master Ladies
A1: #VALUE! | E1: Qualifying Finish Points (Race Finish Points)
E2: Best 2 races are counted plus Finale towards points. Red * indicates the race was dropped.
E3: Weekend members are not eligible to receive points.
E4: Qualifying Points are awarded for places 1-12 as follows: 12, 10, 9, 8, 7, 6, 5, 4, 3, 2, 1, 1
E5: Race Points are awarded for places 1-32 as follows: 45, 35, 30, 25, 15, 15, 15, 15, 10, 10, 10, 10, 10, 10, 10, 10, 5, 5, 5, 5, 5, 5, 5, 5, 5, 5, 5, 5, 5, 5, 5, 5
E6: For questions regarding points, email the Solo Department, solo@scca.com
C8: TOTAL POINTS | D8: Less than 2 Events | E8: Beeville | F8: Las Vegas 1 | G8: Las Vegas 2 | H8: Atlanta | I8: Washington DC | J8: Lincoln | K8: Crows Landing | L8: Toledo | M8: Brunswick | N8: Bristol | O8: Packwood | P8: Lincoln Air Park | Q8: Finale
C9: Best Two Events | E9: March 14-16 | F9: March 21-23 | G9: March 28-30 | H9: April 04-06 | I9: May 16-18 | J9: May 22-24 | K9: June 05-07 | L9: June 12-14 | M9: June 17-19 | N9: July 01-03 | O9: July 18-20 | P9: August 01-03 | Q9: September 04-06
A11: Fletcher Cup
A12: Kate | B12: Fisher | C12: =SUM(E12:Q12) -> 109 | F12: 47* | G12: 54 | J12: 55
A13: Stephanie | B13: Wells | C13: =SUM(E13:Q13) -> 104 | H13: 23* | I13: 47 | N13: 57 | P13: 20*
A14: Meredith | B14: Brown | C14: =SUM(E14:Q14) -> 97 | H14: 32* | J14: 18* | L14: 42 | P14: 55
A15: Shelby | B15: Redding | C15: =SUM(E15:Q15) -> 96 | G15: 38* | K15: 42 | O15: 54
A16: Tamra | B16: Krystinik | C16: =SUM(E16:Q16) -> 89 | I16: 55 | L16: 34 | P16: 34*
A17: Kim | B17: Whitener | C17: =SUM(E17:Q17) -> 87 | E17: 45 | J17: 19* | P17: 42
A18: Holly | B18: Frost | C18: =SUM(E18:Q18) -> 85 | J18: 42 | L18: 22* | P18: 43
A19: Nicole | B19: Wong | C19: =SUM(E19:Q19) -> 80 | E19: 33 | F19: 22* | G19: 47 | J19: 10* | K19: 29*
A20: Cynthia | B20: Clark | C20: =SUM(E20:Q20) -> 78 | G20: 31 | K20: 24* | O20: 47
A21: Ashley | B21: Weaver | C21: =SUM(E21:Q21) -> 78 | H21: 47 | N21: 31
A22: Laura | B22: Marcus | C22: =SUM(E22:Q22) -> 77 | E22: 57 | H22: 20 | L22: 18* | N22: 16*
A23: Jen | B23: Fox | C23: =SUM(E23:Q23) -> 75 | I23: 30 | L23: 45 | N23: 10*
A24: Chris | B24: Peterson | C24: =SUM(E24:Q24) -> 75 | H24: 55 | J24: 11* | N24: 20
A25: Andrea | B25: Albin | C25: =SUM(E25:Q25) -> 75 | J25: 25 | L25: 50 | P25: 22*
A26: Cindy | B26: Duncan | C26: =SUM(E26:Q26) -> 64 | F26: 54 | J26: 10
A27: Carmen | B27: Rowlands | C27: =SUM(E27:Q27) -> 63 | E27: 21 | J27: 42
A28: Kelsey | B28: Karanges | C28: =SUM(E28:Q28) -> 59 | F28: 38 | J28: 21
A29: Geraghty | B29: Anne Ellis | C29: =SUM(E29:Q29) -> 59 | E29: 20 | H29: 39
A30: Langlee | B30: King | C30: =SUM(E30:Q30) -> 57 | J30: 12 | N30: 45
A31: Shelly | B31: Monfort | C31: =SUM(E31:Q31) -> 55 | K31: 55
A32: Laurie | B32: McCelvey | C32: =SUM(E32:Q32) -> 54 | E32: 22 | G32: 16* | K32: 32
A33: Christine | B33: Grice | C33: =SUM(E33:Q33) -> 53 | F33: 35 | G33: 18 | K33: 16*
A34: Jordan | B34: Towns | C34: =SUM(E34:Q34) -> 52 | J34: 19 | N34: 33
A35: Crissy | B35: Hedderick | C35: =SUM(E35:Q35) -> 52 | E35: 39 | J35: 13
A36: Chelsea | B36: McConnell | C36: =SUM(E36:Q36) -> 44 | F36: 19 | G36: 16* | O36: 25
A37: Kendra | B37: Mabie | C37: =SUM(E37:Q37) -> 42 | F37: 21 | K37: 21
A38: Jennifer | B38: Bedell | C38: =SUM(E38:Q38) -> 42 | J38: 20 | N38: 22 | P38: 19*
A39: Jessica | B39: Yeung | C39: =SUM(E39:Q39) -> 41 | O39: 23 | P39: 18
A40: Jessie | B40: Bistrais | C40: =SUM(E40:Q40) -> 39 | F40: 17 | G40: 22
A41: Amy | B41: Houseal | C41: =SUM(E41:Q41) -> 38 | I41: 38
A42: Maria | B42: Pallotta | C42: =SUM(E42:Q42) -> 36 | H42: 21 | N42: 15
...

Sheet Points
A1: Regular points | D1: Finale Points | G1: Challenge Points | I1: Finale | K1: Challenge Qual points | O1: Challenge Points Calculator
A2: 1 | B2: 20 | D2: 1 | E2: =B2*1.5 -> 30 | G2: 1 | H2: 45 | I2: 67.5 | K2: 1 | L2: 12 | O2: Qualifying | P2: 4
A3: 2 | B3: 16 | D3: 2 | E3: =B3*1.5 -> 24 | G3: 2 | H3: 35 | I3: 52.5 | K3: 2 | L3: 10 | O3: Knockout | P3: 3
A4: 3 | B4: 13 | D4: 3 | E4: =B4*1.5 -> 19.5 | G4: 3 | H4: 30 | I4: 45 | K4: 3 | L4: 9 | O4: Points Total | P4: =_xlfn.IFNA(VLOOKUP(P2,$K$2:$L$14,2),0)+_xlfn.IFNA(VLOOKUP(P3,$G$2:$H$8,2),0) -> 38
A5: 4 | B5: 11 | D5: 4 | E5: =B5*1.5 -> 16.5 | G5: 4 | H5: 25 | I5: 37.5 | K5: 4 | L5: 8 | O5: Finale Total | P5: =_xlfn.IFNA(VLOOKUP(P2,$K$2:$L$14,2),0)+(_xlfn.IFNA(VLOOKUP(P3,$G$2:$H$8,2),0)*1.5) -> 53
A6: 5 | B6: 9 | D6: 5 | E6: =B6*1.5 -> 13.5 | G6: 5 - 8 | H6: 15 | I6: 22.5 | K6: 5 | L6: 7
A7: 6 | B7: 7 | D7: 6 | E7: =B7*1.5 -> 10.5 | G7: 9 - 16 | H7: 10 | I7: 15 | K7: 6 | L7: 6
A8: 7 | B8: 6 | D8: 7 | E8: =B8*1.5 -> 9 | G8: 17 - 32 | H8: 5 | I8: 7.5 | K8: 7 | L8: 5
A9: 8 | B9: 5 | D9: 8 | E9: =B9*1.5 -> 7.5 | K9: 8 | L9: 4
A10: 9 | B10: 4 | D10: 9 | E10: =B10*1.5 -> 6 | K10: 9 | L10: 3
A11: 10 | B11: 3 | D11: 10 | E11: =B11*1.5 -> 4.5 | K11: 10 | L11: 2
A12: 11 | B12: 2 | D12: 11 | E12: =B12*1.5 -> 3 | K12: 11 | L12: 1
A13: 12 | B13: 1 | D13: 12 | E13: =B13*1.5 -> 1.5 | K13: 12 | L13: 1
A14: 13 | B14: 1 | D14: 13 | E14: 0 | K14: 13 | L14: 0
A15: 14 | B15: 1 | D15: 14 | E15: 0
A16: 15 | B16: 1 | D16: 15 | E16: 0
A17: 16 | B17: 1 | D17: 16 | E17: 0
A18: 17 | B18: 1 | D18: 17 | E18: 0
A19: 18 | B19: 1 | D19: 18 | E19: 0
A20: 19 | B20: 1 | D20: 19 | E20: 0
A21: 20 | B21: 1 | D21: 20 | E21: 0
A22: 21 | B22: 1 | D22: 21 | E22: 0
A23: 22 | B23: 1 | D23: 22 | E23: 0
A24: 23 | B24: 1 | D24: 23 | E24: 0
A25: 24 | B25: 1 | D25: 24 | E25: 0
A26: 25 | B26: 1 | D26: 25 | E26: 0
... A36: 35 | B36: 1 | D36: 35 | E36: 0
