BEGIN:VCALENDAR
PRODID;X-RICAL-TZSOURCE=TZINFO:-//com.denhaven2/NONSGML ri_cal gem//EN
CALSCALE:GREGORIAN
VERSION:2.0
BEGIN:VEVENT
CONTACT:
DTEND;VALUE=DATE:20260504
DTSTART;VALUE=DATE:20260502
GEO:42.171463;-79.83149
UID:2010038
DESCRIPTION:
URL:
SUMMARY:Misery Bay Autocross TnT & Event #1 2026  @ Lake Erie Speedway
LOCATION:Lake Erie Speedway
BEGIN:VALARM
TRIGGER:-PT15H
DESCRIPTION:Misery Bay Autocross TnT & Event #1 2026  @ Lake Erie Speedwa
 y
ACTION:AUDIO
END:VALARM
END:VEVENT
END:VCALENDAR
