BEGIN:VCALENDAR
PRODID;X-RICAL-TZSOURCE=TZINFO:-//com.denhaven2/NONSGML ri_cal gem//EN
CALSCALE:GREGORIAN
VERSION:2.0
BEGIN:VEVENT
CONTACT:
DTEND;VALUE=DATE:20260426
DTSTART;VALUE=DATE:20260425
GEO:45.346101;-94.231246
UID:2010037
DESCRIPTION:
URL:
SUMMARY:Land O' Lakes Knock the Rust Off Rallycross @ Capes' Farm 
LOCATION:Capes' Farm
BEGIN:VALARM
TRIGGER:-PT15H
DESCRIPTION:Land O' Lakes Knock the Rust Off Rallycross @ Capes' Farm 
ACTION:AUDIO
END:VALARM
END:VEVENT
END:VCALENDAR
