BEGIN:VCALENDAR
PRODID;X-RICAL-TZSOURCE=TZINFO:-//com.denhaven2/NONSGML ri_cal gem//EN
CALSCALE:GREGORIAN
VERSION:2.0
BEGIN:VEVENT
CONTACT:
DTEND;VALUE=DATE:20260511
DTSTART;VALUE=DATE:20260509
GEO:39.580091;-119.811296
UID:2010034
DESCRIPTION:
URL:
SUMMARY:Reno Autocross Event 3 & 4 @ Regional Public Safety Training Cent
 er
LOCATION:Regional Public Safety Training Center
BEGIN:VALARM
TRIGGER:-PT15H
DESCRIPTION:Reno Autocross Event 3 & 4 @ Regional Public Safety Training 
 Center
ACTION:AUDIO
END:VALARM
END:VEVENT
END:VCALENDAR
