BEGIN:VCALENDAR
PRODID;X-RICAL-TZSOURCE=TZINFO:-//com.denhaven2/NONSGML ri_cal gem//EN
CALSCALE:GREGORIAN
VERSION:2.0
BEGIN:VEVENT
CONTACT:
DTEND;VALUE=DATE:20260504
DTSTART;VALUE=DATE:20260502
GEO:33.656647;-117.300301
UID:2010021
DESCRIPTION:
URL:
SUMMARY:San Diego Autocross Event @ Lake Elsinore Diamond Stadium
LOCATION:Lake Elsinore Diamond Stadium
BEGIN:VALARM
TRIGGER:-PT15H
DESCRIPTION:San Diego Autocross Event @ Lake Elsinore Diamond Stadium
ACTION:AUDIO
END:VALARM
END:VEVENT
END:VCALENDAR
