BEGIN:VCALENDAR
PRODID;X-RICAL-TZSOURCE=TZINFO:-//com.denhaven2/NONSGML ri_cal gem//EN
CALSCALE:GREGORIAN
VERSION:2.0
BEGIN:VEVENT
CONTACT:
DTEND;VALUE=DATE:20260517
DTSTART;VALUE=DATE:20260516
GEO:37.283997;-80.041039
UID:2010017
DESCRIPTION:
URL:
SUMMARY:Blue Ridge Region Around the Mountain – Games RoadRally @ Salem C
 ivic Center
LOCATION:Salem Civic Center
BEGIN:VALARM
TRIGGER:-PT15H
DESCRIPTION:Blue Ridge Region Around the Mountain – Games RoadRally @ Sal
 em Civic Center
ACTION:AUDIO
END:VALARM
END:VEVENT
END:VCALENDAR
