BEGIN:VCALENDAR
PRODID;X-RICAL-TZSOURCE=TZINFO:-//com.denhaven2/NONSGML ri_cal gem//EN
CALSCALE:GREGORIAN
VERSION:2.0
BEGIN:VEVENT
CONTACT:
DTEND;VALUE=DATE:20260427
DTSTART;VALUE=DATE:20260425
GEO:39.44615;-84.32727
UID:2010014
DESCRIPTION:
URL:
SUMMARY:Cincinnati\, Solo Fun Event/PE2 @ Traders World
LOCATION:Traders World
BEGIN:VALARM
TRIGGER:-PT15H
DESCRIPTION:Cincinnati\, Solo Fun Event/PE2 @ Traders World
ACTION:AUDIO
END:VALARM
END:VEVENT
END:VCALENDAR
