BEGIN:VCALENDAR
PRODID;X-RICAL-TZSOURCE=TZINFO:-//com.denhaven2/NONSGML ri_cal gem//EN
CALSCALE:GREGORIAN
VERSION:2.0
BEGIN:VEVENT
CONTACT:
DTEND;VALUE=DATE:20260601
DTSTART;VALUE=DATE:20260531
GEO:42.495594;-92.366989
UID:2010012
DESCRIPTION:
URL:
SUMMARY:Iowa Region May RallyCross @ National Cattle Congress
LOCATION:National Cattle Congress
BEGIN:VALARM
TRIGGER:-PT15H
DESCRIPTION:Iowa Region May RallyCross @ National Cattle Congress
ACTION:AUDIO
END:VALARM
END:VEVENT
END:VCALENDAR
