BEGIN:VCALENDAR
PRODID;X-RICAL-TZSOURCE=TZINFO:-//com.denhaven2/NONSGML ri_cal gem//EN
CALSCALE:GREGORIAN
VERSION:2.0
BEGIN:VEVENT
CONTACT:
DTEND;VALUE=DATE:20260504
DTSTART;VALUE=DATE:20260503
GEO:37.05814;-76.406647
UID:2010008
DESCRIPTION:
URL:
SUMMARY:Old Dominion Region 2026 Autocross 2 @ Langley Speedway
LOCATION:Langley Speedway
BEGIN:VALARM
TRIGGER:-PT15H
DESCRIPTION:Old Dominion Region 2026 Autocross 2 @ Langley Speedway
ACTION:AUDIO
END:VALARM
END:VEVENT
END:VCALENDAR
