BEGIN:VCALENDAR
PRODID;X-RICAL-TZSOURCE=TZINFO:-//com.denhaven2/NONSGML ri_cal gem//EN
CALSCALE:GREGORIAN
VERSION:2.0
BEGIN:VEVENT
CONTACT:
DTEND;VALUE=DATE:20260518
DTSTART;VALUE=DATE:20260516
GEO:44.020468;-91.61597
UID:2010004
DESCRIPTION:
URL:
SUMMARY:Land O Lakes (SCCLaC) Solo Spring Fling Test & Tune @ Truck Drive
 rs Training Lot
LOCATION:Truck Drivers Training Lot
BEGIN:VALARM
TRIGGER:-PT15H
DESCRIPTION:Land O Lakes (SCCLaC) Solo Spring Fling Test & Tune @ Truck D
 rivers Training Lot
ACTION:AUDIO
END:VALARM
END:VEVENT
END:VCALENDAR
