BEGIN:VCALENDAR
PRODID;X-RICAL-TZSOURCE=TZINFO:-//com.denhaven2/NONSGML ri_cal gem//EN
CALSCALE:GREGORIAN
VERSION:2.0
BEGIN:VEVENT
CONTACT:
DTEND;VALUE=DATE:20260607
DTSTART;VALUE=DATE:20260606
GEO:39.241657;-77.97612
UID:2010002
DESCRIPTION:
URL:
SUMMARY:Washington DC Region Treking Track to Track RoadRally Trek @ Summ
 it Point Motorsports Park
LOCATION:Summit Point Motorsports Park
BEGIN:VALARM
TRIGGER:-PT15H
DESCRIPTION:Washington DC Region Treking Track to Track RoadRally Trek @ 
 Summit Point Motorsports Park
ACTION:AUDIO
END:VALARM
END:VEVENT
END:VCALENDAR
