BEGIN:VCALENDAR
PRODID;X-RICAL-TZSOURCE=TZINFO:-//com.denhaven2/NONSGML ri_cal gem//EN
CALSCALE:GREGORIAN
VERSION:2.0
BEGIN:VEVENT
CONTACT:
DTEND;VALUE=DATE:20260622
DTSTART;VALUE=DATE:20260620
GEO:44.020468;-91.61597
UID:2010000
DESCRIPTION:
URL:
SUMMARY:Land O Lakes\, (SCCLaC) Solo Events #2 & #3 @ Truck Drivers Train
 ing Lot
LOCATION:Truck Drivers Training Lot
BEGIN:VALARM
TRIGGER:-PT15H
DESCRIPTION:Land O Lakes\, (SCCLaC) Solo Events #2 & #3 @ Truck Drivers T
 raining Lot
ACTION:AUDIO
END:VALARM
END:VEVENT
END:VCALENDAR
