BEGIN:VCALENDAR
PRODID;X-RICAL-TZSOURCE=TZINFO:-//com.denhaven2/NONSGML ri_cal gem//EN
CALSCALE:GREGORIAN
VERSION:2.0
BEGIN:VEVENT
CONTACT:
DTEND;VALUE=DATE:20260518
DTSTART;VALUE=DATE:20260517
GEO:30.217478353;-93.16274167
UID:2009998
DESCRIPTION:
URL:
SUMMARY:SW Louisiana Solo Regional #4 @ SOWELA Technical Community Colleg
 e
LOCATION:SOWELA Technical Community College
BEGIN:VALARM
TRIGGER:-PT15H
DESCRIPTION:SW Louisiana Solo Regional #4 @ SOWELA Technical Community Co
 llege
ACTION:AUDIO
END:VALARM
END:VEVENT
END:VCALENDAR
