BEGIN:VCALENDAR
PRODID;X-RICAL-TZSOURCE=TZINFO:-//com.denhaven2/NONSGML ri_cal gem//EN
CALSCALE:GREGORIAN
VERSION:2.0
BEGIN:VEVENT
CONTACT:
DTEND;VALUE=DATE:20260427
DTSTART;VALUE=DATE:20260426
GEO:33.053005;-116.850647
UID:2009997
DESCRIPTION:
URL:
SUMMARY:San Diego RallyCross - Ramona @ Ramona Rallycross Rodeo
LOCATION:Ramona Rallycross Rodeo
BEGIN:VALARM
TRIGGER:-PT15H
DESCRIPTION:San Diego RallyCross - Ramona @ Ramona Rallycross Rodeo
ACTION:AUDIO
END:VALARM
END:VEVENT
END:VCALENDAR
