BEGIN:VCALENDAR
PRODID;X-RICAL-TZSOURCE=TZINFO:-//com.denhaven2/NONSGML ri_cal gem//EN
CALSCALE:GREGORIAN
VERSION:2.0
BEGIN:VEVENT
CONTACT:
DTEND;VALUE=DATE:20260503
DTSTART;VALUE=DATE:20260502
GEO:40.469255;-78.411561
UID:2009996
DESCRIPTION:
URL:
SUMMARY:Allegheny Highlands Region Autocross Event 1 @ Logan Valley Mall 
  
LOCATION:Logan Valley Mall
BEGIN:VALARM
TRIGGER:-PT15H
DESCRIPTION:Allegheny Highlands Region Autocross Event 1 @ Logan Valley M
 all  
ACTION:AUDIO
END:VALARM
END:VEVENT
END:VCALENDAR
