BEGIN:VCALENDAR
PRODID;X-RICAL-TZSOURCE=TZINFO:-//com.denhaven2/NONSGML ri_cal gem//EN
CALSCALE:GREGORIAN
VERSION:2.0
BEGIN:VEVENT
CONTACT:
DTEND;VALUE=DATE:20260510
DTSTART;VALUE=DATE:20260509
GEO:27.7880207;-97.6551013
UID:2009995
DESCRIPTION:
URL:
SUMMARY:South Texas Border Region Autocross #5 @ Coastal Bend Aviator Sta
 dium
LOCATION:Coastal Bend Aviator Stadium
BEGIN:VALARM
TRIGGER:-PT15H
DESCRIPTION:South Texas Border Region Autocross #5 @ Coastal Bend Aviator
  Stadium
ACTION:AUDIO
END:VALARM
END:VEVENT
END:VCALENDAR
