BEGIN:VCALENDAR
PRODID;X-RICAL-TZSOURCE=TZINFO:-//com.denhaven2/NONSGML ri_cal gem//EN
CALSCALE:GREGORIAN
VERSION:2.0
BEGIN:VEVENT
CONTACT:
DTEND;VALUE=DATE:20261102
DTSTART;VALUE=DATE:20261031
GEO:47.092564;-88.582649
UID:2009993
DESCRIPTION:
URL:
SUMMARY:Lake Superior SCCA Late Fall Rallycross - Houghton @ Dodgeville P
 roving Grounds
LOCATION:Dodgeville Proving Grounds
BEGIN:VALARM
TRIGGER:-PT15H
DESCRIPTION:Lake Superior SCCA Late Fall Rallycross - Houghton @ Dodgevil
 le Proving Grounds
ACTION:AUDIO
END:VALARM
END:VEVENT
END:VCALENDAR
