BEGIN:VCALENDAR
PRODID;X-RICAL-TZSOURCE=TZINFO:-//com.denhaven2/NONSGML ri_cal gem//EN
CALSCALE:GREGORIAN
VERSION:2.0
BEGIN:VEVENT
CONTACT:
DTEND;VALUE=DATE:20260928
DTSTART;VALUE=DATE:20260926
GEO:47.092564;-88.582649
UID:2009992
DESCRIPTION:
URL:
SUMMARY:Lake Superior SCCA Fall Rallycross - Houghton @ Dodgeville Provin
 g Grounds
LOCATION:Dodgeville Proving Grounds
BEGIN:VALARM
TRIGGER:-PT15H
DESCRIPTION:Lake Superior SCCA Fall Rallycross - Houghton @ Dodgeville Pr
 oving Grounds
ACTION:AUDIO
END:VALARM
END:VEVENT
END:VCALENDAR
