BEGIN:VCALENDAR
PRODID;X-RICAL-TZSOURCE=TZINFO:-//com.denhaven2/NONSGML ri_cal gem//EN
CALSCALE:GREGORIAN
VERSION:2.0
BEGIN:VEVENT
CONTACT:
DTEND;VALUE=DATE:20260504
DTSTART;VALUE=DATE:20260502
GEO:40.79784;-96.76989
UID:2009988
DESCRIPTION:
URL:
SUMMARY:Nebraska\, Solo 3 @ Lincoln Airpark
LOCATION:Lincoln Airpark
BEGIN:VALARM
TRIGGER:-PT15H
DESCRIPTION:Nebraska\, Solo 3 @ Lincoln Airpark
ACTION:AUDIO
END:VALARM
END:VEVENT
END:VCALENDAR
