BEGIN:VCALENDAR
PRODID;X-RICAL-TZSOURCE=TZINFO:-//com.denhaven2/NONSGML ri_cal gem//EN
CALSCALE:GREGORIAN
VERSION:2.0
BEGIN:VEVENT
CONTACT:
DTEND;VALUE=DATE:20260518
DTSTART;VALUE=DATE:20260517
GEO:38.042412;-84.544014
UID:2009982
DESCRIPTION:
URL:
SUMMARY:Central Kentucky 2026 Solo Points Event 2 @ LFUCG - Training Pad
LOCATION:LFUCG - Training Pad
BEGIN:VALARM
TRIGGER:-PT15H
DESCRIPTION:Central Kentucky 2026 Solo Points Event 2 @ LFUCG - Training 
 Pad
ACTION:AUDIO
END:VALARM
END:VEVENT
END:VCALENDAR
