BEGIN:VCALENDAR
PRODID;X-RICAL-TZSOURCE=TZINFO:-//com.denhaven2/NONSGML ri_cal gem//EN
CALSCALE:GREGORIAN
VERSION:2.0
BEGIN:VEVENT
CONTACT:
DTEND;VALUE=DATE:20260518
DTSTART;VALUE=DATE:20260516
GEO:46.739365;-111.905525
UID:2009981
DESCRIPTION:
URL:
SUMMARY:SW Montana - EVO School and Autocross @ Rocky Mountain Emergency 
 Services Training Center
LOCATION:Rocky Mountain Emergency Services Training Center
BEGIN:VALARM
TRIGGER:-PT15H
DESCRIPTION:SW Montana - EVO School and Autocross @ Rocky Mountain Emerge
 ncy Services Training Center
ACTION:AUDIO
END:VALARM
END:VEVENT
END:VCALENDAR
