BEGIN:VCALENDAR
PRODID;X-RICAL-TZSOURCE=TZINFO:-//com.denhaven2/NONSGML ri_cal gem//EN
CALSCALE:GREGORIAN
VERSION:2.0
BEGIN:VEVENT
CONTACT:
DTEND;VALUE=DATE:20261005
DTSTART;VALUE=DATE:20261004
GEO:41.983153;-71.8314735
UID:2009973
DESCRIPTION:
URL:
SUMMARY:New England Region/Cart Jack Creel Memorial Time Trial @ Thompson
  Speedway Motorsports Park
LOCATION:Thompson Speedway Motorsports Park
BEGIN:VALARM
TRIGGER:-PT15H
DESCRIPTION:New England Region/Cart Jack Creel Memorial Time Trial @ Thom
 pson Speedway Motorsports Park
ACTION:AUDIO
END:VALARM
END:VEVENT
END:VCALENDAR
