BEGIN:VCALENDAR
PRODID;X-RICAL-TZSOURCE=TZINFO:-//com.denhaven2/NONSGML ri_cal gem//EN
CALSCALE:GREGORIAN
VERSION:2.0
BEGIN:VEVENT
CONTACT:
DTEND;VALUE=DATE:20260601
DTSTART;VALUE=DATE:20260531
GEO:41.720238;-86.320229
UID:2009968
DESCRIPTION:
URL:
SUMMARY:South Bend Region Solo Series Event #2 @ Tire Rack
LOCATION:Tire Rack
BEGIN:VALARM
TRIGGER:-PT15H
DESCRIPTION:South Bend Region Solo Series Event #2 @ Tire Rack
ACTION:AUDIO
END:VALARM
END:VEVENT
END:VCALENDAR
