BEGIN:VCALENDAR
PRODID;X-RICAL-TZSOURCE=TZINFO:-//com.denhaven2/NONSGML ri_cal gem//EN
CALSCALE:GREGORIAN
VERSION:2.0
BEGIN:VEVENT
CONTACT:
DTEND;VALUE=DATE:20260518
DTSTART;VALUE=DATE:20260516
GEO:45.193947;-108.759697
UID:2009961
DESCRIPTION:
URL:
SUMMARY:Yellowstone Autocross Event: Aviators Cup @ Bridger Airport
LOCATION:Bridger Airport
BEGIN:VALARM
TRIGGER:-PT15H
DESCRIPTION:Yellowstone Autocross Event: Aviators Cup @ Bridger Airport
ACTION:AUDIO
END:VALARM
END:VEVENT
END:VCALENDAR
