BEGIN:VCALENDAR
PRODID;X-RICAL-TZSOURCE=TZINFO:-//com.denhaven2/NONSGML ri_cal gem//EN
CALSCALE:GREGORIAN
VERSION:2.0
BEGIN:VEVENT
CONTACT:
DTEND;VALUE=DATE:20260727
DTSTART;VALUE=DATE:20260725
GEO:36.69809;-108.101334
UID:2009907
DESCRIPTION:
URL:
SUMMARY:Rio Grande Solo - Points #7 & #8 @ McGee Park
LOCATION:McGee Park
BEGIN:VALARM
TRIGGER:-PT15H
DESCRIPTION:Rio Grande Solo - Points #7 & #8 @ McGee Park
ACTION:AUDIO
END:VALARM
END:VEVENT
END:VCALENDAR
