BEGIN:VCALENDAR
PRODID;X-RICAL-TZSOURCE=TZINFO:-//com.denhaven2/NONSGML ri_cal gem//EN
CALSCALE:GREGORIAN
VERSION:2.0
BEGIN:VEVENT
CONTACT:
DTEND;VALUE=DATE:20260525
DTSTART;VALUE=DATE:20260523
GEO:36.69809;-108.101334
UID:2009905
DESCRIPTION:
URL:
SUMMARY:Rio Grande Solo - Points #3 & #4 @ McGee Park
LOCATION:McGee Park
BEGIN:VALARM
TRIGGER:-PT15H
DESCRIPTION:Rio Grande Solo - Points #3 & #4 @ McGee Park
ACTION:AUDIO
END:VALARM
END:VEVENT
END:VCALENDAR
