BEGIN:VCALENDAR
PRODID;X-RICAL-TZSOURCE=TZINFO:-//com.denhaven2/NONSGML ri_cal gem//EN
CALSCALE:GREGORIAN
VERSION:2.0
BEGIN:VEVENT
CONTACT:
DTEND;VALUE=DATE:20260824
DTSTART;VALUE=DATE:20260822
GEO:60.455956;-151.099021
UID:2009832
DESCRIPTION:
URL:
SUMMARY:Arctic Alaska SCCA: Lost in Kenai! AutoX 2026 @ Skyview Middle Sc
 hool
LOCATION:Skyview Middle School
BEGIN:VALARM
TRIGGER:-PT15H
DESCRIPTION:Arctic Alaska SCCA: Lost in Kenai! AutoX 2026 @ Skyview Middl
 e School
ACTION:AUDIO
END:VALARM
END:VEVENT
END:VCALENDAR
