BEGIN:VCALENDAR
PRODID;X-RICAL-TZSOURCE=TZINFO:-//com.denhaven2/NONSGML ri_cal gem//EN
CALSCALE:GREGORIAN
VERSION:2.0
BEGIN:VEVENT
CONTACT:
DTEND;VALUE=DATE:20260831
DTSTART;VALUE=DATE:20260829
GEO:47.529251;-114.109299
UID:2009831
DESCRIPTION:
URL:
SUMMARY:Big Sky Solo Points Event #10 and #11 @ Rocky Mountain Twist
LOCATION:Rocky Mountain Twist
BEGIN:VALARM
TRIGGER:-PT15H
DESCRIPTION:Big Sky Solo Points Event #10 and #11 @ Rocky Mountain Twist
ACTION:AUDIO
END:VALARM
END:VEVENT
END:VCALENDAR
