BEGIN:VCALENDAR
PRODID;X-RICAL-TZSOURCE=TZINFO:-//com.denhaven2/NONSGML ri_cal gem//EN
CALSCALE:GREGORIAN
VERSION:2.0
BEGIN:VEVENT
CONTACT:
DTEND;VALUE=DATE:20261012
DTSTART;VALUE=DATE:20261011
GEO:38.842861;-97.611458
UID:2009669
DESCRIPTION:
URL:
SUMMARY:Salina OctoberFAST 37 Solo @ Berkley Family Recreation Area 
LOCATION:Berkley Family Recreation Area
BEGIN:VALARM
TRIGGER:-PT15H
DESCRIPTION:Salina OctoberFAST 37 Solo @ Berkley Family Recreation Area 
ACTION:AUDIO
END:VALARM
END:VEVENT
END:VCALENDAR
