BEGIN:VCALENDAR
PRODID;X-RICAL-TZSOURCE=TZINFO:-//com.denhaven2/NONSGML ri_cal gem//EN
CALSCALE:GREGORIAN
VERSION:2.0
BEGIN:VEVENT
CONTACT:
DTEND;VALUE=DATE:20240311
DTSTART;VALUE=DATE:20240309
GEO:45.5957725;-122.6889775
UID:2004908
DESCRIPTION:
URL:
SUMMARY:Oregon Solo #1 and #2 @ Portland International Raceway
LOCATION:Portland International Raceway
BEGIN:VALARM
TRIGGER:-PT15H
DESCRIPTION:Oregon Solo #1 and #2 @ Portland International Raceway
ACTION:AUDIO
END:VALARM
END:VEVENT
END:VCALENDAR
