BEGIN:VCALENDAR
PRODID;X-RICAL-TZSOURCE=TZINFO:-//com.denhaven2/NONSGML ri_cal gem//EN
CALSCALE:GREGORIAN
VERSION:2.0
BEGIN:VEVENT
CONTACT:
DTEND;VALUE=DATE:20240624
DTSTART;VALUE=DATE:20240623
GEO:21.97272;-159.356
UID:2004811
DESCRIPTION:
URL:
SUMMARY:Hawaii - Kauai Autocross @ Vidinha Stadium
LOCATION:Vidinha Stadium
BEGIN:VALARM
TRIGGER:-PT15H
DESCRIPTION:Hawaii - Kauai Autocross @ Vidinha Stadium
ACTION:AUDIO
END:VALARM
END:VEVENT
END:VCALENDAR
