BEGIN:VCALENDAR
PRODID;X-RICAL-TZSOURCE=TZINFO:-//com.denhaven2/NONSGML ri_cal gem//EN
CALSCALE:GREGORIAN
VERSION:2.0
BEGIN:VEVENT
CONTACT:
DTEND;VALUE=DATE:20221113
DTSTART;VALUE=DATE:20221112
GEO:38.85941196;-81.81976501
UID:2002104
DESCRIPTION:
URL:
SUMMARY:CANCELED -Southern West Virginia RallyCross Event #3 @ Jackson Co
 unty Fairgrounds
LOCATION:Jackson County Fairgrounds
BEGIN:VALARM
TRIGGER:-PT15H
DESCRIPTION:CANCELED -Southern West Virginia RallyCross Event #3 @ Jackso
 n County Fairgrounds
ACTION:AUDIO
END:VALARM
END:VEVENT
END:VCALENDAR
