BEGIN:VCALENDAR
PRODID;X-RICAL-TZSOURCE=TZINFO:-//com.denhaven2/NONSGML ri_cal gem//EN
CALSCALE:GREGORIAN
VERSION:2.0
BEGIN:VEVENT
CONTACT:
DTEND;VALUE=DATE:20210822
DTSTART;VALUE=DATE:20210821
GEO:30.610183;-81.444026
UID:1999231
DESCRIPTION:
URL:https://www.motorsportreg.com/events/scca-buccaneer-jax-solo-fernandi
 na-beach-municipal-airport-autocross-224069
SUMMARY:Buccaneer Region Jax Autocross Event 5 @ Fernandina Beach Municip
 al Airport
LOCATION:Fernandina Beach Municipal Airport
BEGIN:VALARM
TRIGGER:-PT15H
DESCRIPTION:Buccaneer Region Jax Autocross Event 5 @ Fernandina Beach Mun
 icipal Airport
ACTION:AUDIO
END:VALARM
END:VEVENT
END:VCALENDAR
