BEGIN:VCALENDAR
PRODID;X-RICAL-TZSOURCE=TZINFO:-//com.denhaven2/NONSGML ri_cal gem//EN
CALSCALE:GREGORIAN
VERSION:2.0
BEGIN:VEVENT
CONTACT:
DTEND;VALUE=DATE:20190722
DTSTART;VALUE=DATE:20190720
GEO:27.450897;-81.358373
UID:1994791
DESCRIPTION:
URL:www.motorsportreg.com/events/cfr-scca-solo-2019-sebring-points-event-
 6-intl-raceway-central-florida-331640
SUMMARY:Central Florida Region Solo @ Sebring International Raceway
LOCATION:Sebring International Raceway
BEGIN:VALARM
TRIGGER:-PT15H
DESCRIPTION:Central Florida Region Solo @ Sebring International Raceway
ACTION:AUDIO
END:VALARM
END:VEVENT
END:VCALENDAR
