BEGIN:VCALENDAR
PRODID;X-RICAL-TZSOURCE=TZINFO:-//com.denhaven2/NONSGML ri_cal gem//EN
CALSCALE:GREGORIAN
VERSION:2.0
BEGIN:VEVENT
CONTACT:
DTEND;VALUE=DATE:20190826
DTSTART;VALUE=DATE:20190825
GEO:40.88013;-77.737212
UID:1994100
DESCRIPTION:
URL:
SUMMARY:Central Pennsylvania Region Solo @ Centre County Public Safety Ce
 nter
LOCATION:Centre County Public Safety Center
BEGIN:VALARM
TRIGGER:-PT15H
DESCRIPTION:Central Pennsylvania Region Solo @ Centre County Public Safet
 y Center
ACTION:AUDIO
END:VALARM
END:VEVENT
END:VCALENDAR
