BEGIN:VCALENDAR
PRODID;X-RICAL-TZSOURCE=TZINFO:-//com.denhaven2/NONSGML ri_cal gem//EN
CALSCALE:GREGORIAN
VERSION:2.0
BEGIN:VEVENT
CONTACT:
DTEND;VALUE=DATE:20120806
DTSTART;VALUE=DATE:20120805
GEO:41.590818;-93.62149
UID:1979956
DESCRIPTION:
URL:
SUMMARY:Des Moines Valley Regional Solo
LOCATION:Iowa Events Center
BEGIN:VALARM
TRIGGER:-PT15H
DESCRIPTION:Des Moines Valley Regional Solo
ACTION:AUDIO
END:VALARM
END:VEVENT
END:VCALENDAR
