BEGIN:VCALENDAR
PRODID;X-RICAL-TZSOURCE=TZINFO:-//com.denhaven2/NONSGML ri_cal gem//EN
CALSCALE:GREGORIAN
VERSION:2.0
BEGIN:VEVENT
CONTACT:
DTEND;VALUE=DATE:20140428
DTSTART;VALUE=DATE:20140427
GEO:36.271469;-115.00145
UID:1979736
DESCRIPTION:Round 6 Autocross
URL:
SUMMARY:Round 6 Autocross
LOCATION:Las Vegas Motor Speedway
BEGIN:VALARM
TRIGGER:-PT15H
DESCRIPTION:Round 6 Autocross
ACTION:AUDIO
END:VALARM
END:VEVENT
END:VCALENDAR
