BEGIN:VCALENDAR
PRODID;X-RICAL-TZSOURCE=TZINFO:-//com.denhaven2/NONSGML ri_cal gem//EN
CALSCALE:GREGORIAN
VERSION:2.0
BEGIN:VEVENT
CONTACT:
DTEND;VALUE=DATE:20140616
DTSTART;VALUE=DATE:20140615
GEO:21.517088;-157.837692
UID:1979560
DESCRIPTION:
URL:
SUMMARY:Hawaii Dodging Cow-Pies with Dad
LOCATION:Kualoa Ranch
BEGIN:VALARM
TRIGGER:-PT15H
DESCRIPTION:Hawaii Dodging Cow-Pies with Dad
ACTION:AUDIO
END:VALARM
END:VEVENT
END:VCALENDAR
