BEGIN:VCALENDAR
PRODID;X-RICAL-TZSOURCE=TZINFO:-//com.denhaven2/NONSGML ri_cal gem//EN
CALSCALE:GREGORIAN
VERSION:2.0
BEGIN:VEVENT
CONTACT:
DTEND;VALUE=DATE:20140511
DTSTART;VALUE=DATE:20140510
GEO:21.374251;-158.08103
UID:1979548
DESCRIPTION:
URL:
SUMMARY:Hawaii Mayhem before Mother's Day RX
LOCATION:Kalaeloa Raceway Park
BEGIN:VALARM
TRIGGER:-PT15H
DESCRIPTION:Hawaii Mayhem before Mother's Day RX
ACTION:AUDIO
END:VALARM
END:VEVENT
END:VCALENDAR
