BEGIN:VCALENDAR
PRODID;X-RICAL-TZSOURCE=TZINFO:-//com.denhaven2/NONSGML ri_cal gem//EN
CALSCALE:GREGORIAN
VERSION:2.0
BEGIN:VEVENT
CONTACT:
DTEND;VALUE=DATE:20140420
DTSTART;VALUE=DATE:20140419
GEO:32.098451;-110.730798
UID:1978990
DESCRIPTION:
URL:
SUMMARY:Arizona Border RX Event #2 - Tucson\, AZ
LOCATION:flat open desert
BEGIN:VALARM
TRIGGER:-PT15H
DESCRIPTION:Arizona Border RX Event #2 - Tucson\, AZ
ACTION:AUDIO
END:VALARM
END:VEVENT
END:VCALENDAR
