BEGIN:VCALENDAR
PRODID;X-RICAL-TZSOURCE=TZINFO:-//com.denhaven2/NONSGML ri_cal gem//EN
CALSCALE:GREGORIAN
VERSION:2.0
BEGIN:VEVENT
CONTACT:
DTEND;VALUE=DATE:20140317
DTSTART;VALUE=DATE:20140314
GEO:37.265502;-113.791338
UID:1978758
DESCRIPTION:
URL:
SUMMARY:LVRSCCA Autocross
LOCATION:Ridge Top Complex (formerly known as the old airpo
BEGIN:VALARM
TRIGGER:-PT15H
DESCRIPTION:LVRSCCA Autocross
ACTION:AUDIO
END:VALARM
END:VEVENT
END:VCALENDAR
