BEGIN:VCALENDAR
PRODID;X-RICAL-TZSOURCE=TZINFO:-//com.denhaven2/NONSGML ri_cal gem//EN
CALSCALE:GREGORIAN
VERSION:2.0
BEGIN:VEVENT
CONTACT:
DTEND;VALUE=DATE:20140317
DTSTART;VALUE=DATE:20140316
GEO:32.569513;-93.694145
UID:1978530
DESCRIPTION:Event #1
URL:
SUMMARY:Event #1
LOCATION:600 Coleman Ave
BEGIN:VALARM
TRIGGER:-PT15H
DESCRIPTION:Event #1
ACTION:AUDIO
END:VALARM
END:VEVENT
END:VCALENDAR
