BEGIN:VCALENDAR
PRODID;X-RICAL-TZSOURCE=TZINFO:-//com.denhaven2/NONSGML ri_cal gem//EN
CALSCALE:GREGORIAN
VERSION:2.0
BEGIN:VEVENT
CONTACT:
DTEND;VALUE=DATE:20140713
DTSTART;VALUE=DATE:20140712
GEO:45.700131;-111.147527
UID:1978492
DESCRIPTION:
URL:
SUMMARY:Commons Auto-X 2
LOCATION:The Commons
BEGIN:VALARM
TRIGGER:-PT15H
DESCRIPTION:Commons Auto-X 2
ACTION:AUDIO
END:VALARM
END:VEVENT
END:VCALENDAR
