BEGIN:VCALENDAR
PRODID;X-RICAL-TZSOURCE=TZINFO:-//com.denhaven2/NONSGML ri_cal gem//EN
CALSCALE:GREGORIAN
VERSION:2.0
BEGIN:VEVENT
CONTACT:
DTEND;VALUE=DATE:20140505
DTSTART;VALUE=DATE:20140504
GEO:47.067718;-114.246738
UID:1978454
DESCRIPTION:
URL:
SUMMARY:Big Sky Regional Solo 
LOCATION:Frenchtown High School
BEGIN:VALARM
TRIGGER:-PT15H
DESCRIPTION:Big Sky Regional Solo 
ACTION:AUDIO
END:VALARM
END:VEVENT
END:VCALENDAR
