BEGIN:VCALENDAR
PRODID;X-RICAL-TZSOURCE=TZINFO:-//com.denhaven2/NONSGML ri_cal gem//EN
CALSCALE:GREGORIAN
VERSION:2.0
BEGIN:VEVENT
CONTACT:
DTEND;VALUE=DATE:20140728
DTSTART;VALUE=DATE:20140727
GEO:32.569513;-93.694145
UID:1978400
DESCRIPTION:
URL:
SUMMARY:Coleman Ave\, Bossier City\, Event #6
LOCATION:600 Coleman Ave
BEGIN:VALARM
TRIGGER:-PT15H
DESCRIPTION:Coleman Ave\, Bossier City\, Event #6
ACTION:AUDIO
END:VALARM
END:VEVENT
END:VCALENDAR
