BEGIN:VCALENDAR
PRODID;X-RICAL-TZSOURCE=TZINFO:-//com.denhaven2/NONSGML ri_cal gem//EN
CALSCALE:GREGORIAN
VERSION:2.0
BEGIN:VEVENT
CONTACT:
DTEND;VALUE=DATE:20140609
DTSTART;VALUE=DATE:20140608
GEO:42.429256;-92.313378
UID:1977996
DESCRIPTION:
URL:
SUMMARY:Iowa Regional Solo 
LOCATION:Hawkeye Tech Community College
BEGIN:VALARM
TRIGGER:-PT15H
DESCRIPTION:Iowa Regional Solo 
ACTION:AUDIO
END:VALARM
END:VEVENT
END:VCALENDAR
