BEGIN:VCALENDAR
PRODID;X-RICAL-TZSOURCE=TZINFO:-//com.denhaven2/NONSGML ri_cal gem//EN
CALSCALE:GREGORIAN
VERSION:2.0
BEGIN:VEVENT
CONTACT:
DTEND;VALUE=DATE:20140202
DTSTART;VALUE=DATE:20140201
GEO:41.38648;-81.440255
UID:1977972
DESCRIPTION:
URL:
SUMMARY:NEOhio Winter Tour Rally 
LOCATION:DiBella's Subs
BEGIN:VALARM
TRIGGER:-PT15H
DESCRIPTION:NEOhio Winter Tour Rally 
ACTION:AUDIO
END:VALARM
END:VEVENT
END:VCALENDAR
