BEGIN:VCALENDAR
PRODID;X-RICAL-TZSOURCE=TZINFO:-//com.denhaven2/NONSGML ri_cal gem//EN
CALSCALE:GREGORIAN
VERSION:2.0
BEGIN:VEVENT
CONTACT:
DTEND;VALUE=DATE:20140622
DTSTART;VALUE=DATE:20140621
UID:1977890
DESCRIPTION:2014 Autocross School
URL:
SUMMARY:CKRSCCA 2014 Autocross School
LOCATION:
BEGIN:VALARM
TRIGGER:-PT15H
DESCRIPTION:CKRSCCA 2014 Autocross School
ACTION:AUDIO
END:VALARM
END:VEVENT
END:VCALENDAR
