BEGIN:VCALENDAR
PRODID;X-RICAL-TZSOURCE=TZINFO:-//com.denhaven2/NONSGML ri_cal gem//EN
CALSCALE:GREGORIAN
VERSION:2.0
BEGIN:VEVENT
CONTACT:
DTEND;VALUE=DATE:20140217
DTSTART;VALUE=DATE:20140216
GEO:35.586344;-84.43972
UID:1977764
DESCRIPTION:
URL:
SUMMARY:Eastern Tennessee February RX
LOCATION:Flat Field
BEGIN:VALARM
TRIGGER:-PT15H
DESCRIPTION:Eastern Tennessee February RX
ACTION:AUDIO
END:VALARM
END:VEVENT
END:VCALENDAR
